Workbook

Sheet Usmernenie
A1: Usmernenie k priebežnému čerpaniu a vyúčtovaniu finančných prostriedkov poskytnutých v roku 2025
A3: ZÁKLADNÉ POKYNY
A4: 1. Vložiť údaje do hárkov "Príjmy" a "Doklady".
A5: 2. Skontrolovať hárky "Doklady" a "Spolu".
A6: 3. Vyplniť hárok "Avízo - vratka" (len Prijímatelia, ktorí nevyčerpali celú sumu). V prípade vratky menšej ako 5 € (vrátane) za všetky účely spolu prijímateľ nevracia finančné prostriedky.
A7: 4. Po kontrole odoslať elektronickú verziu formuláru na adresu ziadosti.sport@mincrs.sk.
A8: 5. Vytlačiť hárky "Spolu", "Doklady", v prípade nevyčerpaných finančných prostriedkov aj vyplnený hárok "Avízo - vratka".
A9: 6. Dopísať do hárku "Spolu" dátum a čas odoslania elektronickej verzie formuláru vyúčtovania.
A10: 7. Podpísať hárok "Spolu" prípadne hárok "Avízo - vratka" štatutárnym zástupcom/zástupcami.
A11: 8. Odoslať vyúčtovanie - hárok "Doklady", hárok "Spolu" prípadne hárok "Avízo - vratka" v listinnej podobe na adresu: Ministerstvo cestovného ruchu a športu SR, sekcia financovania športu a štátnej športovej politiky, Pribinova 32, 810 08 Bratislava .
A12: Pri vypĺňaní odporúčame použiť hárok „Príklady“, v ktorom je uvedený spôsob uvádzania niektorých druhov výdavkov.
A14: Dôrazne žiadame hárky nezabezpečovať heslom!
... A137: Upozornenie: Vo formulári na vyúčtovanie príspevku uznanému športu sú zapracované ustanovenia zákona o športe, podľa ktorých v roku, v ktorom bola vyhlásená krízová situácia a trvala viac ako 30 dní, sa ustanovenia § 69 ods. 4 zákona o športe nepoužijú a ustanovenia zmluvy o poskytnutí príspevku uznanému športu, ktoré sa týkajú rozdelenia finančných prostriedkov podľa § 69 ods. 4, sa v príslušnom kalendárnom roku nebudú uplatňovať. Zaradenie výdavkov do jednotlivých analytických kódov, aj keď má v takom prípade len informatívny charakter, je však potrebné vyplniť.

Sheet Príklady
A1: Príklady vyplnenia formulára
A2: Priebežné čerpanie finančných prostriedkov poskytnutých zo štátneho rozpočtu v oblasti športu v roku 2025 | H2: =+Doklady!I100 -> V2
H3: =+Doklady!I101 -> 45887
A4: Prijímateľ dotácie: | B4: Slovenský zväz skúšobný
A7: Účel úhrady (vyberte zo zoznamu, inak automatické vyhodnocovanie nebude fungovať) | B7: Interné číslo účtovného dokladu | C7: Číslo externého (originálneho) účtovného dokladu | D7: Dátum skutočnej úhrady účtovného dokladu | E7: Popis úhrady (vyberte z rozbaľovacieho zoznamu, alebo zadajte voľný text) | F7: IČO dodávateľa plnenia | G7: Dodávateľ plnenia | H7: Skutočne uhradená suma (eur) | I7: AK
A8: a - kriket - bežné výdavky | D8: 45779 | E8: Organizovanie podujatia Názov podujatia: Svetový pohár v skúškach Miesto konania: Brezno Termín: 15. - 18.4.2025 Počet zúčastnených osôb (okrem divákov): 20
A9: a - kriket - bežné výdavky | B9: 123/2025 | C9: CP14-110 | D9: 45780 | E9: počet odpracovaných hodín spolu: 100 hrubé mzdy vyplatené osobám v súvislosti s podujatím vrátane odvodov zamestnávateľa spolu (dohody, zmluvy, faktúry, a pod.) v eur | G9: osoba 1 - osoba 20 | H9: 400 | I9: 3
A10: a - kriket - bežné výdavky | B10: 124/2025 | C10: DF 24 | D10: 45781 | E10: náklady na ubytovanie 10 športovcov + 1 tréner | G10: Chata Breznovčan | I10: 3
A11: a - kriket - bežné výdavky | B11: 100/2025 | C11: 3020 | D11: 45782 | E11: grafické práce na výrobe loga podujatia | G11: Anna Malá - PROMOTION, s.r.o. | H11: 100 | I11: 3
A12: a - kriket - bežné výdavky | B12: 121/2025 | C12: 100002352 | D12: 45783 | E12: cestovné - vlak - Bratislava - Brezno, 16 osôb | G12: Ján Rýchly | H12: 50 | I12: 3
A13: a - kriket - bežné výdavky | B13: 125/2024 | C13: DF 26 | D13: 45784 | E13: stravovanie 20 osôb | G13: Reštaurácia "U vodníka", Brezno | H13: 200 | I13: 3
A14: a - kriket - bežné výdavky | B14: 126/2024 | C14: DF 29 | D14: 45785 | E14: prenájom plavárne | G14: STARZ, Bratislava | I14: 3
A15: a - kriket - bežné výdavky | B15: 128/2024 | C15: DF 30 | D15: 45786 | E15: nákup športového oblečenia - 15 ks | G15: Adidas, Brezno | H15: 505 | I15: 3
A16: a - kriket - bežné výdavky | D16: 45787 | E16: Pracovná cesta Názov: Majstrovstvá V4 v skúškach Termín: 3.9.2024 Miesto - mesto a štát: Varšava, Poľsko Spôsob dopravy: letecky/BUS Počet všetkých osôb na pracovnej ceste: 6, z toho: - športovci (+ navádzači): 1 - tréneri + rozhodcovia + vedúci výpravy + lekár + fyzioterapeut + masér + ): 1 - ostatné osoby (napr. sponzori, hostia): 4
A17: a - kriket - bežné výdavky | B17: 270/2024 | C17: 3252514 | D17: 45788 | E17: nákup leteniek - 6 ks | G17: Czech Airlines | I17: 2
A18: a - kriket - bežné výdavky | B18: 274/2024 | C18: D/258/2020 | D18: 45789 | E18: materiálové zabezpečenie pretekov - nákup 4 pušiek | G18: Puškárstvo - Ernest Bezaj, Malinovo | I18: 2
A19: a - kriket - bežné výdavky | B19: 275/2024 | C19: DF 32 | D19: 45790 | E19: občerstvenie - 6 osôb | G19: Messing Catering, s.r.o., Rovinka | H19: 1000 | I19: 2
A20: a - kriket - bežné výdavky | B20: 280/2024 | C20: DF 33 | D20: 45791 | E20: ubytovanie - 2 osoby | G20: Jozef Karát - privát, Šaľa | H20: 300 | I20: 2
A21: a - kriket - bežné výdavky | B21: 190/2024 | C21: DF50 | D21: 45792 | E21: prenájom miestnosti | G21: Double Tree Hotel, Bratislava | H21: 600 | I21: 2
A22: a - kriket - bežné výdavky | B22: 250/2024 | C22: 999 | D22: 45793 | E22: cestovné - Cerová - Trnava a späť, 3.9.2024, 2 osoby | G22: Železničná spoločnosť, a.s., Slovensko | H22: 25.9 | I22: 2
A23: a - kriket - bežné výdavky | B23: 251/2024 | C23: 258963 | D23: 45794 | E23: vecné ceny - poháre 3 ks | G23: Victory sport, s.r.o. | I23: 2
A24: a - kriket - bežné výdavky | D24: 45795 | E24: Ostatné
A25: a - kriket - bežné výdavky | B25: 256 | C25: 20 | D25: 45700 | E25: zdravotné služby - Veľká cena Slovenska, Žilina, 1.1.2025 - 2.1.2025 | G25: DZS OPTIMUS, s.r.o. | H25: 200 | I25: 5
A26: a - kriket - bežné výdavky | B26: P1/V/316 | C26: P1/V/316 | D26: 45796 | E26: Hrubé mzdy vyplatené osobám (zamestnancom) vrátane odvodov zamestnávateľa za rok 2024 počet fyzických osôb: 5 | G26: osoba 1, osoba 4 - 7 | I26: 4
A27: a - kriket - bežné výdavky | B27: J/2024-20 | C27: 258 | D27: 45797 | E27: doplnky výživy - 21 športovcov | G27: Lekáreň Kozia, Bratislava | H27: 124 | I27: 2
A28: a - kriket - bežné výdavky | B28: DF2024/326 | C28: 1213275 | D28: 45798 | E28: oprava športtesteru | G28: TOP TREND Patrik Valo | H28: 19.1 | I28: 2
A29: a - kriket - bežné výdavky | B29: DF2024/193 | C29: 2007006035 | D29: 45799 | E29: havarijné poistenie 1-3/2021, EČV BA 258 KK | G29: Uniqa poisťovňa, a.s. | H29: 277.74 | I29: 4
A30: a - kriket - bežné výdavky | B30: 45627 | C30: 258 | D30: 45800 | E30: diaľničná nálepka na rok 2024 | G30: OMV, s.r.o. | H30: 50 | I30: 4
A31: a - kriket - bežné výdavky | B31: 199/2024 | C31: 32 | D31: 45801 | E31: poštovné | G31: Slovenská pošta, a.s. | H31: 9 | I31: 4
A32: a - kriket - bežné výdavky | B32: 45413 | C32: 3 | D32: 45802 | E32: nájom kancelárskych priestorov 2/2024 | G32: Slovenské združenie telesnej kultúry | H32: 10 | I32: 4
A33: a - kriket - bežné výdavky | B33: P1/V/259 | C33: 20123698752 | D33: 45803 | E33: regenerácia, 8 športovcov, 8/2024 | G33: SPORTMEDICAL s.r.o., Bratislava | H33: 500 | I33: 1
A34: a - kriket - bežné výdavky | B34: 235/2024 | C34: 40010 | D34: 45804 | E34: nákup materiálu - reprezentačná vlajka 1 ks | G34: ADAT, s.r.o. | H34: 71.2 | I34: 3
A35: a - kriket - bežné výdavky | B35: 206/2024 | C35: DF100/9/2020 | D35: 45805 | E35: refundácia nákladov na základe zmluvy pre CTM Žilina: Okresné kolo v skúškach, 7.8.2024, Žilina, 43 osôb, z toho: 37 športovcov, 1 tréner, 1 strážna služba, 1 masér, 3 technickí pracovníci, úhrada nákladov za stravovanie | G35: Prestige catering, s.r.o. | H35: 250 | I35: 1
A36: a - kriket - bežné výdavky | B36: 207/2024 | C36: DF500 | D36: 45806 | E36: prenájom plavárne, 4 dráhy, 8 hodín | G36: Mesto Žilina | H36: 320 | I36: 5
A37: a - kriket - bežné výdavky | B37: 305/2024 | C37: 14 | D37: 45807 | E37: upratovacie služby 5/2024 | G37: Boris Dubaj - živnostník | H37: 40 | I37: 4
A38: a - kriket - bežné výdavky | B38: 45292 | C38: V-2020-3 | D38: 45808 | E38: bankové poplatky | G38: SLSP, a.s. | H38: 25 | I38: 4
A39: a - kriket - bežné výdavky | B39: 45352 | C39: 980 | D39: 45809 | E39: poplatok medzinárodnej federácii za rok 2024 | G39: Internationale Asociation ..... | H39: 150 | I39: 4
A40: a - kriket - bežné výdavky | B40: 45383 | C40: 5 | D40: 45810 | E40: členský poplatok za rok 2024 | G40: Konfederácia športových zväzov | H40: 100 | I40: 4
A41: a - kriket - bežné výdavky | B41: 301/2024 | C41: 78954787 | D41: 45811 | E41: prenájom optického kábla 3/2024 | G41: e-Net, s.r.o. | H41: 74.1 | I41: 4
A42: a - kriket - bežné výdavky | B42: 330/2024 | C42: FD52 | D42: 45812 | E42: poplatky za telefón, 7/2024 | G42: Slovak telekom, a.s. | H42: 120 | I42: 2
...

Sheet Príjmy
A1: Aktualizovaná suma prostriedkov poskytnutých ministerstvom k dátumu | C1: 45688 | G1: 45688
G2: 45716
A3: Prijímateľ | B3: =INDEX(Adr!B:B,Doklady!B102+1) -> SLOVENSKÝ STRELECKÝ ZVÄZ | G3: 45747
A4: IČO: | B4: =RIGHT("0000"&INDEX(Adr!A:A,Doklady!B102+1),8) -> 00603341 | G4: 45777
A5: Sídlo: | B5: =INDEX(Adr!D:D,Doklady!B102+1)&", "&INDEX(Adr!E:E,Doklady!B102+1) -> Wolkrova 4, Bratislava | G5: 45808
G6: 45838
G7: 45869
G8: 45900
A9: PPG | B9: PPG | C9: Poskytnuté prostriedky | G9: 45930
A10: 026 01 | B10: Šport pre všetkých, školský a univerzitný šport | C10: =+Spolu!C10 -> 0 | G10: 45961
A11: 026 02 | B11: Uznané športy | C11: =+Spolu!C11 -> 474850.37 | G11: 45991
A12: 026 03 | B12: Národné športové projekty | C12: 0 | G12: 46022
A13: 026 04 | B13: Športová infraštruktúra | C13: =+Spolu!C13 -> 0
A14: 026 05 | B14: Prierezové činnosti v športe | C14: =+Spolu!C14 -> 0
A15: SPOLU | C15: =SUM(C10:C14) -> 474850.37
A17: Prijímateľ prostriedkov zo štátneho rozpočtu je povinný priebežne zverejňovať informácie o prijatí a spôsobe ich použitia najneskôr do 25. dňa kalendárneho mesiaca nasledujúceho po kalendárnom mesiaci, v ktorom boli prijaté alebo použité ( § 65, ods. 6 zákona č. 440/2015 Z. z. o športe a o zmene a doplnení niektorých zákonov v znení neskorších predpisov).
A61: 15

Sheet Spolu
A1: Priebežné čerpanie a vyúčtovanie finančných prostriedkov poskytnutých zo štátneho rozpočtu v oblasti športu v roku 2025 poskytnutých do 30.06.2025 (príspevok uznanému športu 1. a 2. splátka)
B3: Prijímateľ dotácie: | C3: =INDEX(Adr!B2:B87,Doklady!B102) -> SLOVENSKÝ STRELECKÝ ZVÄZ | I3: =Doklady!I100 -> V2
B4: IČO: | C4: 465 | I4: =Doklady!I101 -> 45887
B5: Právna forma: | C5: =INDEX(Adr!C2:C89,Doklady!B102) -> občianske združenie
B6: Sídlo: | C6: =INDEX(Adr!D2:D89,Doklady!B102)&", "&INDEX(Adr!E2:E89,Doklady!B102)&", "&INDEX(Adr!F2:F89,Doklady!B102) -> Wolkrova 4, Bratislava, 851 01
A9: PPG | B9: Podprogram | C9: Poskytnuté (eur) | D9: Vyúčtované (eur) | E9: Povinnosť vrátiť (eur)
A10: 026 01 | B10: Šport pre všetkých, školský a univerzitný šport | C10: =SUMIF(FP!J:J,Doklady!$B$1&A10,FP!D:D) -> 0 | D10: =C10-E10 -> 0 | E10: =SUMIF(K:K,A10,I:I) -> 0 | L10: AAA
A11: 026 02 | B11: Uznané športy | C11: =SUMIF(FP!J:J,Doklady!$B$1&A11,FP!D:D) -> 474850.37 | D11: =+C11-E11 -> 474850.37 | E11: =+I39-I42+I44-I47 -> 0 | L11: =L41 -> a - streľba - bežné transfery
A12: 026 03 | B12: Národné športové projekty | C12: =SUMIF(FP!J:J,Doklady!$B$1&A12,FP!D:D) -> 0 | D12: =C12-E12 -> 0 | E12: =SUMIF(K:K,A12,I:I) -> 0 | L12: =L42 -> a - streľba - kapitálové transfery
A13: 026 04 | B13: Športová infraštruktúra | C13: =SUMIF(FP!J:J,Doklady!$B$1&A13,FP!D:D) -> 0 | D13: =C13-E13 -> 0 | E13: =SUMIF(K:K,A13,I:I) -> 0 | L13: =L46 -> 2
A14: 026 05 | B14: Prierezové činnosti v športe | C14: =SUMIF(FP!J:J,Doklady!$B$1&A14,FP!D:D) -> 0 | D14: =C14-E14 -> 0 | E14: =SUMIF(K:K,A14,I:I) -> 0 | L14: =L47 -> 2
A16: Účel | B16: Názov | I16: Suma
A17: a | B17: príspevok uznaným športom | I17: =SUMIF(FP!I:I,Doklady!$B$1&A17,FP!D:D) -> 474850.37
A18: b | B18: príspevok Slovenskému olympijskému a športovému výboru | I18: =SUMIF(FP!I:I,Doklady!$B$1&A18,FP!D:D) -> 0
A19: c | B19: príspevok Slovenskému paralympijskému výboru | I19: =SUMIF(FP!I:I,Doklady!$B$1&A19,FP!D:D) -> 0
A20: d | B20: príspevok športovcom top tímu | I20: =SUMIF(FP!I:I,Doklady!$B$1&A20,FP!D:D) -> 0
A21: e | B21: organizácia významnej súťaže alebo účasť na významnej súťaži podľa § 3 písm. h) vrátane prípravy na túto súťaž | I21: =SUMIF(FP!I:I,Doklady!$B$1&A21,FP!D:D) -> 0
A22: f | B22: plnenie úloh verejného záujmu v športe | I22: =SUMIF(FP!I:I,Doklady!$B$1&A22,FP!D:D) -> 0
A23: g | B23: rozvoj športov, ktoré nie sú uznanými podľa zákona č. 440/2015 Z. z. | I23: =SUMIF(FP!I:I,Doklady!$B$1&A23,FP!D:D) -> 0
A24: h | B24: podpora a rozvoj turistických a cykloturistických trás | I24: =SUMIF(FP!I:I,Doklady!$B$1&A24,FP!D:D) -> 0
A25: i | B25: finančné odmeny športovcom a trénerom mládeže za dosiahnuté výsledky | I25: =SUMIF(FP!I:I,Doklady!$B$1&A25,FP!D:D) -> 0
A26: j | B26: projekty školského športu, univerzitného športu a športu pre všetkých | I26: =SUMIF(FP!I:I,Doklady!$B$1&A26,FP!D:D) -> 0
A27: k | B27: výstavba, modernizácia a rekonštrukcia športovej infraštruktúry národného významu | I27: =SUMIF(FP!I:I,Doklady!$B$1&A27,FP!D:D) -> 0
A28: l | B28: podpora zdravotne postihnutých športovcov | I28: =SUMIF(FP!I:I,Doklady!$B$1&A28,FP!D:D) -> 0
A29: m | B29: organizácia tradičných športových podujatí | I29: =SUMIF(FP!I:I,Doklady!$B$1&A29,FP!D:D) -> 0
A30: n | I30: =SUMIF(FP!I:I,Doklady!$B$1&A30,FP!D:D) -> 0
A31: o | I31: =SUMIF(FP!I:I,Doklady!$B$1&A31,FP!D:D) -> 0
A32: p | I32: =SUMIF(FP!I:I,Doklady!$B$1&A32,FP!D:D) -> 0
A33: q | I33: =SUMIF(FP!I:I,Doklady!$B$1&A33,FP!D:D) -> 0
A34: r | I34: =SUMIF(FP!I:I,Doklady!$B$1&A34,FP!D:D) -> 0
A36: Použitie príspevku uznanému športu | C36: 1 | D36: 2 | E36: 3 | F36: 4 | G36: 5 | H36: 5
A38: Účel | B38: ="Šport "&K40 -> Šport streľba | C38: mládež 23 MIN.15% | D38: talenty MIN.20% | E38: reprezentácia MIN.25% | F38: prevádzka MAX.20% | G38: ostatné úlohy | H38: kapitálové transfery z PUŠ | I38: SPOLU | L38: =COUNTIF(FP!N:N,Doklady!B1&"aB") -> 1
A39: a | B39: Poskytnutý príspevok uznanému športu | C39: =I39*0 -> 0 | D39: =I39*0 -> 0 | E39: =I39*0 -> 0 | F39: =+I39*0.2 -> 94970.074 | G39: =+MAX(I39-C39-D39-E39-F39-H39,0) -> 370245.93 | H39: =+IFERROR(VLOOKUP(K40&" - kapitálové transfery",B$53:C$90,2,0),0) -> 9634.37 | I39: =SUMIF(FP!K:K,K40,FP!D:D) -> 474850.37 | L39: =COUNTIF(FP!N:N,Doklady!B1&"aK") -> 1
A40: a | B40: Vyúčtovaný príspevok uznanému športu | C40: =DSUM(Doklady!A103:J10000,"GGG",Spolu!L40:M42) -> 26714.2 | D40: =DSUM(Doklady!A103:J10000,"GGG",Spolu!N40:O42) -> 85604.62 | E40: =DSUM(Doklady!A103:J10000,"GGG",Spolu!P40:Q42) -> 83402.134 | F40: =DSUM(Doklady!A103:J10000,"GGG",Spolu!R40:S42) -> 94970.07 | G40: =DSUM(Doklady!A103:J10000,"GGG",Spolu!T40:U42)-H40 -> 174524.98 | H40: =+IFERROR(VLOOKUP(K40&" - kapitálové transfery",B$53:D$90,3,0),0) -> 9634.37 | I40: =+C40+D40+E40+F40+G40+H40 -> 474850.37 | J40: =+K45 -> . | K40: =IF(L38>0,INDEX(FP!K:K,Doklady!B2),".") -> streľba | L40: AAA | M40: HHH | N40: AAA | O40: HHH | P40: AAA | Q40: HHH | R40: AAA | S40: HHH | T40: AAA | U40: HHH
A41: a | B41: ROZDIEL | C41: =MAX(C39-C40,0) -> 0 | D41: =MAX(D39-D40,0) -> 0 | E41: =MAX(E39-E40,0) -> 0 | F41: =MIN(I39,MAX(-F39+F40,0)) -> 0 | G41: =MIN(J39,MAX(-G39+G40+MIN(F40-F39,0),0)) -> 0 | H41: =MAX(H39-H40,0) -> 0 | I41: =+I39-I42 -> 0 | J41: =+K46 -> 0 | K41: =+I41-H41 -> 0 | L41: =IF(L38>0,"a - "&INDEX(FP!C:C,Doklady!B2),2) -> a - streľba - bežné transfery | M41: 1 | N41: =+L41 -> a - streľba - bežné transfery | O41: 2 | P41: =+L41 -> a - streľba - bežné transfery | Q41: 3 | R41: =+L41 -> a - streľba - bežné transfery | S41: 4 | T41: =+L41 -> a - streľba - bežné transfery | U41: 5
A42: a | B42: Uznaná suma vyúčtovaných FP | C42: =+C40 -> 26714.2 | D42: =+D40 -> 85604.62 | E42: =+E40 -> 83402.134 | F42: =+MIN(F39:F40) -> 94970.07 | G42: =+MIN(G39+MAX(F39-F40,0)-MAX(E40-E39,0)-MAX(D40-D39,0)-MAX(C40-C39,0),G40) -> 174524.98 | H42: =+MIN(H39:H40) -> 9634.37 | I42: =+C42+D42+E42+MIN(F39:F40)+G42+H42 -> 474850.37 | J42: =+K47 -> 0 | K42: =+I42-H42 -> 465216 | L42: =+SUBSTITUTE(L41,"bežné","kapitálové") -> a - streľba - kapitálové transfery | M42: 1 | N42: =+L42 -> a - streľba - kapitálové transfery | O42: 2 | P42: =+L42 -> a - streľba - kapitálové transfery | Q42: 3 | R42: =+L42 -> a - streľba - kapitálové transfery | S42: 4 | T42: =+L42 -> a - streľba - kapitálové transfery | U42: 5
A43: Účel | B43: =IF(L38>2,"Šport "&INDEX(FP!K:K,Doklady!B2+2),"Šport "&K45) -> Šport . | C43: mládež 23 MIN.15% | D43: talenty MIN.20% | E43: reprezentácia MIN.25% | F43: prevádzka MAX.20% | G43: ostatné úlohy | H43: kapitálové transfery z PUŠ | I43: SPOLU | L43: =L38-1 -> 0
A44: a | B44: Poskytnutý príspevok uznanému športu | C44: =I44*0 -> 0 | D44: =I44*0 -> 0 | E44: =I44*0 -> 0 | F44: =+I44*0.2 -> 0 | G44: =+MAX(I44-C44-D44-E44-F44-H44,0) -> 0 | H44: =+IFERROR(VLOOKUP(K45&" - kapitálové transfery",B$53:C$90,2,0),0) -> 0 | I44: =SUMIF(FP!K:K,K45,FP!D:D) -> 0
A45: a | B45: Vyúčtovaný príspevok uznanému športu | C45: =DSUM(Doklady!A103:J10000,"GGG",Spolu!L45:M47) -> 0 | D45: =DSUM(Doklady!A103:J10000,"GGG",Spolu!N45:O47) -> 0 | E45: =DSUM(Doklady!A103:J10000,"GGG",Spolu!P45:Q47) -> 0 | F45: =DSUM(Doklady!A103:J10000,"GGG",Spolu!R45:S47) -> 0 | G45: =DSUM(Doklady!A103:J10000,"GGG",Spolu!T45:U47)-H45 -> 0 | H45: =+IFERROR(VLOOKUP(K45&" - kapitálové transfery",B$53:D$90,3,0),0) -> 0 | I45: =+C45+D45+E45+F45+G45+H45 -> 0 | K45: =IF(L38>1,INDEX(FP!K:K,Doklady!B2+1),".") -> . | L45: AAA | M45: HHH | N45: AAA | O45: HHH | P45: AAA | Q45: HHH | R45: AAA | S45: HHH | T45: AAA | U45: HHH
A46: a | B46: ROZDIEL | C46: =MAX(C44-C45,0) -> 0 | D46: =MAX(D44-D45,0) -> 0 | E46: =MAX(E44-E45,0) -> 0 | F46: =MIN(I44,MAX(-F44+F45,0)) -> 0 | G46: =MIN(J44,MAX(-G44+G45+MIN(F45-F44,0),0)) -> 0 | H46: =MAX(H44-H45,0) -> 0 | I46: =+I44-I47 -> 0 | K46: =+I46-H46 -> 0 | L46: =IF(L43>0,"a - "&INDEX(FP!C:C,Doklady!B2+1),2) -> 2 | M46: 1 | N46: =+L46 -> 2 | O46: 2 | P46: =+L46 -> 2 | Q46: 3 | R46: =+L46 -> 2 | S46: 4 | T46: =+L46 -> 2 | U46: 5
...

Sheet Doklady
A1: =IF(ROW()<=B$3,INDEX(FP!F:F,B$2+ROW()-1)&" - "&INDEX(FP!C:C,B$2+ROW()-1),"") -> a - streľba - bežné transfery | B1: =INDEX(Adr!A:A,B102+1) -> 00603341 | C1: =IF(ROW()<=B$3,INDEX(FP!E:E,B$2+ROW()-1),"") -> 0 | D1: =IF(ROW()<=B$3,INDEX(FP!F:F,B$2+ROW()-1),"") -> a | F1: =IF(ROW()<=B$3,INDEX(FP!G:G,B$2+ROW()-1),"") -> 026 02 | H1: =IF(ROW()<=B$3,INDEX(FP!C:C,B$2+ROW()-1),"") -> streľba - bežné transfery | I1: =IF(ROW()<=B$3,SUMIF(A$107:A$10042,A1,I$107:I$10042),"") -> 465216 | J1: =IF(ROW()<=B$3,SUMIFS(I$103:I$50042,A$103:A$50042,K1,J$103:J$50042,L1),"") -> 0 | K1: =$A1 -> a - streľba - bežné transfery | L1: 99
A2: =IF(ROW()<=B$3,INDEX(FP!F:F,B$2+ROW()-1)&" - "&INDEX(FP!C:C,B$2+ROW()-1),"") -> a - streľba - kapitálové transfery | B2: =MATCH(B1,FP!A:A,0) -> 52 | C2: =IF(ROW()<=B$3,INDEX(FP!E:E,B$2+ROW()-1),"") -> 0 | D2: =IF(ROW()<=B$3,INDEX(FP!F:F,B$2+ROW()-1),"") -> a | F2: =IF(ROW()<=B$3,INDEX(FP!G:G,B$2+ROW()-1),"") -> 026 02 | H2: =IF(ROW()<=B$3,INDEX(FP!C:C,B$2+ROW()-1),"") -> streľba - kapitálové transfery | I2: =IF(ROW()<=B$3,SUMIF(A$107:A$10042,A2,I$107:I$10042),"") -> 9634.37 | J2: =IF(ROW()<=B$3,SUMIFS(I$103:I$50042,A$103:A$50042,K2,J$103:J$50042,L2),"") -> 0 | K2: =$A2 -> a - streľba - kapitálové transfery | L2: 99 | M2: AAA | N2: HHH
A3: =IF(ROW()<=B$3,INDEX(FP!F:F,B$2+ROW()-1)&" - "&INDEX(FP!C:C,B$2+ROW()-1),"") | B3: =COUNTIF(FP!A:A,Doklady!B1) -> 2 | C3: =IF(ROW()<=B$3,INDEX(FP!E:E,B$2+ROW()-1),"") | D3: =IF(ROW()<=B$3,INDEX(FP!F:F,B$2+ROW()-1),"") | F3: =IF(ROW()<=B$3,INDEX(FP!G:G,B$2+ROW()-1),"") | H3: =IF(ROW()<=B$3,INDEX(FP!C:C,B$2+ROW()-1),"") | I3: =IF(ROW()<=B$3,SUMIF(A$107:A$10042,A3,I$107:I$10042),"") | J3: =IF(ROW()<=B$3,SUMIFS(I$103:I$50042,A$103:A$50042,K3,J$103:J$50042,L3),"") | K3: =$A3 | L3: 99 | M3: =$A2 -> a - streľba - kapitálové transfery | N3: 99
A4: =IF(ROW()<=B$3,INDEX(FP!F:F,B$2+ROW()-1)&" - "&INDEX(FP!C:C,B$2+ROW()-1),"") | C4: =IF(ROW()<=B$3,INDEX(FP!E:E,B$2+ROW()-1),"") | D4: =IF(ROW()<=B$3,INDEX(FP!F:F,B$2+ROW()-1),"") | F4: =IF(ROW()<=B$3,INDEX(FP!G:G,B$2+ROW()-1),"") | H4: =IF(ROW()<=B$3,INDEX(FP!C:C,B$2+ROW()-1),"") | I4: =IF(ROW()<=B$3,SUMIF(A$107:A$10042,A4,I$107:I$10042),"") | J4: =IF(ROW()<=B$3,SUMIFS(I$103:I$50042,A$103:A$50042,K4,J$103:J$50042,L4),"") | K4: =$A4 | L4: 99 | M4: AAA | N4: HHH
A5: =IF(ROW()<=B$3,INDEX(FP!F:F,B$2+ROW()-1)&" - "&INDEX(FP!C:C,B$2+ROW()-1),"") | C5: =IF(ROW()<=B$3,INDEX(FP!E:E,B$2+ROW()-1),"") | D5: =IF(ROW()<=B$3,INDEX(FP!F:F,B$2+ROW()-1),"") | F5: =IF(ROW()<=B$3,INDEX(FP!G:G,B$2+ROW()-1),"") | H5: =IF(ROW()<=B$3,INDEX(FP!C:C,B$2+ROW()-1),"") | I5: =IF(ROW()<=B$3,SUMIF(A$107:A$10042,A5,I$107:I$10042),"") | J5: =IF(ROW()<=B$3,SUMIFS(I$103:I$50042,A$103:A$50042,K5,J$103:J$50042,L5),"") | K5: =$A5 | L5: 99 | M5: =$A4 | N5: 99
A6: =IF(ROW()<=B$3,INDEX(FP!F:F,B$2+ROW()-1)&" - "&INDEX(FP!C:C,B$2+ROW()-1),"") | C6: =IF(ROW()<=B$3,INDEX(FP!E:E,B$2+ROW()-1),"") | D6: =IF(ROW()<=B$3,INDEX(FP!F:F,B$2+ROW()-1),"") | F6: =IF(ROW()<=B$3,INDEX(FP!G:G,B$2+ROW()-1),"") | H6: =IF(ROW()<=B$3,INDEX(FP!C:C,B$2+ROW()-1),"") | I6: =IF(ROW()<=B$3,SUMIF(A$107:A$10042,A6,I$107:I$10042),"") | J6: =IF(ROW()<=B$3,SUMIFS(I$103:I$50042,A$103:A$50042,K6,J$103:J$50042,L6),"") | K6: =$A6 | L6: 99 | M6: AAA | N6: HHH
A7: =IF(ROW()<=B$3,INDEX(FP!F:F,B$2+ROW()-1)&" - "&INDEX(FP!C:C,B$2+ROW()-1),"") | C7: =IF(ROW()<=B$3,INDEX(FP!E:E,B$2+ROW()-1),"") | D7: =IF(ROW()<=B$3,INDEX(FP!F:F,B$2+ROW()-1),"") | F7: =IF(ROW()<=B$3,INDEX(FP!G:G,B$2+ROW()-1),"") | H7: =IF(ROW()<=B$3,INDEX(FP!C:C,B$2+ROW()-1),"") | I7: =IF(ROW()<=B$3,SUMIF(A$107:A$10042,A7,I$107:I$10042),"") | J7: =IF(ROW()<=B$3,SUMIFS(I$103:I$50042,A$103:A$50042,K7,J$103:J$50042,L7),"") | K7: =$A7 | L7: 99 | M7: =$A6 | N7: 99
A8: =IF(ROW()<=B$3,INDEX(FP!F:F,B$2+ROW()-1)&" - "&INDEX(FP!C:C,B$2+ROW()-1),"") | C8: =IF(ROW()<=B$3,INDEX(FP!E:E,B$2+ROW()-1),"") | D8: =IF(ROW()<=B$3,INDEX(FP!F:F,B$2+ROW()-1),"") | F8: =IF(ROW()<=B$3,INDEX(FP!G:G,B$2+ROW()-1),"") | H8: =IF(ROW()<=B$3,INDEX(FP!C:C,B$2+ROW()-1),"") | I8: =IF(ROW()<=B$3,SUMIF(A$107:A$10042,A8,I$107:I$10042),"") | J8: =IF(ROW()<=B$3,SUMIFS(I$103:I$50042,A$103:A$50042,K8,J$103:J$50042,L8),"") | K8: =$A8 | L8: 99 | M8: AAA | N8: HHH
A9: =IF(ROW()<=B$3,INDEX(FP!F:F,B$2+ROW()-1)&" - "&INDEX(FP!C:C,B$2+ROW()-1),"") | C9: =IF(ROW()<=B$3,INDEX(FP!E:E,B$2+ROW()-1),"") | D9: =IF(ROW()<=B$3,INDEX(FP!F:F,B$2+ROW()-1),"") | F9: =IF(ROW()<=B$3,INDEX(FP!G:G,B$2+ROW()-1),"") | H9: =IF(ROW()<=B$3,INDEX(FP!C:C,B$2+ROW()-1),"") | I9: =IF(ROW()<=B$3,SUMIF(A$107:A$10042,A9,I$107:I$10042),"") | J9: =IF(ROW()<=B$3,SUMIFS(I$103:I$50042,A$103:A$50042,K9,J$103:J$50042,L9),"") | K9: =$A9 | L9: 99 | M9: =$A8 | N9: 99
A10: =IF(ROW()<=B$3,INDEX(FP!F:F,B$2+ROW()-1)&" - "&INDEX(FP!C:C,B$2+ROW()-1),"") | C10: =IF(ROW()<=B$3,INDEX(FP!E:E,B$2+ROW()-1),"") | D10: =IF(ROW()<=B$3,INDEX(FP!F:F,B$2+ROW()-1),"") | F10: =IF(ROW()<=B$3,INDEX(FP!G:G,B$2+ROW()-1),"") | H10: =IF(ROW()<=B$3,INDEX(FP!C:C,B$2+ROW()-1),"") | I10: =IF(ROW()<=B$3,SUMIF(A$107:A$10042,A10,I$107:I$10042),"") | J10: =IF(ROW()<=B$3,SUMIFS(I$103:I$50042,A$103:A$50042,K10,J$103:J$50042,L10),"") | K10: =$A10 | L10: 99 | M10: AAA | N10: HHH
A11: =IF(ROW()<=B$3,INDEX(FP!F:F,B$2+ROW()-1)&" - "&INDEX(FP!C:C,B$2+ROW()-1),"") | C11: =IF(ROW()<=B$3,INDEX(FP!E:E,B$2+ROW()-1),"") | D11: =IF(ROW()<=B$3,INDEX(FP!F:F,B$2+ROW()-1),"") | F11: =IF(ROW()<=B$3,INDEX(FP!G:G,B$2+ROW()-1),"") | H11: =IF(ROW()<=B$3,INDEX(FP!C:C,B$2+ROW()-1),"") | I11: =IF(ROW()<=B$3,SUMIF(A$107:A$10042,A11,I$107:I$10042),"") | J11: =IF(ROW()<=B$3,SUMIFS(I$103:I$50042,A$103:A$50042,K11,J$103:J$50042,L11),"") | K11: =$A11 | L11: 99 | M11: =$A10 | N11: 99
A12: =IF(ROW()<=B$3,INDEX(FP!F:F,B$2+ROW()-1)&" - "&INDEX(FP!C:C,B$2+ROW()-1),"") | C12: =IF(ROW()<=B$3,INDEX(FP!E:E,B$2+ROW()-1),"") | D12: =IF(ROW()<=B$3,INDEX(FP!F:F,B$2+ROW()-1),"") | F12: =IF(ROW()<=B$3,INDEX(FP!G:G,B$2+ROW()-1),"") | H12: =IF(ROW()<=B$3,INDEX(FP!C:C,B$2+ROW()-1),"") | I12: =IF(ROW()<=B$3,SUMIF(A$107:A$10042,A12,I$107:I$10042),"") | J12: =IF(ROW()<=B$3,SUMIFS(I$103:I$50042,A$103:A$50042,K12,J$103:J$50042,L12),"") | K12: =$A12 | L12: 99 | M12: AAA | N12: HHH
A13: =IF(ROW()<=B$3,INDEX(FP!F:F,B$2+ROW()-1)&" - "&INDEX(FP!C:C,B$2+ROW()-1),"") | C13: =IF(ROW()<=B$3,INDEX(FP!E:E,B$2+ROW()-1),"") | D13: =IF(ROW()<=B$3,INDEX(FP!F:F,B$2+ROW()-1),"") | F13: =IF(ROW()<=B$3,INDEX(FP!G:G,B$2+ROW()-1),"") | H13: =IF(ROW()<=B$3,INDEX(FP!C:C,B$2+ROW()-1),"") | I13: =IF(ROW()<=B$3,SUMIF(A$107:A$10042,A13,I$107:I$10042),"") | J13: =IF(ROW()<=B$3,SUMIFS(I$103:I$50042,A$103:A$50042,K13,J$103:J$50042,L13),"") | K13: =$A13 | L13: 99 | M13: =$A12 | N13: 99
A14: =IF(ROW()<=B$3,INDEX(FP!F:F,B$2+ROW()-1)&" - "&INDEX(FP!C:C,B$2+ROW()-1),"") | C14: =IF(ROW()<=B$3,INDEX(FP!E:E,B$2+ROW()-1),"") | D14: =IF(ROW()<=B$3,INDEX(FP!F:F,B$2+ROW()-1),"") | F14: =IF(ROW()<=B$3,INDEX(FP!G:G,B$2+ROW()-1),"") | H14: =IF(ROW()<=B$3,INDEX(FP!C:C,B$2+ROW()-1),"") | I14: =IF(ROW()<=B$3,SUMIF(A$107:A$10042,A14,I$107:I$10042),"") | J14: =IF(ROW()<=B$3,SUMIFS(I$103:I$50042,A$103:A$50042,K14,J$103:J$50042,L14),"") | K14: =$A14 | L14: 99 | M14: AAA | N14: HHH
A15: =IF(ROW()<=B$3,INDEX(FP!F:F,B$2+ROW()-1)&" - "&INDEX(FP!C:C,B$2+ROW()-1),"") | C15: =IF(ROW()<=B$3,INDEX(FP!E:E,B$2+ROW()-1),"") | D15: =IF(ROW()<=B$3,INDEX(FP!F:F,B$2+ROW()-1),"") | F15: =IF(ROW()<=B$3,INDEX(FP!G:G,B$2+ROW()-1),"") | H15: =IF(ROW()<=B$3,INDEX(FP!C:C,B$2+ROW()-1),"") | I15: =IF(ROW()<=B$3,SUMIF(A$107:A$10042,A15,I$107:I$10042),"") | J15: =IF(ROW()<=B$3,SUMIFS(I$103:I$50042,A$103:A$50042,K15,J$103:J$50042,L15),"") | K15: =$A15 | L15: 99 | M15: =$A14 | N15: 99
A16: =IF(ROW()<=B$3,INDEX(FP!F:F,B$2+ROW()-1)&" - "&INDEX(FP!C:C,B$2+ROW()-1),"") | C16: =IF(ROW()<=B$3,INDEX(FP!E:E,B$2+ROW()-1),"") | D16: =IF(ROW()<=B$3,INDEX(FP!F:F,B$2+ROW()-1),"") | F16: =IF(ROW()<=B$3,INDEX(FP!G:G,B$2+ROW()-1),"") | H16: =IF(ROW()<=B$3,INDEX(FP!C:C,B$2+ROW()-1),"") | I16: =IF(ROW()<=B$3,SUMIF(A$107:A$10042,A16,I$107:I$10042),"") | J16: =IF(ROW()<=B$3,SUMIFS(I$103:I$50042,A$103:A$50042,K16,J$103:J$50042,L16),"") | K16: =$A16 | L16: 99 | M16: AAA | N16: HHH
A17: =IF(ROW()<=B$3,INDEX(FP!F:F,B$2+ROW()-1)&" - "&INDEX(FP!C:C,B$2+ROW()-1),"") | C17: =IF(ROW()<=B$3,INDEX(FP!E:E,B$2+ROW()-1),"") | D17: =IF(ROW()<=B$3,INDEX(FP!F:F,B$2+ROW()-1),"") | F17: =IF(ROW()<=B$3,INDEX(FP!G:G,B$2+ROW()-1),"") | H17: =IF(ROW()<=B$3,INDEX(FP!C:C,B$2+ROW()-1),"") | I17: =IF(ROW()<=B$3,SUMIF(A$107:A$10042,A17,I$107:I$10042),"") | J17: =IF(ROW()<=B$3,SUMIFS(I$103:I$50042,A$103:A$50042,K17,J$103:J$50042,L17),"") | K17: =$A17 | L17: 99 | M17: =$A16 | N17: 99
A18: =IF(ROW()<=B$3,INDEX(FP!F:F,B$2+ROW()-1)&" - "&INDEX(FP!C:C,B$2+ROW()-1),"") | C18: =IF(ROW()<=B$3,INDEX(FP!E:E,B$2+ROW()-1),"") | D18: =IF(ROW()<=B$3,INDEX(FP!F:F,B$2+ROW()-1),"") | F18: =IF(ROW()<=B$3,INDEX(FP!G:G,B$2+ROW()-1),"") | H18: =IF(ROW()<=B$3,INDEX(FP!C:C,B$2+ROW()-1),"") | I18: =IF(ROW()<=B$3,SUMIF(A$107:A$10042,A18,I$107:I$10042),"") | J18: =IF(ROW()<=B$3,SUMIFS(I$103:I$50042,A$103:A$50042,K18,J$103:J$50042,L18),"") | K18: =$A18 | L18: 99 | M18: AAA | N18: HHH
A19: =IF(ROW()<=B$3,INDEX(FP!F:F,B$2+ROW()-1)&" - "&INDEX(FP!C:C,B$2+ROW()-1),"") | C19: =IF(ROW()<=B$3,INDEX(FP!E:E,B$2+ROW()-1),"") | D19: =IF(ROW()<=B$3,INDEX(FP!F:F,B$2+ROW()-1),"") | F19: =IF(ROW()<=B$3,INDEX(FP!G:G,B$2+ROW()-1),"") | H19: =IF(ROW()<=B$3,INDEX(FP!C:C,B$2+ROW()-1),"") | I19: =IF(ROW()<=B$3,SUMIF(A$107:A$10042,A19,I$107:I$10042),"") | J19: =IF(ROW()<=B$3,SUMIFS(I$103:I$50042,A$103:A$50042,K19,J$103:J$50042,L19),"") | K19: =$A19 | L19: 99 | M19: =$A18 | N19: 99
A20: =IF(ROW()<=B$3,INDEX(FP!F:F,B$2+ROW()-1)&" - "&INDEX(FP!C:C,B$2+ROW()-1),"") | C20: =IF(ROW()<=B$3,INDEX(FP!E:E,B$2+ROW()-1),"") | D20: =IF(ROW()<=B$3,INDEX(FP!F:F,B$2+ROW()-1),"") | F20: =IF(ROW()<=B$3,INDEX(FP!G:G,B$2+ROW()-1),"") | H20: =IF(ROW()<=B$3,INDEX(FP!C:C,B$2+ROW()-1),"") | I20: =IF(ROW()<=B$3,SUMIF(A$107:A$10042,A20,I$107:I$10042),"") | J20: =IF(ROW()<=B$3,SUMIFS(I$103:I$50042,A$103:A$50042,K20,J$103:J$50042,L20),"") | K20: =$A20 | L20: 99 | M20: AAA | N20: HHH
A21: =IF(ROW()<=B$3,INDEX(FP!F:F,B$2+ROW()-1)&" - "&INDEX(FP!C:C,B$2+ROW()-1),"") | C21: =IF(ROW()<=B$3,INDEX(FP!E:E,B$2+ROW()-1),"") | D21: =IF(ROW()<=B$3,INDEX(FP!F:F,B$2+ROW()-1),"") | F21: =IF(ROW()<=B$3,INDEX(FP!G:G,B$2+ROW()-1),"") | H21: =IF(ROW()<=B$3,INDEX(FP!C:C,B$2+ROW()-1),"") | I21: =IF(ROW()<=B$3,SUMIF(A$107:A$10042,A21,I$107:I$10042),"") | J21: =IF(ROW()<=B$3,SUMIFS(I$103:I$50042,A$103:A$50042,K21,J$103:J$50042,L21),"") | K21: =$A21 | L21: 99 | M21: =$A20 | N21: 99
A22: =IF(ROW()<=B$3,INDEX(FP!F:F,B$2+ROW()-1)&" - "&INDEX(FP!C:C,B$2+ROW()-1),"") | C22: =IF(ROW()<=B$3,INDEX(FP!E:E,B$2+ROW()-1),"") | D22: =IF(ROW()<=B$3,INDEX(FP!F:F,B$2+ROW()-1),"") | F22: =IF(ROW()<=B$3,INDEX(FP!G:G,B$2+ROW()-1),"") | H22: =IF(ROW()<=B$3,INDEX(FP!C:C,B$2+ROW()-1),"") | I22: =IF(ROW()<=B$3,SUMIF(A$107:A$10042,A22,I$107:I$10042),"") | J22: =IF(ROW()<=B$3,SUMIFS(I$103:I$50042,A$103:A$50042,K22,J$103:J$50042,L22),"") | K22: =$A22 | L22: 99 | M22: AAA | N22: HHH
A23: =IF(ROW()<=B$3,INDEX(FP!F:F,B$2+ROW()-1)&" - "&INDEX(FP!C:C,B$2+ROW()-1),"") | C23: =IF(ROW()<=B$3,INDEX(FP!E:E,B$2+ROW()-1),"") | D23: =IF(ROW()<=B$3,INDEX(FP!F:F,B$2+ROW()-1),"") | F23: =IF(ROW()<=B$3,INDEX(FP!G:G,B$2+ROW()-1),"") | H23: =IF(ROW()<=B$3,INDEX(FP!C:C,B$2+ROW()-1),"") | I23: =IF(ROW()<=B$3,SUMIF(A$107:A$10042,A23,I$107:I$10042),"") | J23: =IF(ROW()<=B$3,SUMIFS(I$103:I$50042,A$103:A$50042,K23,J$103:J$50042,L23),"") | K23: =$A23 | L23: 99 | M23: =$A22 | N23: 99
A24: =IF(ROW()<=B$3,INDEX(FP!F:F,B$2+ROW()-1)&" - "&INDEX(FP!C:C,B$2+ROW()-1),"") | C24: =IF(ROW()<=B$3,INDEX(FP!E:E,B$2+ROW()-1),"") | D24: =IF(ROW()<=B$3,INDEX(FP!F:F,B$2+ROW()-1),"") | F24: =IF(ROW()<=B$3,INDEX(FP!G:G,B$2+ROW()-1),"") | H24: =IF(ROW()<=B$3,INDEX(FP!C:C,B$2+ROW()-1),"") | I24: =IF(ROW()<=B$3,SUMIF(A$107:A$10042,A24,I$107:I$10042),"") | J24: =IF(ROW()<=B$3,SUMIFS(I$103:I$50042,A$103:A$50042,K24,J$103:J$50042,L24),"") | K24: =$A24 | L24: 99 | M24: AAA | N24: HHH
A25: =IF(ROW()<=B$3,INDEX(FP!F:F,B$2+ROW()-1)&" - "&INDEX(FP!C:C,B$2+ROW()-1),"") | C25: =IF(ROW()<=B$3,INDEX(FP!E:E,B$2+ROW()-1),"") | D25: =IF(ROW()<=B$3,INDEX(FP!F:F,B$2+ROW()-1),"") | F25: =IF(ROW()<=B$3,INDEX(FP!G:G,B$2+ROW()-1),"") | H25: =IF(ROW()<=B$3,INDEX(FP!C:C,B$2+ROW()-1),"") | I25: =IF(ROW()<=B$3,SUMIF(A$107:A$10042,A25,I$107:I$10042),"") | J25: =IF(ROW()<=B$3,SUMIFS(I$103:I$50042,A$103:A$50042,K25,J$103:J$50042,L25),"") | K25: =$A25 | L25: 99 | M25: =$A24 | N25: 99
A26: =IF(ROW()<=B$3,INDEX(FP!F:F,B$2+ROW()-1)&" - "&INDEX(FP!C:C,B$2+ROW()-1),"") | C26: =IF(ROW()<=B$3,INDEX(FP!E:E,B$2+ROW()-1),"") | D26: =IF(ROW()<=B$3,INDEX(FP!F:F,B$2+ROW()-1),"") | F26: =IF(ROW()<=B$3,INDEX(FP!G:G,B$2+ROW()-1),"") | H26: =IF(ROW()<=B$3,INDEX(FP!C:C,B$2+ROW()-1),"") | I26: =IF(ROW()<=B$3,SUMIF(A$107:A$10042,A26,I$107:I$10042),"") | J26: =IF(ROW()<=B$3,SUMIFS(I$103:I$50042,A$103:A$50042,K26,J$103:J$50042,L26),"") | K26: =$A26 | L26: 99 | M26: AAA | N26: HHH
A27: =IF(ROW()<=B$3,INDEX(FP!F:F,B$2+ROW()-1)&" - "&INDEX(FP!C:C,B$2+ROW()-1),"") | C27: =IF(ROW()<=B$3,INDEX(FP!E:E,B$2+ROW()-1),"") | D27: =IF(ROW()<=B$3,INDEX(FP!F:F,B$2+ROW()-1),"") | F27: =IF(ROW()<=B$3,INDEX(FP!G:G,B$2+ROW()-1),"") | H27: =IF(ROW()<=B$3,INDEX(FP!C:C,B$2+ROW()-1),"") | I27: =IF(ROW()<=B$3,SUMIF(A$107:A$10042,A27,I$107:I$10042),"") | J27: =IF(ROW()<=B$3,SUMIFS(I$103:I$50042,A$103:A$50042,K27,J$103:J$50042,L27),"") | K27: =$A27 | L27: 99 | M27: =$A26 | N27: 99
A28: =IF(ROW()<=B$3,INDEX(FP!F:F,B$2+ROW()-1)&" - "&INDEX(FP!C:C,B$2+ROW()-1),"") | C28: =IF(ROW()<=B$3,INDEX(FP!E:E,B$2+ROW()-1),"") | D28: =IF(ROW()<=B$3,INDEX(FP!F:F,B$2+ROW()-1),"") | F28: =IF(ROW()<=B$3,INDEX(FP!G:G,B$2+ROW()-1),"") | H28: =IF(ROW()<=B$3,INDEX(FP!C:C,B$2+ROW()-1),"") | I28: =IF(ROW()<=B$3,SUMIF(A$107:A$10042,A28,I$107:I$10042),"") | J28: =IF(ROW()<=B$3,SUMIFS(I$103:I$50042,A$103:A$50042,K28,J$103:J$50042,L28),"") | K28: =$A28 | L28: 99 | M28: AAA | N28: HHH
A29: =IF(ROW()<=B$3,INDEX(FP!F:F,B$2+ROW()-1)&" - "&INDEX(FP!C:C,B$2+ROW()-1),"") | C29: =IF(ROW()<=B$3,INDEX(FP!E:E,B$2+ROW()-1),"") | D29: =IF(ROW()<=B$3,INDEX(FP!F:F,B$2+ROW()-1),"") | F29: =IF(ROW()<=B$3,INDEX(FP!G:G,B$2+ROW()-1),"") | H29: =IF(ROW()<=B$3,INDEX(FP!C:C,B$2+ROW()-1),"") | I29: =IF(ROW()<=B$3,SUMIF(A$107:A$10042,A29,I$107:I$10042),"") | J29: =IF(ROW()<=B$3,SUMIFS(I$103:I$50042,A$103:A$50042,K29,J$103:J$50042,L29),"") | K29: =$A29 | L29: 99 | M29: =$A28 | N29: 99
A30: =IF(ROW()<=B$3,INDEX(FP!F:F,B$2+ROW()-1)&" - "&INDEX(FP!C:C,B$2+ROW()-1),"") | C30: =IF(ROW()<=B$3,INDEX(FP!E:E,B$2+ROW()-1),"") | D30: =IF(ROW()<=B$3,INDEX(FP!F:F,B$2+ROW()-1),"") | F30: =IF(ROW()<=B$3,INDEX(FP!G:G,B$2+ROW()-1),"") | H30: =IF(ROW()<=B$3,INDEX(FP!C:C,B$2+ROW()-1),"") | I30: =IF(ROW()<=B$3,SUMIF(A$107:A$10042,A30,I$107:I$10042),"") | J30: =IF(ROW()<=B$3,SUMIFS(I$103:I$50042,A$103:A$50042,K30,J$103:J$50042,L30),"") | K30: =$A30 | L30: 99 | M30: AAA | N30: HHH
A31: =IF(ROW()<=B$3,INDEX(FP!F:F,B$2+ROW()-1)&" - "&INDEX(FP!C:C,B$2+ROW()-1),"") | C31: =IF(ROW()<=B$3,INDEX(FP!E:E,B$2+ROW()-1),"") | D31: =IF(ROW()<=B$3,INDEX(FP!F:F,B$2+ROW()-1),"") | F31: =IF(ROW()<=B$3,INDEX(FP!G:G,B$2+ROW()-1),"") | H31: =IF(ROW()<=B$3,INDEX(FP!C:C,B$2+ROW()-1),"") | I31: =IF(ROW()<=B$3,SUMIF(A$107:A$10042,A31,I$107:I$10042),"") | J31: =IF(ROW()<=B$3,SUMIFS(I$103:I$50042,A$103:A$50042,K31,J$103:J$50042,L31),"") | K31: =$A31 | L31: 99 | M31: =$A30 | N31: 99
A32: =IF(ROW()<=B$3,INDEX(FP!F:F,B$2+ROW()-1)&" - "&INDEX(FP!C:C,B$2+ROW()-1),"") | C32: =IF(ROW()<=B$3,INDEX(FP!E:E,B$2+ROW()-1),"") | D32: =IF(ROW()<=B$3,INDEX(FP!F:F,B$2+ROW()-1),"") | F32: =IF(ROW()<=B$3,INDEX(FP!G:G,B$2+ROW()-1),"") | H32: =IF(ROW()<=B$3,INDEX(FP!C:C,B$2+ROW()-1),"") | I32: =IF(ROW()<=B$3,SUMIF(A$107:A$10042,A32,I$107:I$10042),"") | J32: =IF(ROW()<=B$3,SUMIFS(I$103:I$50042,A$103:A$50042,K32,J$103:J$50042,L32),"") | K32: =$A32 | L32: 99 | M32: AAA | N32: HHH
A33: =IF(ROW()<=B$3,INDEX(FP!F:F,B$2+ROW()-1)&" - "&INDEX(FP!C:C,B$2+ROW()-1),"") | C33: =IF(ROW()<=B$3,INDEX(FP!E:E,B$2+ROW()-1),"") | D33: =IF(ROW()<=B$3,INDEX(FP!F:F,B$2+ROW()-1),"") | F33: =IF(ROW()<=B$3,INDEX(FP!G:G,B$2+ROW()-1),"") | H33: =IF(ROW()<=B$3,INDEX(FP!C:C,B$2+ROW()-1),"") | I33: =IF(ROW()<=B$3,SUMIF(A$107:A$10042,A33,I$107:I$10042),"") | J33: =IF(ROW()<=B$3,SUMIFS(I$103:I$50042,A$103:A$50042,K33,J$103:J$50042,L33),"") | K33: =$A33 | L33: 99 | M33: =$A32 | N33: 99
A34: =IF(ROW()<=B$3,INDEX(FP!F:F,B$2+ROW()-1)&" - "&INDEX(FP!C:C,B$2+ROW()-1),"") | C34: =IF(ROW()<=B$3,INDEX(FP!E:E,B$2+ROW()-1),"") | D34: =IF(ROW()<=B$3,INDEX(FP!F:F,B$2+ROW()-1),"") | F34: =IF(ROW()<=B$3,INDEX(FP!G:G,B$2+ROW()-1),"") | H34: =IF(ROW()<=B$3,INDEX(FP!C:C,B$2+ROW()-1),"") | I34: =IF(ROW()<=B$3,SUMIF(A$107:A$10042,A34,I$107:I$10042),"") | J34: =IF(ROW()<=B$3,SUMIFS(I$103:I$50042,A$103:A$50042,K34,J$103:J$50042,L34),"") | K34: =$A34 | L34: 99 | M34: AAA | N34: HHH
A35: =IF(ROW()<=B$3,INDEX(FP!F:F,B$2+ROW()-1)&" - "&INDEX(FP!C:C,B$2+ROW()-1),"") | C35: =IF(ROW()<=B$3,INDEX(FP!E:E,B$2+ROW()-1),"") | D35: =IF(ROW()<=B$3,INDEX(FP!F:F,B$2+ROW()-1),"") | F35: =IF(ROW()<=B$3,INDEX(FP!G:G,B$2+ROW()-1),"") | H35: =IF(ROW()<=B$3,INDEX(FP!C:C,B$2+ROW()-1),"") | I35: =IF(ROW()<=B$3,SUMIF(A$107:A$10042,A35,I$107:I$10042),"") | J35: =IF(ROW()<=B$3,SUMIFS(I$103:I$50042,A$103:A$50042,K35,J$103:J$50042,L35),"") | K35: =$A35 | L35: 99 | M35: =$A34 | N35: 99
A36: =IF(ROW()<=B$3,INDEX(FP!F:F,B$2+ROW()-1)&" - "&INDEX(FP!C:C,B$2+ROW()-1),"") | C36: =IF(ROW()<=B$3,INDEX(FP!E:E,B$2+ROW()-1),"") | D36: =IF(ROW()<=B$3,INDEX(FP!F:F,B$2+ROW()-1),"") | F36: =IF(ROW()<=B$3,INDEX(FP!G:G,B$2+ROW()-1),"") | H36: =IF(ROW()<=B$3,INDEX(FP!C:C,B$2+ROW()-1),"") | I36: =IF(ROW()<=B$3,SUMIF(A$107:A$10042,A36,I$107:I$10042),"") | J36: =IF(ROW()<=B$3,SUMIFS(I$103:I$50042,A$103:A$50042,K36,J$103:J$50042,L36),"") | K36: =$A36 | L36: 99 | M36: AAA | N36: HHH
A37: =IF(ROW()<=B$3,INDEX(FP!F:F,B$2+ROW()-1)&" - "&INDEX(FP!C:C,B$2+ROW()-1),"") | C37: =IF(ROW()<=B$3,INDEX(FP!E:E,B$2+ROW()-1),"") | D37: =IF(ROW()<=B$3,INDEX(FP!F:F,B$2+ROW()-1),"") | F37: =IF(ROW()<=B$3,INDEX(FP!G:G,B$2+ROW()-1),"") | H37: =IF(ROW()<=B$3,INDEX(FP!C:C,B$2+ROW()-1),"") | I37: =IF(ROW()<=B$3,SUMIF(A$107:A$10042,A37,I$107:I$10042),"") | J37: =IF(ROW()<=B$3,SUMIFS(I$103:I$50042,A$103:A$50042,K37,J$103:J$50042,L37),"") | K37: =$A37 | L37: 99 | M37: =$A36 | N37: 99
A38: =IF(ROW()<=B$3,INDEX(FP!F:F,B$2+ROW()-1)&" - "&INDEX(FP!C:C,B$2+ROW()-1),"") | C38: =IF(ROW()<=B$3,INDEX(FP!E:E,B$2+ROW()-1),"") | D38: =IF(ROW()<=B$3,INDEX(FP!F:F,B$2+ROW()-1),"") | F38: =IF(ROW()<=B$3,INDEX(FP!G:G,B$2+ROW()-1),"") | H38: =IF(ROW()<=B$3,INDEX(FP!C:C,B$2+ROW()-1),"") | I38: =IF(ROW()<=B$3,SUMIF(A$107:A$10042,A38,I$107:I$10042),"") | J38: =IF(ROW()<=B$3,SUMIFS(I$103:I$50042,A$103:A$50042,K38,J$103:J$50042,L38),"") | K38: =$A38 | L38: 99 | M38: AAA | N38: HHH
A39: =IF(ROW()<=B$3,INDEX(FP!F:F,B$2+ROW()-1)&" - "&INDEX(FP!C:C,B$2+ROW()-1),"") | C39: =IF(ROW()<=B$3,INDEX(FP!E:E,B$2+ROW()-1),"") | D39: =IF(ROW()<=B$3,INDEX(FP!F:F,B$2+ROW()-1),"") | F39: =IF(ROW()<=B$3,INDEX(FP!G:G,B$2+ROW()-1),"") | H39: =IF(ROW()<=B$3,INDEX(FP!C:C,B$2+ROW()-1),"") | I39: =IF(ROW()<=B$3,SUMIF(A$107:A$10042,A39,I$107:I$10042),"") | J39: =IF(ROW()<=B$3,SUMIFS(I$103:I$50042,A$103:A$50042,K39,J$103:J$50042,L39),"") | K39: =$A39 | L39: 99 | M39: =$A38 | N39: 99
A40: =IF(ROW()<=B$3,INDEX(FP!F:F,B$2+ROW()-1)&" - "&INDEX(FP!C:C,B$2+ROW()-1),"") | C40: =IF(ROW()<=B$3,INDEX(FP!E:E,B$2+ROW()-1),"") | D40: =IF(ROW()<=B$3,INDEX(FP!F:F,B$2+ROW()-1),"") | F40: =IF(ROW()<=B$3,INDEX(FP!G:G,B$2+ROW()-1),"") | H40: =IF(ROW()<=B$3,INDEX(FP!C:C,B$2+ROW()-1),"") | I40: =IF(ROW()<=B$3,SUMIF(A$107:A$10042,A40,I$107:I$10042),"") | J40: =IF(ROW()<=B$3,SUMIFS(I$103:I$50042,A$103:A$50042,K40,J$103:J$50042,L40),"") | K40: =$A40 | L40: 99 | M40: AAA | N40: HHH
...

Sheet Adr
A1: IČO | B1: Subjekt | C1: Právna forma | D1: Ulica a číslo domu | E1: Mesto | F1: PSČ | G1: Webové sídlo | H1: E-mail | I1: Štatutárny zástupca | J1: Štatutár - funkcia | K1: Kontakná osoba | L1: Kontakt telefón | M1: IBAN 1 | N1: IBAN PUŠ 2 | O1: IBAN TOP | P1: IBAN DOT
A2: 30787009 | B2: Slovenská asociácia amerického futbalu, o.z. | C2: občianske združenie | D2: Nevädzová 17211/6B | E2: Bratislava | F2: 821 01 | G2: www.saaf.sk | H2: info@saaf.sk | I2: Michal Slašťan | J2: prezident | K2: Michal Slašťan | L2: 421908868248 | M2: SK90 8330 0000 0021 0189 0697 | R2: =A2 -> 30787009
A3: 00631655 | B3: Slovenská asociácia boccie | C3: občianske združenie | D3: Ulica Vajanského 874/46 | E3: Lučenec | F3: 984 01 | G3: www.bocce.sk | H3: slovenska.asociacia.bocce@gmail.com | I3: Ján Macko, Lukáš Bolla, Richard Čonka | J3: prezident, predseda, predseda | K3: Ján Macko | L3: 421919188236 | M3: SK92 8330 0000 0026 0113 7730 | R3: =A3 -> 00631655
A4: 42019541 | B4: Slovenská asociácia čínskeho wushu | C4: občianske združenie | D4: Ladislava Dérera 35 | E4: Bratislava | F4: 831 01 | G4: www.wushuslovakia.sk | H4: email@wushuslovakia.sk | I4: Ľubomír France | J4: prezident | K4: Ľubomír France | L4: 421905948422 | M4: SK12 8330 0000 0024 0152 5392 | R4: =A4 -> 42019541
A5: 30810108 | B5: Slovenská Asociácia Dynamickej Streľby | C5: občianske združenie | D5: Skautská 2 | E5: Košice | F5: 040 01 | G5: www.sads.sk | H5: prezident@sads.sk | I5: Bystrík Zachar | J5: prezident | K5: Bystrík Zachar | L5: 421915184709 | M5: SK75 3100 0000 0040 0020 5012 | R5: =A5 -> 30810108
A6: 30842069 | B6: Slovenská asociácia fitnes, kulturistiky a silového trojboja | C6: občianske združenie | D6: Olympijské námestie 14290/1 | E6: Bratislava | F6: 832 80 | G6: www.safkst.sk | H6: sekretariat@safkst.sk | I6: Boris Mlsna | J6: prezident | K6: Lucia Čermáková | L6: 421908965156 | M6: SK77 0900 0000 0051 7589 2912 | R6: =A6 -> 30842069
A7: 31749852 | B7: Slovenská asociácia Frisbee | C7: občianske združenie | D7: Malženice 511 | E7: Malženice | F7: 919 29 | G7: www.szf.sk | H7: safslovakia@gmail.com | I7: Juraj Turan | J7: predseda | K7: Martin Keseg | L7: 421905998953 | M7: SK62 0200 0000 0000 7763 5012 | R7: =A7 -> 31749852
A8: 30844711 | B8: Slovenská asociácia go | C8: občianske združenie | D8: Olympijské námestie 14290/1 | E8: Bratislava | F8: 832 80 | G8: www.sago.sk | H8: slovakgo@gmail.com | I8: Martin Lukáč | J8: prezident | K8: Martin Lukáč; Miroslav Poliak | L8: 421903187087; 421903200136 | M8: SK31 8330 0000 0025 0173 0318 | R8: =A8 -> 30844711
A9: 31940668 | B9: Slovenská asociácia korfbalu | C9: občianske združenie | D9: Makovického 6/2 | E9: Prievidza | F9: 971 01 | G9: www.korfbal.sk | H9: martinsonoga@gmail.com | I9: Martin Sonoga | J9: prezident | K9: Martin Sonoga | L9: 421911361044 | M9: SK91 3100 0000 0040 0116 2405 | R9: =A9 -> 31940668
A10: 31824021 | B10: Slovenská asociácia motoristického športu | C10: občianske združenie | D10: Fatranská 3 | E10: Nitra | F10: 949 01 | G10: www.sams-asn.sk | H10: samssk@nextra.sk | I10: Dušan Koblišek | J10: prezident | K10: Vojtech Ruisl | L10: 421903403105 | M10: SK29 3100 0000 0042 2012 1718 | R10: =A10 -> 31824021
A11: 30811686 | B11: Slovenská asociácia pretláčania rukou | C11: občianske združenie | D11: Vavrečka 311 | E11: Námestovo | F11: 029 01 | G11: www.armsport.sk | H11: sekretariat@armsport.sk | I11: Ján Germanus | J11: prezident | K11: Dagmar Petrová | L11: 421905162424 | M11: SK46 0900 0000 0000 1147 3305 | R11: =A11 -> 30811686
A12: 30814910 | B12: Slovenská asociácia taekwondo WT | C12: občianske združenie | D12: Hlavná 37/68 | E12: Košice | F12: 040 01 | G12: new.satkd.sk | H12: satkd.office@gmail.com | I12: Mário Švec | J12: prezident | K12: Pavel Ižarik; Alexandra Filipová | L12: 421902901640; 421911011900 | M12: SK19 8330 0000 0021 0142 0070 | R12: =A12 -> 30814910
A13: 17316731 | B13: Slovenská asociácia univerzitného športu | C13: občianske združenie | D13: Trnavská cesta 37 | E13: Bratislava 3 | F13: 831 04 | G13: www.saus.sk | H13: saus@saus.sk | I13: Július Dubovský | J13: prezident | K13: Michaela Masárová | L13: 421907696186 | M13: SK51 1100 0000 0026 2902 3663 | R13: =A13 -> 17316731
A14: 30841798 | B14: Slovenská asociácia zrakovo postihnutých športovcov | C14: občianske združenie | D14: Rosina 497 | E14: Rosina | F14: 013 22 | G14: www.sazps.sk | H14: sazps@sazps.sk | I14: Peter Ďuroška | J14: predseda | K14: Peter Ďuroška | L14: 421907253794 | M14: SK95 8330 0000 0021 0076 9190 | R14: =A14 -> 30841798
A15: 30844568 | B15: Slovenská baseballová federácia | C15: občianske združenie | D15: Olympijské námestie 14290/1 | E15: Bratislava | F15: 831 04 | G15: www.slovakiabaseball.com | H15: office@slovakiabaseball.com | I15: Mojmír Jankovič | J15: prezident | K15: František Bunta | L15: 421905294239 | M15: SK09 0200 0000 0017 8566 0854 | R15: =A15 -> 30844568
A16: 17315166 | B16: Slovenská basketbalová asociácia | C16: občianske združenie | D16: Trnavská cesta 37 | E16: Bratislava | F16: 831 04 | G16: www.slovakbasket.sk | H16: sekretariat@slovakbasket.sk | I16: Michal Ondruš | J16: prezident | K16: Štefan Kubík | L16: 421905504810 | M16: SK94 1100 0000 0029 2586 5005 | R16: =A16 -> 17315166
A17: 31744621 | B17: Slovenská boxerská federácia | C17: občianske združenie | D17: Dr. Vladimíra Clementisa 3222/10 | E17: Bratislava | F17: 821 02 | G17: www.sbf.sk | H17: sbf@sbf.sk | I17: Tomáš Kovács | J17: prezident | K17: Ivana Haršányová | L17: 421949246786 | M17: SK63 0200 0000 0017 8550 5555 | O17: SK69 0200 0000 0039 3346 9955 | R17: =A17 -> 31744621
A18: 36064742 | B18: Slovenská federácia pétanque | C18: občianske združenie | D18: Karpatské námestie 10A | E18: Bratislava | F18: 831 06 | G18: www.sfp.sk | H18: peter.sury@gmail.com | I18: Peter Šúry | J18: prezident | K18: Peter Šúry | L18: 421903421644 | M18: SK28 8330 0000 0023 0103 3104 | R18: =A18 -> 36064742
A19: 50284363 | B19: Slovenská golfová asociácia | C19: občianske združenie | D19: Kukučínova 26 | E19: Bratislava | F19: 831 02 | G19: www.skga.sk | H19: skga@skga.sk | I19: Rastislav Antala, Miroslav Rusnák | J19: Prezident, viceprezident | K19: Kamil Balga | L19: 421903446366 | M19: SK42 0900 0000 0052 1113 2866 | P19: SK14 1100 0000 0029 4204 8955 | R19: =A19 -> 50284363
A20: 00688321 | B20: Slovenská gymnastická federácia | C20: občianske združenie | D20: Olympijské námestie 14290/1 | E20: Bratislava | F20: 831 04 | G20: www.sgf.sk | H20: office@sgf.sk | I20: Ľuboš Vilček, Silvia Ruščinová | J20: prezident, generálna sekretárka | K20: Silvia Ruščinová | L20: 421915177492 | M20: SK53 0900 0000 0051 0865 8667 | R20: =A20 -> 00688321
A21: 54041368 | B21: SLOVENSKÁ CHEERLEADING ÚNIA | C21: občianske združenie | D21: Novozámocká 3212/22 | E21: Zvolen | F21: 960 01 | G21: www.scu.sk | H21: sekretariatscu@scu.sk | I21: Zuzana Niščáková | J21: prezidentka | K21: Zuzana Niščáková | L21: 421905380634 | M21: SK09 8330 0000 0026 0266 7944 | P21: SK37 8330 0000 0022 0206 1417 | R21: =A21 -> 54041368
A22: 31787801 | B22: SLOVENSKÁ JAZDECKÁ FEDERÁCIA | C22: občianske združenie | D22: Olympijské námestie 14290/1 | E22: Bratislava | F22: 831 04 | G22: www.sjf.sk | H22: baciak.masarykova@sjf.sk | I22: Vladimír Chovan | J22: predseda | K22: Zuzana Bačiak Masaryková | L22: 421907100191 | M22: SK06 0900 0000 0001 7426 1462 | R22: =A22 -> 31787801
A23: 50434101 | B23: Slovenská kanoistika | C23: občianske združenie | D23: Olympijské námestie 14290/1 | E23: Bratislava | F23: 831 04 | G23: www.canoe.sk | H23: canoe@canoe.sk | I23: Miroslav Haviar | J23: prezident | K23: Boris Bergendi | L23: 421905659739 | M23: SK77 0900 0000 0051 1559 0728 | R23: =A23 -> 50434101
A24: 30853427 | B24: Slovenská Lakrosová Federácia | C24: občianske združenie | D24: Jarabinková 6/B | E24: Bratislava | F24: 821 09 | G24: www.lacrosse.sk | H24: eminentasro@gmail.com | I24: Igor Moravčík | J24: prezident | K24: Igor Moravčík | L24: 421905620961 | M24: SK65 0200 0000 0041 7252 5557 | R24: =A24 -> 30853427
A25: 30813883 | B25: Slovenská motocyklová federácia | C25: občianske združenie | D25: Športovcov 340 | E25: Považská Bystrica | F25: 017 01 | G25: www.smf.sk | H25: smf@smf.sk | I25: Peter Lazar | J25: prezident | K25: Tatiana Kašlíková | L25: 421905601243 | M25: SK96 0900 0000 0003 6178 9457 | R25: =A25 -> 30813883
A26: 34057587 | B26: Slovenská Muaythai asociácia | C26: občianske združenie | D26: Lermontovova 3 | E26: Bratislava | F26: 811 05 | G26: www.smta.sk | H26: office@smta.sk | I26: Róbert Kajánek | J26: prezident | K26: Róbert Kajánek | L26: 421903584555 | M26: SK64 1100 0000 0029 4704 5980 | R26: =A26 -> 34057587
A27: 30806887 | B27: Slovenská nohejbalová asociácia | C27: občianske združenie | D27: Olympijské námestie 14290/1 | E27: Bratislava 3 | F27: 831 04 | G27: www.nohejbalsk.com | H27: nohejbal.sna@gmail.com | I27: Miroslav Kováč | J27: prezident | K27: Miroslav Kováč | L27: 421917800004 | M27: SK75 0200 0000 0017 8646 8258 | R27: =A27 -> 30806887
A28: 36068764 | B28: Slovenská plavecká federácia | C28: občianske združenie | D28: Za kasárňou 315/1 | E28: Bratislava | F28: 831 03 | G28: www.swimmsvk.sk | H28: prezident@swimmsvk.sk | I28: Ivan Šulek | J28: prezident | K28: Ivan Šulek | L28: 421905297832 | M28: SK13 0200 0000 0030 7422 5951 | R28: =A28 -> 36068764
A29: 30851459 | B29: Slovenská rugbyová únia | C29: občianske združenie | D29: Hrobákova 1 | E29: Bratislava | F29: 851 02 | G29: www.rugbyunion.sk | H29: office@rugbyunion.sk | I29: Eduard Krützner | J29: prezident | K29: Katarína Kubalová | L29: 421911977728 | M29: SK14 0200 0000 0028 4751 3556 | R29: =A29 -> 30851459
A30: 37998919 | B30: Slovenská skialpinistická asociácia | C30: občianske združenie | D30: Jalovec 98 | E30: Bobrovec | F30: 032 21 | G30: www.slovakskimo.sk | H30: info@slovakskimo.sk | I30: Michaela Babčanová | J30: podpredseda | K30: Michaela Babčanová | L30: 421915156717 | M30: SK69 1100 0000 0026 2009 8466 | R30: =A30 -> 37998919
A31: 17316723 | B31: Slovenská softballová asociácia | C31: občianske združenie | D31: Olympijské námestie 14290/1 | E31: Bratislava | F31: 831 04 | G31: www.slovakiasoftball.com | H31: office@softballslovakia.com | I31: Lenka Gunišová | J31: prezident | K31: František Bunta | L31: 421905294239 | M31: SK37 0200 0000 0017 8559 5554 | R31: =A31 -> 17316723
A32: 30807018 | B32: Slovenská squashová asociácia | C32: občianske združenie | D32: Olympijské námestie 14290/1 | E32: Bratislava | F32: 831 04 | G32: www.squashtour.sk | H32: gs@squash.sk | I32: Dávid Kubiček | J32: generálny sekretár | K32: Dávid Kubiček | L32: 421908447934 | M32: SK75 0200 0000 0017 8581 8455 | R32: =A32 -> 30807018
A33: 31745466 | B33: Slovenská triatlonová únia | C33: občianske združenie | D33: Olympijské námestie 14290/1 | E33: Bratislava | F33: 831 04 | G33: www.triathlon.sk | H33: triathlon@triathlon.sk | I33: Jozef Jurášek | J33: prezident | K33: Peter Dobiaš | L33: 421918234840 | M33: SK41 0200 0000 0017 8359 4857 | R33: =A33 -> 31745466
A34: 00688819 | B34: Slovenská volejbalová federácia | C34: občianske združenie | D34: Kalinčiakova 33 | E34: Bratislava | F34: 831 04 | G34: www.svf.sk | H34: svf@svf.sk | I34: Marek Rojko | J34: prezident | K34: Jozef Mihalco | L34: 421911427222 | M34: SK03 0200 0000 0017 7219 1251 | R34: =A34 -> 00688819
A35: 36063835 | B35: Slovenský atletický zväz | C35: občianske združenie | D35: Olympijské námestie 14290/1 | E35: Bratislava | F35: 831 04 | G35: www.atletika.sk | H35: office@atletika.sk | I35: Peter Korčok, Vladimír Gubrický | J35: prezident, generálny sekretár | K35: Vladimír Gubrický | L35: 421905278836 | M35: SK17 0200 0000 0017 8547 1754 | O35: SK16 0200 0000 0039 3390 6051 | P35: SK06 0200 0000 0042 0655 3055 | R35: =A35 -> 36063835
A36: 31753825 | B36: Slovenský biliardový zväz | C36: občianske združenie | D36: Olympijské námestie 14290/1 | E36: Bratislava | F36: 831 04 | G36: www.sbiz.sk | H36: koniar@sbiz.sk; sbiz1994@gmail.com | I36: Samuel Koniar | J36: predseda | K36: Samuel Koniar | L36: 421907194669 | M36: SK40 0200 0000 0017 8851 0253 | R36: =A36 -> 31753825
A37: 36128147 | B37: Slovenský bowlingový zväz | C37: občianske združenie | D37: Dunajská 12 | E37: Košice | F37: 040 11 | G37: www.slovakbowling.sk | H37: merkovskyv@gmail.com | I37: Vladimír Merkovský | J37: prezident | K37: Vladimír Merkovský | L37: 421903712927 | M37: SK70 1100 0000 0026 2878 1403 | R37: =A37 -> 36128147
A38: 31770908 | B38: Slovenský bridžový zväz | C38: občianske združenie | D38: Lopenícka 1/A | E38: Bratislava | F38: 831 02 | G38: www.bridgeclub.sk | H38: sbz@bridgeclub.sk | I38: Peter Belčák | J38: prezident | K38: Peter Belčák | L38: 421908672270 | M38: SK65 0900 0000 0001 7666 9007 | R38: =A38 -> 31770908
A39: 37841866 | B39: Slovenský curlingový zväz | C39: občianske združenie | D39: Zahradnícka 27 | E39: Bratislava | F39: 811 07 | G39: www.curling.sk | H39: office@curling.sk | I39: Pavol Pitoňák | J39: predseda | K39: Pavel Kocian | L39: 421918824449 | M39: SK82 0200 0000 0017 0714 0853 | R39: =A39 -> 37841866
A40: 34009388 | B40: Slovenský cykloklub | C40: občianske združenie | D40: Námestie slobody 1716/6 | E40: Piešťany | F40: 921 01 | G40: www.cykloklub.sk | H40: office@cykloklub.sk | I40: Michal Hlatký | J40: predseda | K40: Michal Hlatký | L40: 421903996977 | M40: SK76 0200 0000 0014 3822 4951 | R40: =A40 -> 34009388
...

Sheet FP
A1: IČO | B1: Prijímateľ | C1: Predmet (názov, miesto, termín, parametre) | D1: Poskytnuté (eur) | E1: SF (%) | F1: Účel | G1: PPG | H1: B/K | I1: ico+ucel | J1: ico+ppg | K1: Šport | L1: ICO+PPG+BK | M1: Zoraď | N1: ico+ucel+B/K
A2: 30787009 | B2: =VLOOKUP(A2,Adr!A:B,2,FALSE) -> Slovenská asociácia amerického futbalu, o.z. | C2: americký futbal - bežné transfery | D2: 16924 | E2: 0 | F2: a | G2: 026 02 | H2: B | I2: =A2&F2 -> 30787009a | J2: =A2&G2 -> 30787009026 02 | K2: americký futbal | L2: =A2&G2&H2 -> 30787009026 02B | M2: =B2&F2&H2&C2 -> Slovenská asociácia amerického futbalu, o.z.aBamerický futbal - bežné transfery | N2: =+I2&H2 -> 30787009aB
A3: 00631655 | B3: =VLOOKUP(A3,Adr!A:B,2,FALSE) -> Slovenská asociácia boccie | C3: boccia - bežné transfery | D3: 15790 | E3: 0 | F3: a | G3: 026 02 | H3: B | I3: =A3&F3 -> 00631655a | J3: =A3&G3 -> 00631655026 02 | K3: boccia | L3: =A3&G3&H3 -> 00631655026 02B | M3: =B3&F3&H3&C3 -> Slovenská asociácia boccieaBboccia - bežné transfery | N3: =+I3&H3 -> 00631655aB
A4: 00631655 | B4: =VLOOKUP(A4,Adr!A:B,2,FALSE) -> Slovenská asociácia boccie | C4: boule lyonnaise - bežné transfery | D4: 15790 | E4: 0 | F4: a | G4: 026 02 | H4: B | I4: =A4&F4 -> 00631655a | J4: =A4&G4 -> 00631655026 02 | K4: boule lyonnaise | L4: =A4&G4&H4 -> 00631655026 02B | M4: =B4&F4&H4&C4 -> Slovenská asociácia boccieaBboule lyonnaise - bežné transfery | N4: =+I4&H4 -> 00631655aB
A5: 42019541 | B5: =VLOOKUP(A5,Adr!A:B,2,FALSE) -> Slovenská asociácia čínskeho wushu | C5: wushu - bežné transfery | D5: 24934 | E5: 0 | F5: a | G5: 026 02 | H5: B | I5: =A5&F5 -> 42019541a | J5: =A5&G5 -> 42019541026 02 | K5: wushu | L5: =A5&G5&H5 -> 42019541026 02B | M5: =B5&F5&H5&C5 -> Slovenská asociácia čínskeho wushuaBwushu - bežné transfery | N5: =+I5&H5 -> 42019541aB
A6: 30810108 | B6: =VLOOKUP(A6,Adr!A:B,2,FALSE) -> Slovenská Asociácia Dynamickej Streľby | C6: dynamická streľba - bežné transfery | D6: 23694 | E6: 0 | F6: a | G6: 026 02 | H6: B | I6: =A6&F6 -> 30810108a | J6: =A6&G6 -> 30810108026 02 | K6: dynamická streľba | L6: =A6&G6&H6 -> 30810108026 02B | M6: =B6&F6&H6&C6 -> Slovenská Asociácia Dynamickej StreľbyaBdynamická streľba - bežné transfery | N6: =+I6&H6 -> 30810108aB
A7: 30842069 | B7: =VLOOKUP(A7,Adr!A:B,2,FALSE) -> Slovenská asociácia fitnes, kulturistiky a silového trojboja | C7: fitnes a kulturistika - bežné transfery | D7: 411338 | E7: 0 | F7: a | G7: 026 02 | H7: B | I7: =A7&F7 -> 30842069a | J7: =A7&G7 -> 30842069026 02 | K7: fitnes a kulturistika | L7: =A7&G7&H7 -> 30842069026 02B | M7: =B7&F7&H7&C7 -> Slovenská asociácia fitnes, kulturistiky a silového trojbojaaBfitnes a kulturistika - bežné transfery | N7: =+I7&H7 -> 30842069aB
A8: 30842069 | B8: =VLOOKUP(A8,Adr!A:B,2,FALSE) -> Slovenská asociácia fitnes, kulturistiky a silového trojboja | C8: silové športy - bežné transfery | D8: 19710 | E8: 0 | F8: a | G8: 026 02 | H8: B | I8: =A8&F8 -> 30842069a | J8: =A8&G8 -> 30842069026 02 | K8: silové športy | L8: =A8&G8&H8 -> 30842069026 02B | M8: =B8&F8&H8&C8 -> Slovenská asociácia fitnes, kulturistiky a silového trojbojaaBsilové športy - bežné transfery | N8: =+I8&H8 -> 30842069aB
A9: 31749852 | B9: =VLOOKUP(A9,Adr!A:B,2,FALSE) -> Slovenská asociácia Frisbee | C9: športy s lietajúcim diskom - bežné transfery | D9: 56742 | E9: 0 | F9: a | G9: 026 02 | H9: B | I9: =A9&F9 -> 31749852a | J9: =A9&G9 -> 31749852026 02 | K9: športy s lietajúcim diskom | L9: =A9&G9&H9 -> 31749852026 02B | M9: =B9&F9&H9&C9 -> Slovenská asociácia FrisbeeaBšporty s lietajúcim diskom - bežné transfery | N9: =+I9&H9 -> 31749852aB
A10: 30844711 | B10: =VLOOKUP(A10,Adr!A:B,2,FALSE) -> Slovenská asociácia go | C10: go - bežné transfery | D10: 15790 | E10: 0 | F10: a | G10: 026 02 | H10: B | I10: =A10&F10 -> 30844711a | J10: =A10&G10 -> 30844711026 02 | K10: go | L10: =A10&G10&H10 -> 30844711026 02B | M10: =B10&F10&H10&C10 -> Slovenská asociácia goaBgo - bežné transfery | N10: =+I10&H10 -> 30844711aB
A11: 31940668 | B11: =VLOOKUP(A11,Adr!A:B,2,FALSE) -> Slovenská asociácia korfbalu | C11: korfbal - bežné transfery | D11: 24548 | E11: 0 | F11: a | G11: 026 02 | H11: B | I11: =A11&F11 -> 31940668a | J11: =A11&G11 -> 31940668026 02 | K11: korfbal | L11: =A11&G11&H11 -> 31940668026 02B | M11: =B11&F11&H11&C11 -> Slovenská asociácia korfbaluaBkorfbal - bežné transfery | N11: =+I11&H11 -> 31940668aB
A12: 31824021 | B12: =VLOOKUP(A12,Adr!A:B,2,FALSE) -> Slovenská asociácia motoristického športu | C12: automobilový šport - bežné transfery | D12: 297898 | E12: 0 | F12: a | G12: 026 02 | H12: B | I12: =A12&F12 -> 31824021a | J12: =A12&G12 -> 31824021026 02 | K12: automobilový šport | L12: =A12&G12&H12 -> 31824021026 02B | M12: =B12&F12&H12&C12 -> Slovenská asociácia motoristického športuaBautomobilový šport - bežné transfery | N12: =+I12&H12 -> 31824021aB
A13: 31824021 | B13: =VLOOKUP(A13,Adr!A:B,2,FALSE) -> Slovenská asociácia motoristického športu | C13: automobilový šport - kapitálové transfery | D13: 21500 | E13: 0 | F13: a | G13: 026 02 | H13: K | I13: =A13&F13 -> 31824021a | J13: =A13&G13 -> 31824021026 02 | K13: automobilový šport | L13: =A13&G13&H13 -> 31824021026 02K | M13: =B13&F13&H13&C13 -> Slovenská asociácia motoristického športuaKautomobilový šport - kapitálové transfery | N13: =+I13&H13 -> 31824021aK
... A95: 50671669 | B95: =VLOOKUP(A95,Adr!A:B,2,FALSE) -> Zväz slovenského lyžovania | C95: lyžovanie - kapitálové transfery | D95: 100000 | E95: 0 | F95: a | G95: 026 02 | H95: K | I95: =A95&F95 -> 50671669a | J95: =A95&G95 -> 50671669026 02 | K95: lyžovanie | L95: =A95&G95&H95 -> 50671669026 02K | M95: =B95&F95&H95&C95 -> Zväz slovenského lyžovaniaaKlyžovanie - kapitálové transfery | N95: =+I95&H95 -> 50671669aK
B96: =VLOOKUP(A96,Adr!A:B,2,FALSE) -> #N/A | I96: =A96&F96 | J96: =A96&G96 | L96: =A96&G96&H96 | M96: =B96&F96&H96&C96 -> #N/A | N96: =+I96&H96
B97: =VLOOKUP(A97,Adr!A:B,2,FALSE) -> #N/A | I97: =A97&F97 | J97: =A97&G97 | L97: =A97&G97&H97 | M97: =B97&F97&H97&C97 -> #N/A | N97: =+I97&H97
B98: =VLOOKUP(A98,Adr!A:B,2,FALSE) -> #N/A | I98: =A98&F98 | J98: =A98&G98 | L98: =A98&G98&H98 | M98: =B98&F98&H98&C98 -> #N/A | N98: =+I98&H98
B99: =VLOOKUP(A99,Adr!A:B,2,FALSE) -> #N/A | I99: =A99&F99 | J99: =A99&G99 | L99: =A99&G99&H99 | M99: =B99&F99&H99&C99 -> #N/A | N99: =+I99&H99
B100: =VLOOKUP(A100,Adr!A:B,2,FALSE) -> #N/A | I100: =A100&F100 | J100: =A100&G100 | L100: =A100&G100&H100 | M100: =B100&F100&H100&C100 -> #N/A | N100: =+I100&H100
B101: =VLOOKUP(A101,Adr!A:B,2,FALSE) -> #N/A | I101: =A101&F101 | J101: =A101&G101 | L101: =A101&G101&H101 | M101: =B101&F101&H101&C101 -> #N/A | N101: =+I101&H101
B102: =VLOOKUP(A102,Adr!A:B,2,FALSE) -> #N/A | I102: =A102&F102 | J102: =A102&G102 | L102: =A102&G102&H102 | M102: =B102&F102&H102&C102 -> #N/A | N102: =+I102&H102
B103: =VLOOKUP(A103,Adr!A:B,2,FALSE) -> #N/A | I103: =A103&F103 | J103: =A103&G103 | L103: =A103&G103&H103 | M103: =B103&F103&H103&C103 -> #N/A | N103: =+I103&H103
B104: =VLOOKUP(A104,Adr!A:B,2,FALSE) -> #N/A | I104: =A104&F104 | J104: =A104&G104 | L104: =A104&G104&H104 | M104: =B104&F104&H104&C104 -> #N/A | N104: =+I104&H104
B105: =VLOOKUP(A105,Adr!A:B,2,FALSE) -> #N/A | I105: =A105&F105 | J105: =A105&G105 | L105: =A105&G105&H105 | M105: =B105&F105&H105&C105 -> #N/A | N105: =+I105&H105
B106: =VLOOKUP(A106,Adr!A:B,2,FALSE) -> #N/A | I106: =A106&F106 | J106: =A106&G106 | L106: =A106&G106&H106 | M106: =B106&F106&H106&C106 -> #N/A | N106: =+I106&H106
B107: =VLOOKUP(A107,Adr!A:B,2,FALSE) -> #N/A | I107: =A107&F107 | J107: =A107&G107 | L107: =A107&G107&H107 | M107: =B107&F107&H107&C107 -> #N/A | N107: =+I107&H107
... B452: =VLOOKUP(A452,Adr!A:B,2,FALSE) -> #N/A | I452: =A452&F452 | J452: =A452&G452 | L452: =A452&G452&H452 | M452: =B452&F452&H452&C452 -> #N/A | N452: =+I452&H452
B453: =VLOOKUP(A453,Adr!A:B,2,FALSE) -> #N/A | I453: =A453&F453 | J453: =A453&G453 | L453: =A453&G453&H453 | M453: =B453&F453&H453&C453 -> #N/A
B454: =VLOOKUP(A454,Adr!A:B,2,FALSE) -> #N/A | I454: =A454&F454 | J454: =A454&G454 | L454: =A454&G454&H454 | M454: =B454&F454&H454&C454 -> #N/A | N454: =+I454&H454
B455: =VLOOKUP(A455,Adr!A:B,2,FALSE) -> #N/A | I455: =A455&F455 | J455: =A455&G455 | L455: =A455&G455&H455 | M455: =B455&F455&H455&C455 -> #N/A | N455: =+I455&H455
B456: =VLOOKUP(A456,Adr!A:B,2,FALSE) -> #N/A | I456: =A456&F456 | J456: =A456&G456 | L456: =A456&G456&H456 | M456: =B456&F456&H456&C456 -> #N/A | N456: =+I456&H456
B457: =VLOOKUP(A457,Adr!A:B,2,FALSE) -> #N/A | I457: =A457&F457 | J457: =A457&G457 | L457: =A457&G457&H457 | M457: =B457&F457&H457&C457 -> #N/A | N457: =+I457&H457
B458: =VLOOKUP(A458,Adr!A:B,2,FALSE) -> #N/A | I458: =A458&F458 | J458: =A458&G458 | L458: =A458&G458&H458 | M458: =B458&F458&H458&C458 -> #N/A | N458: =+I458&H458
B459: =VLOOKUP(A459,Adr!A:B,2,FALSE) -> #N/A | I459: =A459&F459 | J459: =A459&G459 | L459: =A459&G459&H459 | M459: =B459&F459&H459&C459 -> #N/A | N459: =+I459&H459
