Workbook

Sheet Usmernenie
A1: Usmernenie k priebežnému čerpaniu a vyúčtovaniu finančných prostriedkov poskytnutých v roku 2025
A3: ZÁKLADNÉ POKYNY
A4: 1. Vložiť údaje do hárkov "Príjmy" a "Doklady".
A5: 2. Skontrolovať hárky "Doklady" a "Spolu".
A6: 3. Vyplniť hárok "Avízo - vratka" (len Prijímatelia, ktorí nevyčerpali celú sumu). V prípade vratky menšej ako 5 € (vrátane) za všetky účely spolu prijímateľ nevracia finančné prostriedky.
A7: 4. Po kontrole odoslať elektronickú verziu formuláru na adresu ziadosti.sport@mincrs.sk.
A8: 5. Vytlačiť hárky "Spolu", "Doklady", v prípade nevyčerpaných finančných prostriedkov aj vyplnený hárok "Avízo - vratka".
A9: 6. Dopísať do hárku "Spolu" dátum a čas odoslania elektronickej verzie formuláru vyúčtovania.
A10: 7. Podpísať hárok "Spolu" prípadne hárok "Avízo - vratka" štatutárnym zástupcom/zástupcami.
A11: 8. Odoslať vyúčtovanie - hárok "Doklady", hárok "Spolu" prípadne hárok "Avízo - vratka" v listinnej podobe na adresu: Ministerstvo cestovného ruchu a športu SR, sekcia financovania športu a štátnej športovej politiky, Pribinova 32, 810 08 Bratislava .
A12: Pri vypĺňaní odporúčame použiť hárok „Príklady“, v ktorom je uvedený spôsob uvádzania niektorých druhov výdavkov.
A14: Dôrazne žiadame hárky nezabezpečovať heslom!
... A137: Upozornenie: Vo formulári na vyúčtovanie príspevku uznanému športu sú zapracované ustanovenia zákona o športe, podľa ktorých v roku, v ktorom bola vyhlásená krízová situácia a trvala viac ako 30 dní, sa ustanovenia § 69 ods. 4 zákona o športe nepoužijú a ustanovenia zmluvy o poskytnutí príspevku uznanému športu, ktoré sa týkajú rozdelenia finančných prostriedkov podľa § 69 ods. 4, sa v príslušnom kalendárnom roku nebudú uplatňovať. Zaradenie výdavkov do jednotlivých analytických kódov, aj keď má v takom prípade len informatívny charakter, je však potrebné vyplniť.

Sheet Príklady
A1: Príklady vyplnenia formulára
A2: Priebežné čerpanie finančných prostriedkov poskytnutých zo štátneho rozpočtu v oblasti športu v roku 2025 | H2: =+Doklady!I100 -> V4
H3: =+Doklady!I101 -> 45961
A4: Prijímateľ dotácie: | B4: Slovenský zväz skúšobný
A7: Účel úhrady (vyberte zo zoznamu, inak automatické vyhodnocovanie nebude fungovať) | B7: Interné číslo účtovného dokladu | C7: Číslo externého (originálneho) účtovného dokladu | D7: Dátum skutočnej úhrady účtovného dokladu | E7: Popis úhrady (vyberte z rozbaľovacieho zoznamu, alebo zadajte voľný text) | F7: IČO dodávateľa plnenia | G7: Dodávateľ plnenia | H7: Skutočne uhradená suma (eur) | I7: AK
A8: a - kriket - bežné výdavky | D8: 45779 | E8: Organizovanie podujatia Názov podujatia: Svetový pohár v skúškach Miesto konania: Brezno Termín: 15. - 18.4.2025 Počet zúčastnených osôb (okrem divákov): 20
A9: a - kriket - bežné výdavky | B9: 123/2025 | C9: CP14-110 | D9: 45780 | E9: počet odpracovaných hodín spolu: 100 hrubé mzdy vyplatené osobám v súvislosti s podujatím vrátane odvodov zamestnávateľa spolu (dohody, zmluvy, faktúry, a pod.) v eur | G9: osoba 1 - osoba 20 | H9: 400 | I9: 3
A10: a - kriket - bežné výdavky | B10: 124/2025 | C10: DF 24 | D10: 45781 | E10: náklady na ubytovanie 10 športovcov + 1 tréner | G10: Chata Breznovčan | I10: 3
A11: a - kriket - bežné výdavky | B11: 100/2025 | C11: 3020 | D11: 45782 | E11: grafické práce na výrobe loga podujatia | G11: Anna Malá - PROMOTION, s.r.o. | H11: 100 | I11: 3
A12: a - kriket - bežné výdavky | B12: 121/2025 | C12: 100002352 | D12: 45783 | E12: cestovné - vlak - Bratislava - Brezno, 16 osôb | G12: Ján Rýchly | H12: 50 | I12: 3
A13: a - kriket - bežné výdavky | B13: 125/2024 | C13: DF 26 | D13: 45784 | E13: stravovanie 20 osôb | G13: Reštaurácia "U vodníka", Brezno | H13: 200 | I13: 3
A14: a - kriket - bežné výdavky | B14: 126/2024 | C14: DF 29 | D14: 45785 | E14: prenájom plavárne | G14: STARZ, Bratislava | I14: 3
A15: a - kriket - bežné výdavky | B15: 128/2024 | C15: DF 30 | D15: 45786 | E15: nákup športového oblečenia - 15 ks | G15: Adidas, Brezno | H15: 505 | I15: 3
A16: a - kriket - bežné výdavky | D16: 45787 | E16: Pracovná cesta Názov: Majstrovstvá V4 v skúškach Termín: 3.9.2024 Miesto - mesto a štát: Varšava, Poľsko Spôsob dopravy: letecky/BUS Počet všetkých osôb na pracovnej ceste: 6, z toho: - športovci (+ navádzači): 1 - tréneri + rozhodcovia + vedúci výpravy + lekár + fyzioterapeut + masér + ): 1 - ostatné osoby (napr. sponzori, hostia): 4
A17: a - kriket - bežné výdavky | B17: 270/2024 | C17: 3252514 | D17: 45788 | E17: nákup leteniek - 6 ks | G17: Czech Airlines | I17: 2
A18: a - kriket - bežné výdavky | B18: 274/2024 | C18: D/258/2020 | D18: 45789 | E18: materiálové zabezpečenie pretekov - nákup 4 pušiek | G18: Puškárstvo - Ernest Bezaj, Malinovo | I18: 2
A19: a - kriket - bežné výdavky | B19: 275/2024 | C19: DF 32 | D19: 45790 | E19: občerstvenie - 6 osôb | G19: Messing Catering, s.r.o., Rovinka | H19: 1000 | I19: 2
A20: a - kriket - bežné výdavky | B20: 280/2024 | C20: DF 33 | D20: 45791 | E20: ubytovanie - 2 osoby | G20: Jozef Karát - privát, Šaľa | H20: 300 | I20: 2
A21: a - kriket - bežné výdavky | B21: 190/2024 | C21: DF50 | D21: 45792 | E21: prenájom miestnosti | G21: Double Tree Hotel, Bratislava | H21: 600 | I21: 2
A22: a - kriket - bežné výdavky | B22: 250/2024 | C22: 999 | D22: 45793 | E22: cestovné - Cerová - Trnava a späť, 3.9.2024, 2 osoby | G22: Železničná spoločnosť, a.s., Slovensko | H22: 25.9 | I22: 2
A23: a - kriket - bežné výdavky | B23: 251/2024 | C23: 258963 | D23: 45794 | E23: vecné ceny - poháre 3 ks | G23: Victory sport, s.r.o. | I23: 2
A24: a - kriket - bežné výdavky | D24: 45795 | E24: Ostatné
A25: a - kriket - bežné výdavky | B25: 256 | C25: 20 | D25: 45700 | E25: zdravotné služby - Veľká cena Slovenska, Žilina, 1.1.2025 - 2.1.2025 | G25: DZS OPTIMUS, s.r.o. | H25: 200 | I25: 5
A26: a - kriket - bežné výdavky | B26: P1/V/316 | C26: P1/V/316 | D26: 45796 | E26: Hrubé mzdy vyplatené osobám (zamestnancom) vrátane odvodov zamestnávateľa za rok 2024 počet fyzických osôb: 5 | G26: osoba 1, osoba 4 - 7 | I26: 4
A27: a - kriket - bežné výdavky | B27: J/2024-20 | C27: 258 | D27: 45797 | E27: doplnky výživy - 21 športovcov | G27: Lekáreň Kozia, Bratislava | H27: 124 | I27: 2
A28: a - kriket - bežné výdavky | B28: DF2024/326 | C28: 1213275 | D28: 45798 | E28: oprava športtesteru | G28: TOP TREND Patrik Valo | H28: 19.1 | I28: 2
A29: a - kriket - bežné výdavky | B29: DF2024/193 | C29: 2007006035 | D29: 45799 | E29: havarijné poistenie 1-3/2021, EČV BA 258 KK | G29: Uniqa poisťovňa, a.s. | H29: 277.74 | I29: 4
A30: a - kriket - bežné výdavky | B30: 45627 | C30: 258 | D30: 45800 | E30: diaľničná nálepka na rok 2024 | G30: OMV, s.r.o. | H30: 50 | I30: 4
A31: a - kriket - bežné výdavky | B31: 199/2024 | C31: 32 | D31: 45801 | E31: poštovné | G31: Slovenská pošta, a.s. | H31: 9 | I31: 4
A32: a - kriket - bežné výdavky | B32: 45413 | C32: 3 | D32: 45802 | E32: nájom kancelárskych priestorov 2/2024 | G32: Slovenské združenie telesnej kultúry | H32: 10 | I32: 4
A33: a - kriket - bežné výdavky | B33: P1/V/259 | C33: 20123698752 | D33: 45803 | E33: regenerácia, 8 športovcov, 8/2024 | G33: SPORTMEDICAL s.r.o., Bratislava | H33: 500 | I33: 1
A34: a - kriket - bežné výdavky | B34: 235/2024 | C34: 40010 | D34: 45804 | E34: nákup materiálu - reprezentačná vlajka 1 ks | G34: ADAT, s.r.o. | H34: 71.2 | I34: 3
A35: a - kriket - bežné výdavky | B35: 206/2024 | C35: DF100/9/2020 | D35: 45805 | E35: refundácia nákladov na základe zmluvy pre CTM Žilina: Okresné kolo v skúškach, 7.8.2024, Žilina, 43 osôb, z toho: 37 športovcov, 1 tréner, 1 strážna služba, 1 masér, 3 technickí pracovníci, úhrada nákladov za stravovanie | G35: Prestige catering, s.r.o. | H35: 250 | I35: 1
A36: a - kriket - bežné výdavky | B36: 207/2024 | C36: DF500 | D36: 45806 | E36: prenájom plavárne, 4 dráhy, 8 hodín | G36: Mesto Žilina | H36: 320 | I36: 5
A37: a - kriket - bežné výdavky | B37: 305/2024 | C37: 14 | D37: 45807 | E37: upratovacie služby 5/2024 | G37: Boris Dubaj - živnostník | H37: 40 | I37: 4
A38: a - kriket - bežné výdavky | B38: 45292 | C38: V-2020-3 | D38: 45808 | E38: bankové poplatky | G38: SLSP, a.s. | H38: 25 | I38: 4
A39: a - kriket - bežné výdavky | B39: 45352 | C39: 980 | D39: 45809 | E39: poplatok medzinárodnej federácii za rok 2024 | G39: Internationale Asociation ..... | H39: 150 | I39: 4
A40: a - kriket - bežné výdavky | B40: 45383 | C40: 5 | D40: 45810 | E40: členský poplatok za rok 2024 | G40: Konfederácia športových zväzov | H40: 100 | I40: 4
A41: a - kriket - bežné výdavky | B41: 301/2024 | C41: 78954787 | D41: 45811 | E41: prenájom optického kábla 3/2024 | G41: e-Net, s.r.o. | H41: 74.1 | I41: 4
A42: a - kriket - bežné výdavky | B42: 330/2024 | C42: FD52 | D42: 45812 | E42: poplatky za telefón, 7/2024 | G42: Slovak telekom, a.s. | H42: 120 | I42: 2
...

Sheet Príjmy
A1: Aktualizovaná suma prostriedkov poskytnutých ministerstvom k dátumu | C1: 45688 | G1: 45688
G2: 45716
A3: Prijímateľ | B3: =INDEX(Adr!B:B,Doklady!B102+1) -> Slovenský bridžový zväz | G3: 45747
A4: IČO: | B4: =RIGHT("0000"&INDEX(Adr!A:A,Doklady!B102+1),8) -> 31770908 | G4: 45777
A5: Sídlo: | B5: =INDEX(Adr!D:D,Doklady!B102+1)&", "&INDEX(Adr!E:E,Doklady!B102+1) -> Pluhová 1662, Rovinka | G5: 45808
G6: 45838
G7: 45869
G8: 45900
A9: PPG | B9: PPG | C9: Poskytnuté prostriedky | G9: 45930
A10: 026 01 | B10: Šport pre všetkých, školský a univerzitný šport | C10: =+Spolu!C10 -> 0 | G10: 45961
A11: 026 02 | B11: Uznané športy | C11: =+Spolu!C11 -> 19239 | G11: 45991
A12: 026 03 | B12: Národné športové projekty | C12: 0 | G12: 46022
A13: 026 04 | B13: Športová infraštruktúra | C13: =+Spolu!C13 -> 0
A14: 026 05 | B14: Prierezové činnosti v športe | C14: =+Spolu!C14 -> 0
A15: SPOLU | C15: =SUM(C10:C14) -> 19239
A17: Prijímateľ prostriedkov zo štátneho rozpočtu je povinný priebežne zverejňovať informácie o prijatí a spôsobe ich použitia najneskôr do 25. dňa kalendárneho mesiaca nasledujúceho po kalendárnom mesiaci, v ktorom boli prijaté alebo použité ( § 65, ods. 6 zákona č. 440/2015 Z. z. o športe a o zmene a doplnení niektorých zákonov v znení neskorších predpisov).
A61: 15

Sheet Spolu
A1: Priebežné čerpanie a vyúčtovanie finančných prostriedkov poskytnutých zo štátneho rozpočtu v oblasti športu v roku 2025
B3: Prijímateľ dotácie: | C3: =INDEX(Adr!B2:B244,Doklady!B102) -> Slovenský bridžový zväz | I3: =Doklady!I100 -> V4
B4: IČO: | C4: =INDEX(Adr!A2:A244,Doklady!B102) -> 31770908 | I4: =Doklady!I101 -> 45961
B5: Právna forma: | C5: =INDEX(Adr!C2:C244,Doklady!B102) -> občianske združenie
B6: Sídlo: | C6: =INDEX(Adr!D2:D244,Doklady!B102)&", "&INDEX(Adr!E2:E244,Doklady!B102)&", "&INDEX(Adr!F2:F244,Doklady!B102) -> Pluhová 1662, Rovinka, 900 41
A9: PPG | B9: Podprogram | C9: Poskytnuté (eur) | D9: Vyúčtované (eur) | E9: Povinnosť vrátiť (eur)
A10: 026 01 | B10: Šport pre všetkých, školský a univerzitný šport | C10: =SUMIF(FP!J:J,Doklady!$B$1&A10,FP!D:D) -> 0 | D10: =C10-E10 -> 0 | E10: =SUMIF(K:K,A10,I:I) -> 0 | L10: AAA
A11: 026 02 | B11: Uznané športy | C11: =SUMIF(FP!J:J,Doklady!$B$1&A11,FP!D:D) -> 19239 | D11: =+C11-E11 -> 19239 | E11: =+I39-I42+I44-I47 -> 0 | L11: =L41 -> a - bridž - bežné transfery
A12: 026 03 | B12: Národné športové projekty | C12: =SUMIF(FP!J:J,Doklady!$B$1&A12,FP!D:D) -> 0 | D12: =C12-E12 -> 0 | E12: =SUMIF(K:K,A12,I:I) -> 0 | L12: =L42 -> a - bridž - kapitálové transfery
A13: 026 04 | B13: Športová infraštruktúra | C13: =SUMIF(FP!J:J,Doklady!$B$1&A13,FP!D:D) -> 0 | D13: =C13-E13 -> 0 | E13: =SUMIF(K:K,A13,I:I) -> 0 | L13: =L46 -> 2
A14: 026 05 | B14: Prierezové činnosti v športe | C14: =SUMIF(FP!J:J,Doklady!$B$1&A14,FP!D:D) -> 0 | D14: =C14-E14 -> 0 | E14: =SUMIF(K:K,A14,I:I) -> 0 | L14: =L47 -> 2
A16: Účel | B16: Názov | I16: Suma
A17: a | B17: príspevok uznaným športom | I17: =SUMIF(FP!I:I,Doklady!$B$1&A17,FP!D:D) -> 19239
A18: b | B18: príspevok Slovenskému olympijskému a športovému výboru | I18: =SUMIF(FP!I:I,Doklady!$B$1&A18,FP!D:D) -> 0
A19: c | B19: príspevok Slovenskému paralympijskému výboru | I19: =SUMIF(FP!I:I,Doklady!$B$1&A19,FP!D:D) -> 0
A20: d | B20: príspevok športovcom top tímu | I20: =SUMIF(FP!I:I,Doklady!$B$1&A20,FP!D:D) -> 0
A21: e | B21: organizácia významnej súťaže alebo účasť na významnej súťaži podľa § 3 písm. h) vrátane prípravy na túto súťaž | I21: =SUMIF(FP!I:I,Doklady!$B$1&A21,FP!D:D) -> 0
A22: f | B22: plnenie úloh verejného záujmu v športe | I22: =SUMIF(FP!I:I,Doklady!$B$1&A22,FP!D:D) -> 0
A23: g | B23: rozvoj športov, ktoré nie sú uznanými podľa zákona č. 440/2015 Z. z. | I23: =SUMIF(FP!I:I,Doklady!$B$1&A23,FP!D:D) -> 0
A24: h | B24: podpora a rozvoj turistických a cykloturistických trás | I24: =SUMIF(FP!I:I,Doklady!$B$1&A24,FP!D:D) -> 0
A25: i | B25: podpora národného projektu športu pre všetkých so zameraním na mládež | I25: =SUMIF(FP!I:I,Doklady!$B$1&A25,FP!D:D) -> 0
A26: j | B26: projekty školského športu, univerzitného športu a športu pre všetkých | I26: =SUMIF(FP!I:I,Doklady!$B$1&A26,FP!D:D) -> 0
A27: k | B27: výstavba, modernizácia a rekonštrukcia športovej infraštruktúry národného významu | I27: =SUMIF(FP!I:I,Doklady!$B$1&A27,FP!D:D) -> 0
A28: l | B28: športové pohybové tábory pre mládež | I28: =SUMIF(FP!I:I,Doklady!$B$1&A28,FP!D:D) -> 0
A29: m | B29: organizácia tradičných športových podujatí | I29: =SUMIF(FP!I:I,Doklady!$B$1&A29,FP!D:D) -> 0
A30: n | I30: =SUMIF(FP!I:I,Doklady!$B$1&A30,FP!D:D) -> 0
A31: o | I31: =SUMIF(FP!I:I,Doklady!$B$1&A31,FP!D:D) -> 0
A32: p | I32: =SUMIF(FP!I:I,Doklady!$B$1&A32,FP!D:D) -> 0
A33: q | I33: =SUMIF(FP!I:I,Doklady!$B$1&A33,FP!D:D) -> 0
A34: r | I34: =SUMIF(FP!I:I,Doklady!$B$1&A34,FP!D:D) -> 0
A36: Použitie príspevku uznanému športu | C36: 1 | D36: 2 | E36: 3 | F36: 4 | G36: 5 | H36: 5
A38: Účel | B38: ="Šport "&K40 -> Šport bridž | C38: mládež 23 MIN.20% | D38: talenty MIN.20% | E38: reprezentácia MIN.25% | F38: prevádzka MAX.15% | G38: ostatné úlohy | H38: kapitálové transfery z PUŠ | I38: SPOLU | L38: =COUNTIF(FP!N:N,Doklady!B1&"aB") -> 1
A39: a | B39: Poskytnutý príspevok uznanému športu | C39: =I39*0.2 -> 3847.8 | D39: =I39*0.2 -> 3847.8 | E39: =I39*0.25 -> 4809.75 | F39: =+I39*0.15 -> 2885.85 | G39: =+MAX(I39-C39-D39-E39-F39-H39,0) -> 3847.8 | H39: =+IFERROR(VLOOKUP(K40&" - kapitálové transfery",B$53:C$90,2,0),0) -> 0 | I39: =SUMIF(FP!K:K,K40,FP!D:D) -> 19239 | L39: =COUNTIF(FP!N:N,Doklady!B1&"aK") -> 0
A40: a | B40: Vyúčtovaný príspevok uznanému športu | C40: =DSUM(Doklady!A103:J10000,"GGG",Spolu!L40:M42) -> 4333.42 | D40: =DSUM(Doklady!A103:J10000,"GGG",Spolu!N40:O42) -> 3952.24 | E40: =DSUM(Doklady!A103:J10000,"GGG",Spolu!P40:Q42) -> 5989.03 | F40: =DSUM(Doklady!A103:J10000,"GGG",Spolu!R40:S42) -> 341.1 | G40: =DSUM(Doklady!A103:J10000,"GGG",Spolu!T40:U42)-H40 -> 4623.21 | H40: =+IFERROR(VLOOKUP(K40&" - kapitálové transfery",B$53:D$90,3,0),0) -> 0 | I40: =+C40+D40+E40+F40+G40+H40 -> 19239 | J40: =+K45 -> . | K40: =IF(L38>0,INDEX(FP!K:K,Doklady!B2),".") -> bridž | L40: AAA | M40: HHH | N40: AAA | O40: HHH | P40: AAA | Q40: HHH | R40: AAA | S40: HHH | T40: AAA | U40: HHH
A41: a | B41: ROZDIEL | C41: =MAX(C39-C40,0) -> 0 | D41: =MAX(D39-D40,0) -> 0 | E41: =MAX(E39-E40,0) -> 0 | F41: =MIN(I39,MAX(-F39+F40,0)) -> 0 | G41: =MIN(J39,MAX(-G39+G40+MIN(F40-F39,0),0)) -> 0 | H41: =MAX(H39-H40,0) -> 0 | I41: =+I39-I42 -> 0 | J41: =+K46 -> 0 | K41: =+I41-H41 -> 0 | L41: =IF(L38>0,"a - "&INDEX(FP!C:C,Doklady!B2),2) -> a - bridž - bežné transfery | M41: 1 | N41: =+L41 -> a - bridž - bežné transfery | O41: 2 | P41: =+L41 -> a - bridž - bežné transfery | Q41: 3 | R41: =+L41 -> a - bridž - bežné transfery | S41: 4 | T41: =+L41 -> a - bridž - bežné transfery | U41: 5
A42: a | B42: Uznaná suma vyúčtovaných FP | C42: =+C40 -> 4333.42 | D42: =+D40 -> 3952.24 | E42: =+E40 -> 5989.03 | F42: =+MIN(F39:F40) -> 341.1 | G42: =+MIN(G39+MAX(F39-F40,0)-MAX(E40-E39,0)-MAX(D40-D39,0)-MAX(C40-C39,0),G40) -> 4623.21 | H42: =+MIN(H39:H40) -> 0 | I42: =+C42+D42+E42+MIN(F39:F40)+G42+H42 -> 19239 | J42: =+K47 -> 0 | K42: =+I42-H42 -> 19239 | L42: =+SUBSTITUTE(L41,"bežné","kapitálové") -> a - bridž - kapitálové transfery | M42: 1 | N42: =+L42 -> a - bridž - kapitálové transfery | O42: 2 | P42: =+L42 -> a - bridž - kapitálové transfery | Q42: 3 | R42: =+L42 -> a - bridž - kapitálové transfery | S42: 4 | T42: =+L42 -> a - bridž - kapitálové transfery | U42: 5
A43: Účel | B43: =IF(L38>2,"Šport "&INDEX(FP!K:K,Doklady!B2+2),"Šport "&K45) -> Šport . | C43: mládež 23 MIN.20% | D43: talenty MIN.20% | E43: reprezentácia MIN.25% | F43: prevádzka MAX.15% | G43: ostatné úlohy | H43: kapitálové transfery z PUŠ | I43: SPOLU | L43: =L38-1 -> 0
A44: a | B44: Poskytnutý príspevok uznanému športu | C44: =I44*0.2 -> 0 | D44: =I44*0.2 -> 0 | E44: =I44*0.25 -> 0 | F44: =+I44*0.15 -> 0 | G44: =+MAX(I44-C44-D44-E44-F44-H44,0) -> 0 | H44: =+IFERROR(VLOOKUP(K45&" - kapitálové transfery",B$53:C$90,2,0),0) -> 0 | I44: =SUMIF(FP!K:K,K45,FP!D:D) -> 0
A45: a | B45: Vyúčtovaný príspevok uznanému športu | C45: =DSUM(Doklady!A103:J10000,"GGG",Spolu!L45:M47) -> 0 | D45: =DSUM(Doklady!A103:J10000,"GGG",Spolu!N45:O47) -> 0 | E45: =DSUM(Doklady!A103:J10000,"GGG",Spolu!P45:Q47) -> 0 | F45: =DSUM(Doklady!A103:J10000,"GGG",Spolu!R45:S47) -> 0 | G45: =DSUM(Doklady!A103:J10000,"GGG",Spolu!T45:U47)-H45 -> 0 | H45: =+IFERROR(VLOOKUP(K45&" - kapitálové transfery",B$53:D$90,3,0),0) -> 0 | I45: =+C45+D45+E45+F45+G45+H45 -> 0 | K45: =IF(L38>1,INDEX(FP!K:K,Doklady!B2+1),".") -> . | L45: AAA | M45: HHH | N45: AAA | O45: HHH | P45: AAA | Q45: HHH | R45: AAA | S45: HHH | T45: AAA | U45: HHH
A46: a | B46: ROZDIEL | C46: =MAX(C44-C45,0) -> 0 | D46: =MAX(D44-D45,0) -> 0 | E46: =MAX(E44-E45,0) -> 0 | F46: =MIN(I44,MAX(-F44+F45,0)) -> 0 | G46: =MIN(J44,MAX(-G44+G45+MIN(F45-F44,0),0)) -> 0 | H46: =MAX(H44-H45,0) -> 0 | I46: =+I44-I47 -> 0 | K46: =+I46-H46 -> 0 | L46: =IF(L43>0,"a - "&INDEX(FP!C:C,Doklady!B2+1),2) -> 2 | M46: 1 | N46: =+L46 -> 2 | O46: 2 | P46: =+L46 -> 2 | Q46: 3 | R46: =+L46 -> 2 | S46: 4 | T46: =+L46 -> 2 | U46: 5
...

Sheet Doklady
A1: =IF(ROW()<=B$3,INDEX(FP!F:F,B$2+ROW()-1)&" - "&INDEX(FP!C:C,B$2+ROW()-1),"") -> a - bridž - bežné transfery | B1: =INDEX(Adr!A:A,B102+1) -> 31770908 | C1: =IF(ROW()<=B$3,INDEX(FP!E:E,B$2+ROW()-1),"") -> 0 | D1: =IF(ROW()<=B$3,INDEX(FP!F:F,B$2+ROW()-1),"") -> a | F1: =IF(ROW()<=B$3,INDEX(FP!G:G,B$2+ROW()-1),"") -> 026 02 | H1: =IF(ROW()<=B$3,INDEX(FP!C:C,B$2+ROW()-1),"") -> bridž - bežné transfery | I1: =IF(ROW()<=B$3,SUMIF(A$107:A$10042,A1,I$107:I$10042),"") -> 19239 | J1: =IF(ROW()<=B$3,SUMIFS(I$103:I$50042,A$103:A$50042,K1,J$103:J$50042,L1),"") -> 0 | K1: =$A1 -> a - bridž - bežné transfery | L1: 99
A2: =IF(ROW()<=B$3,INDEX(FP!F:F,B$2+ROW()-1)&" - "&INDEX(FP!C:C,B$2+ROW()-1),"") | B2: =MATCH(B1,FP!A:A,0) -> 245 | C2: =IF(ROW()<=B$3,INDEX(FP!E:E,B$2+ROW()-1),"") | D2: =IF(ROW()<=B$3,INDEX(FP!F:F,B$2+ROW()-1),"") | F2: =IF(ROW()<=B$3,INDEX(FP!G:G,B$2+ROW()-1),"") | H2: =IF(ROW()<=B$3,INDEX(FP!C:C,B$2+ROW()-1),"") | I2: =IF(ROW()<=B$3,SUMIF(A$107:A$10042,A2,I$107:I$10042),"") | J2: =IF(ROW()<=B$3,SUMIFS(I$103:I$50042,A$103:A$50042,K2,J$103:J$50042,L2),"") | K2: =$A2 | L2: 99 | M2: AAA | N2: HHH
A3: =IF(ROW()<=B$3,INDEX(FP!F:F,B$2+ROW()-1)&" - "&INDEX(FP!C:C,B$2+ROW()-1),"") | B3: =COUNTIF(FP!A:A,Doklady!B1) -> 1 | C3: =IF(ROW()<=B$3,INDEX(FP!E:E,B$2+ROW()-1),"") | D3: =IF(ROW()<=B$3,INDEX(FP!F:F,B$2+ROW()-1),"") | F3: =IF(ROW()<=B$3,INDEX(FP!G:G,B$2+ROW()-1),"") | H3: =IF(ROW()<=B$3,INDEX(FP!C:C,B$2+ROW()-1),"") | I3: =IF(ROW()<=B$3,SUMIF(A$107:A$10042,A3,I$107:I$10042),"") | J3: =IF(ROW()<=B$3,SUMIFS(I$103:I$50042,A$103:A$50042,K3,J$103:J$50042,L3),"") | K3: =$A3 | L3: 99 | M3: =$A2 | N3: 99
A4: =IF(ROW()<=B$3,INDEX(FP!F:F,B$2+ROW()-1)&" - "&INDEX(FP!C:C,B$2+ROW()-1),"") | C4: =IF(ROW()<=B$3,INDEX(FP!E:E,B$2+ROW()-1),"") | D4: =IF(ROW()<=B$3,INDEX(FP!F:F,B$2+ROW()-1),"") | F4: =IF(ROW()<=B$3,INDEX(FP!G:G,B$2+ROW()-1),"") | H4: =IF(ROW()<=B$3,INDEX(FP!C:C,B$2+ROW()-1),"") | I4: =IF(ROW()<=B$3,SUMIF(A$107:A$10042,A4,I$107:I$10042),"") | J4: =IF(ROW()<=B$3,SUMIFS(I$103:I$50042,A$103:A$50042,K4,J$103:J$50042,L4),"") | K4: =$A4 | L4: 99 | M4: AAA | N4: HHH
A5: =IF(ROW()<=B$3,INDEX(FP!F:F,B$2+ROW()-1)&" - "&INDEX(FP!C:C,B$2+ROW()-1),"") | C5: =IF(ROW()<=B$3,INDEX(FP!E:E,B$2+ROW()-1),"") | D5: =IF(ROW()<=B$3,INDEX(FP!F:F,B$2+ROW()-1),"") | F5: =IF(ROW()<=B$3,INDEX(FP!G:G,B$2+ROW()-1),"") | H5: =IF(ROW()<=B$3,INDEX(FP!C:C,B$2+ROW()-1),"") | I5: =IF(ROW()<=B$3,SUMIF(A$107:A$10042,A5,I$107:I$10042),"") | J5: =IF(ROW()<=B$3,SUMIFS(I$103:I$50042,A$103:A$50042,K5,J$103:J$50042,L5),"") | K5: =$A5 | L5: 99 | M5: =$A4 | N5: 99
A6: =IF(ROW()<=B$3,INDEX(FP!F:F,B$2+ROW()-1)&" - "&INDEX(FP!C:C,B$2+ROW()-1),"") | C6: =IF(ROW()<=B$3,INDEX(FP!E:E,B$2+ROW()-1),"") | D6: =IF(ROW()<=B$3,INDEX(FP!F:F,B$2+ROW()-1),"") | F6: =IF(ROW()<=B$3,INDEX(FP!G:G,B$2+ROW()-1),"") | H6: =IF(ROW()<=B$3,INDEX(FP!C:C,B$2+ROW()-1),"") | I6: =IF(ROW()<=B$3,SUMIF(A$107:A$10042,A6,I$107:I$10042),"") | J6: =IF(ROW()<=B$3,SUMIFS(I$103:I$50042,A$103:A$50042,K6,J$103:J$50042,L6),"") | K6: =$A6 | L6: 99 | M6: AAA | N6: HHH
A7: =IF(ROW()<=B$3,INDEX(FP!F:F,B$2+ROW()-1)&" - "&INDEX(FP!C:C,B$2+ROW()-1),"") | C7: =IF(ROW()<=B$3,INDEX(FP!E:E,B$2+ROW()-1),"") | D7: =IF(ROW()<=B$3,INDEX(FP!F:F,B$2+ROW()-1),"") | F7: =IF(ROW()<=B$3,INDEX(FP!G:G,B$2+ROW()-1),"") | H7: =IF(ROW()<=B$3,INDEX(FP!C:C,B$2+ROW()-1),"") | I7: =IF(ROW()<=B$3,SUMIF(A$107:A$10042,A7,I$107:I$10042),"") | J7: =IF(ROW()<=B$3,SUMIFS(I$103:I$50042,A$103:A$50042,K7,J$103:J$50042,L7),"") | K7: =$A7 | L7: 99 | M7: =$A6 | N7: 99
A8: =IF(ROW()<=B$3,INDEX(FP!F:F,B$2+ROW()-1)&" - "&INDEX(FP!C:C,B$2+ROW()-1),"") | C8: =IF(ROW()<=B$3,INDEX(FP!E:E,B$2+ROW()-1),"") | D8: =IF(ROW()<=B$3,INDEX(FP!F:F,B$2+ROW()-1),"") | F8: =IF(ROW()<=B$3,INDEX(FP!G:G,B$2+ROW()-1),"") | H8: =IF(ROW()<=B$3,INDEX(FP!C:C,B$2+ROW()-1),"") | I8: =IF(ROW()<=B$3,SUMIF(A$107:A$10042,A8,I$107:I$10042),"") | J8: =IF(ROW()<=B$3,SUMIFS(I$103:I$50042,A$103:A$50042,K8,J$103:J$50042,L8),"") | K8: =$A8 | L8: 99 | M8: AAA | N8: HHH
A9: =IF(ROW()<=B$3,INDEX(FP!F:F,B$2+ROW()-1)&" - "&INDEX(FP!C:C,B$2+ROW()-1),"") | C9: =IF(ROW()<=B$3,INDEX(FP!E:E,B$2+ROW()-1),"") | D9: =IF(ROW()<=B$3,INDEX(FP!F:F,B$2+ROW()-1),"") | F9: =IF(ROW()<=B$3,INDEX(FP!G:G,B$2+ROW()-1),"") | H9: =IF(ROW()<=B$3,INDEX(FP!C:C,B$2+ROW()-1),"") | I9: =IF(ROW()<=B$3,SUMIF(A$107:A$10042,A9,I$107:I$10042),"") | J9: =IF(ROW()<=B$3,SUMIFS(I$103:I$50042,A$103:A$50042,K9,J$103:J$50042,L9),"") | K9: =$A9 | L9: 99 | M9: =$A8 | N9: 99
A10: =IF(ROW()<=B$3,INDEX(FP!F:F,B$2+ROW()-1)&" - "&INDEX(FP!C:C,B$2+ROW()-1),"") | C10: =IF(ROW()<=B$3,INDEX(FP!E:E,B$2+ROW()-1),"") | D10: =IF(ROW()<=B$3,INDEX(FP!F:F,B$2+ROW()-1),"") | F10: =IF(ROW()<=B$3,INDEX(FP!G:G,B$2+ROW()-1),"") | H10: =IF(ROW()<=B$3,INDEX(FP!C:C,B$2+ROW()-1),"") | I10: =IF(ROW()<=B$3,SUMIF(A$107:A$10042,A10,I$107:I$10042),"") | J10: =IF(ROW()<=B$3,SUMIFS(I$103:I$50042,A$103:A$50042,K10,J$103:J$50042,L10),"") | K10: =$A10 | L10: 99 | M10: AAA | N10: HHH
A11: =IF(ROW()<=B$3,INDEX(FP!F:F,B$2+ROW()-1)&" - "&INDEX(FP!C:C,B$2+ROW()-1),"") | C11: =IF(ROW()<=B$3,INDEX(FP!E:E,B$2+ROW()-1),"") | D11: =IF(ROW()<=B$3,INDEX(FP!F:F,B$2+ROW()-1),"") | F11: =IF(ROW()<=B$3,INDEX(FP!G:G,B$2+ROW()-1),"") | H11: =IF(ROW()<=B$3,INDEX(FP!C:C,B$2+ROW()-1),"") | I11: =IF(ROW()<=B$3,SUMIF(A$107:A$10042,A11,I$107:I$10042),"") | J11: =IF(ROW()<=B$3,SUMIFS(I$103:I$50042,A$103:A$50042,K11,J$103:J$50042,L11),"") | K11: =$A11 | L11: 99 | M11: =$A10 | N11: 99
A12: =IF(ROW()<=B$3,INDEX(FP!F:F,B$2+ROW()-1)&" - "&INDEX(FP!C:C,B$2+ROW()-1),"") | C12: =IF(ROW()<=B$3,INDEX(FP!E:E,B$2+ROW()-1),"") | D12: =IF(ROW()<=B$3,INDEX(FP!F:F,B$2+ROW()-1),"") | F12: =IF(ROW()<=B$3,INDEX(FP!G:G,B$2+ROW()-1),"") | H12: =IF(ROW()<=B$3,INDEX(FP!C:C,B$2+ROW()-1),"") | I12: =IF(ROW()<=B$3,SUMIF(A$107:A$10042,A12,I$107:I$10042),"") | J12: =IF(ROW()<=B$3,SUMIFS(I$103:I$50042,A$103:A$50042,K12,J$103:J$50042,L12),"") | K12: =$A12 | L12: 99 | M12: AAA | N12: HHH
A13: =IF(ROW()<=B$3,INDEX(FP!F:F,B$2+ROW()-1)&" - "&INDEX(FP!C:C,B$2+ROW()-1),"") | C13: =IF(ROW()<=B$3,INDEX(FP!E:E,B$2+ROW()-1),"") | D13: =IF(ROW()<=B$3,INDEX(FP!F:F,B$2+ROW()-1),"") | F13: =IF(ROW()<=B$3,INDEX(FP!G:G,B$2+ROW()-1),"") | H13: =IF(ROW()<=B$3,INDEX(FP!C:C,B$2+ROW()-1),"") | I13: =IF(ROW()<=B$3,SUMIF(A$107:A$10042,A13,I$107:I$10042),"") | J13: =IF(ROW()<=B$3,SUMIFS(I$103:I$50042,A$103:A$50042,K13,J$103:J$50042,L13),"") | K13: =$A13 | L13: 99 | M13: =$A12 | N13: 99
A14: =IF(ROW()<=B$3,INDEX(FP!F:F,B$2+ROW()-1)&" - "&INDEX(FP!C:C,B$2+ROW()-1),"") | C14: =IF(ROW()<=B$3,INDEX(FP!E:E,B$2+ROW()-1),"") | D14: =IF(ROW()<=B$3,INDEX(FP!F:F,B$2+ROW()-1),"") | F14: =IF(ROW()<=B$3,INDEX(FP!G:G,B$2+ROW()-1),"") | H14: =IF(ROW()<=B$3,INDEX(FP!C:C,B$2+ROW()-1),"") | I14: =IF(ROW()<=B$3,SUMIF(A$107:A$10042,A14,I$107:I$10042),"") | J14: =IF(ROW()<=B$3,SUMIFS(I$103:I$50042,A$103:A$50042,K14,J$103:J$50042,L14),"") | K14: =$A14 | L14: 99 | M14: AAA | N14: HHH
A15: =IF(ROW()<=B$3,INDEX(FP!F:F,B$2+ROW()-1)&" - "&INDEX(FP!C:C,B$2+ROW()-1),"") | C15: =IF(ROW()<=B$3,INDEX(FP!E:E,B$2+ROW()-1),"") | D15: =IF(ROW()<=B$3,INDEX(FP!F:F,B$2+ROW()-1),"") | F15: =IF(ROW()<=B$3,INDEX(FP!G:G,B$2+ROW()-1),"") | H15: =IF(ROW()<=B$3,INDEX(FP!C:C,B$2+ROW()-1),"") | I15: =IF(ROW()<=B$3,SUMIF(A$107:A$10042,A15,I$107:I$10042),"") | J15: =IF(ROW()<=B$3,SUMIFS(I$103:I$50042,A$103:A$50042,K15,J$103:J$50042,L15),"") | K15: =$A15 | L15: 99 | M15: =$A14 | N15: 99
A16: =IF(ROW()<=B$3,INDEX(FP!F:F,B$2+ROW()-1)&" - "&INDEX(FP!C:C,B$2+ROW()-1),"") | C16: =IF(ROW()<=B$3,INDEX(FP!E:E,B$2+ROW()-1),"") | D16: =IF(ROW()<=B$3,INDEX(FP!F:F,B$2+ROW()-1),"") | F16: =IF(ROW()<=B$3,INDEX(FP!G:G,B$2+ROW()-1),"") | H16: =IF(ROW()<=B$3,INDEX(FP!C:C,B$2+ROW()-1),"") | I16: =IF(ROW()<=B$3,SUMIF(A$107:A$10042,A16,I$107:I$10042),"") | J16: =IF(ROW()<=B$3,SUMIFS(I$103:I$50042,A$103:A$50042,K16,J$103:J$50042,L16),"") | K16: =$A16 | L16: 99 | M16: AAA | N16: HHH
A17: =IF(ROW()<=B$3,INDEX(FP!F:F,B$2+ROW()-1)&" - "&INDEX(FP!C:C,B$2+ROW()-1),"") | C17: =IF(ROW()<=B$3,INDEX(FP!E:E,B$2+ROW()-1),"") | D17: =IF(ROW()<=B$3,INDEX(FP!F:F,B$2+ROW()-1),"") | F17: =IF(ROW()<=B$3,INDEX(FP!G:G,B$2+ROW()-1),"") | H17: =IF(ROW()<=B$3,INDEX(FP!C:C,B$2+ROW()-1),"") | I17: =IF(ROW()<=B$3,SUMIF(A$107:A$10042,A17,I$107:I$10042),"") | J17: =IF(ROW()<=B$3,SUMIFS(I$103:I$50042,A$103:A$50042,K17,J$103:J$50042,L17),"") | K17: =$A17 | L17: 99 | M17: =$A16 | N17: 99
A18: =IF(ROW()<=B$3,INDEX(FP!F:F,B$2+ROW()-1)&" - "&INDEX(FP!C:C,B$2+ROW()-1),"") | C18: =IF(ROW()<=B$3,INDEX(FP!E:E,B$2+ROW()-1),"") | D18: =IF(ROW()<=B$3,INDEX(FP!F:F,B$2+ROW()-1),"") | F18: =IF(ROW()<=B$3,INDEX(FP!G:G,B$2+ROW()-1),"") | H18: =IF(ROW()<=B$3,INDEX(FP!C:C,B$2+ROW()-1),"") | I18: =IF(ROW()<=B$3,SUMIF(A$107:A$10042,A18,I$107:I$10042),"") | J18: =IF(ROW()<=B$3,SUMIFS(I$103:I$50042,A$103:A$50042,K18,J$103:J$50042,L18),"") | K18: =$A18 | L18: 99 | M18: AAA | N18: HHH
A19: =IF(ROW()<=B$3,INDEX(FP!F:F,B$2+ROW()-1)&" - "&INDEX(FP!C:C,B$2+ROW()-1),"") | C19: =IF(ROW()<=B$3,INDEX(FP!E:E,B$2+ROW()-1),"") | D19: =IF(ROW()<=B$3,INDEX(FP!F:F,B$2+ROW()-1),"") | F19: =IF(ROW()<=B$3,INDEX(FP!G:G,B$2+ROW()-1),"") | H19: =IF(ROW()<=B$3,INDEX(FP!C:C,B$2+ROW()-1),"") | I19: =IF(ROW()<=B$3,SUMIF(A$107:A$10042,A19,I$107:I$10042),"") | J19: =IF(ROW()<=B$3,SUMIFS(I$103:I$50042,A$103:A$50042,K19,J$103:J$50042,L19),"") | K19: =$A19 | L19: 99 | M19: =$A18 | N19: 99
A20: =IF(ROW()<=B$3,INDEX(FP!F:F,B$2+ROW()-1)&" - "&INDEX(FP!C:C,B$2+ROW()-1),"") | C20: =IF(ROW()<=B$3,INDEX(FP!E:E,B$2+ROW()-1),"") | D20: =IF(ROW()<=B$3,INDEX(FP!F:F,B$2+ROW()-1),"") | F20: =IF(ROW()<=B$3,INDEX(FP!G:G,B$2+ROW()-1),"") | H20: =IF(ROW()<=B$3,INDEX(FP!C:C,B$2+ROW()-1),"") | I20: =IF(ROW()<=B$3,SUMIF(A$107:A$10042,A20,I$107:I$10042),"") | J20: =IF(ROW()<=B$3,SUMIFS(I$103:I$50042,A$103:A$50042,K20,J$103:J$50042,L20),"") | K20: =$A20 | L20: 99 | M20: AAA | N20: HHH
A21: =IF(ROW()<=B$3,INDEX(FP!F:F,B$2+ROW()-1)&" - "&INDEX(FP!C:C,B$2+ROW()-1),"") | C21: =IF(ROW()<=B$3,INDEX(FP!E:E,B$2+ROW()-1),"") | D21: =IF(ROW()<=B$3,INDEX(FP!F:F,B$2+ROW()-1),"") | F21: =IF(ROW()<=B$3,INDEX(FP!G:G,B$2+ROW()-1),"") | H21: =IF(ROW()<=B$3,INDEX(FP!C:C,B$2+ROW()-1),"") | I21: =IF(ROW()<=B$3,SUMIF(A$107:A$10042,A21,I$107:I$10042),"") | J21: =IF(ROW()<=B$3,SUMIFS(I$103:I$50042,A$103:A$50042,K21,J$103:J$50042,L21),"") | K21: =$A21 | L21: 99 | M21: =$A20 | N21: 99
A22: =IF(ROW()<=B$3,INDEX(FP!F:F,B$2+ROW()-1)&" - "&INDEX(FP!C:C,B$2+ROW()-1),"") | C22: =IF(ROW()<=B$3,INDEX(FP!E:E,B$2+ROW()-1),"") | D22: =IF(ROW()<=B$3,INDEX(FP!F:F,B$2+ROW()-1),"") | F22: =IF(ROW()<=B$3,INDEX(FP!G:G,B$2+ROW()-1),"") | H22: =IF(ROW()<=B$3,INDEX(FP!C:C,B$2+ROW()-1),"") | I22: =IF(ROW()<=B$3,SUMIF(A$107:A$10042,A22,I$107:I$10042),"") | J22: =IF(ROW()<=B$3,SUMIFS(I$103:I$50042,A$103:A$50042,K22,J$103:J$50042,L22),"") | K22: =$A22 | L22: 99 | M22: AAA | N22: HHH
A23: =IF(ROW()<=B$3,INDEX(FP!F:F,B$2+ROW()-1)&" - "&INDEX(FP!C:C,B$2+ROW()-1),"") | C23: =IF(ROW()<=B$3,INDEX(FP!E:E,B$2+ROW()-1),"") | D23: =IF(ROW()<=B$3,INDEX(FP!F:F,B$2+ROW()-1),"") | F23: =IF(ROW()<=B$3,INDEX(FP!G:G,B$2+ROW()-1),"") | H23: =IF(ROW()<=B$3,INDEX(FP!C:C,B$2+ROW()-1),"") | I23: =IF(ROW()<=B$3,SUMIF(A$107:A$10042,A23,I$107:I$10042),"") | J23: =IF(ROW()<=B$3,SUMIFS(I$103:I$50042,A$103:A$50042,K23,J$103:J$50042,L23),"") | K23: =$A23 | L23: 99 | M23: =$A22 | N23: 99
A24: =IF(ROW()<=B$3,INDEX(FP!F:F,B$2+ROW()-1)&" - "&INDEX(FP!C:C,B$2+ROW()-1),"") | C24: =IF(ROW()<=B$3,INDEX(FP!E:E,B$2+ROW()-1),"") | D24: =IF(ROW()<=B$3,INDEX(FP!F:F,B$2+ROW()-1),"") | F24: =IF(ROW()<=B$3,INDEX(FP!G:G,B$2+ROW()-1),"") | H24: =IF(ROW()<=B$3,INDEX(FP!C:C,B$2+ROW()-1),"") | I24: =IF(ROW()<=B$3,SUMIF(A$107:A$10042,A24,I$107:I$10042),"") | J24: =IF(ROW()<=B$3,SUMIFS(I$103:I$50042,A$103:A$50042,K24,J$103:J$50042,L24),"") | K24: =$A24 | L24: 99 | M24: AAA | N24: HHH
A25: =IF(ROW()<=B$3,INDEX(FP!F:F,B$2+ROW()-1)&" - "&INDEX(FP!C:C,B$2+ROW()-1),"") | C25: =IF(ROW()<=B$3,INDEX(FP!E:E,B$2+ROW()-1),"") | D25: =IF(ROW()<=B$3,INDEX(FP!F:F,B$2+ROW()-1),"") | F25: =IF(ROW()<=B$3,INDEX(FP!G:G,B$2+ROW()-1),"") | H25: =IF(ROW()<=B$3,INDEX(FP!C:C,B$2+ROW()-1),"") | I25: =IF(ROW()<=B$3,SUMIF(A$107:A$10042,A25,I$107:I$10042),"") | J25: =IF(ROW()<=B$3,SUMIFS(I$103:I$50042,A$103:A$50042,K25,J$103:J$50042,L25),"") | K25: =$A25 | L25: 99 | M25: =$A24 | N25: 99
A26: =IF(ROW()<=B$3,INDEX(FP!F:F,B$2+ROW()-1)&" - "&INDEX(FP!C:C,B$2+ROW()-1),"") | C26: =IF(ROW()<=B$3,INDEX(FP!E:E,B$2+ROW()-1),"") | D26: =IF(ROW()<=B$3,INDEX(FP!F:F,B$2+ROW()-1),"") | F26: =IF(ROW()<=B$3,INDEX(FP!G:G,B$2+ROW()-1),"") | H26: =IF(ROW()<=B$3,INDEX(FP!C:C,B$2+ROW()-1),"") | I26: =IF(ROW()<=B$3,SUMIF(A$107:A$10042,A26,I$107:I$10042),"") | J26: =IF(ROW()<=B$3,SUMIFS(I$103:I$50042,A$103:A$50042,K26,J$103:J$50042,L26),"") | K26: =$A26 | L26: 99 | M26: AAA | N26: HHH
A27: =IF(ROW()<=B$3,INDEX(FP!F:F,B$2+ROW()-1)&" - "&INDEX(FP!C:C,B$2+ROW()-1),"") | C27: =IF(ROW()<=B$3,INDEX(FP!E:E,B$2+ROW()-1),"") | D27: =IF(ROW()<=B$3,INDEX(FP!F:F,B$2+ROW()-1),"") | F27: =IF(ROW()<=B$3,INDEX(FP!G:G,B$2+ROW()-1),"") | H27: =IF(ROW()<=B$3,INDEX(FP!C:C,B$2+ROW()-1),"") | I27: =IF(ROW()<=B$3,SUMIF(A$107:A$10042,A27,I$107:I$10042),"") | J27: =IF(ROW()<=B$3,SUMIFS(I$103:I$50042,A$103:A$50042,K27,J$103:J$50042,L27),"") | K27: =$A27 | L27: 99 | M27: =$A26 | N27: 99
A28: =IF(ROW()<=B$3,INDEX(FP!F:F,B$2+ROW()-1)&" - "&INDEX(FP!C:C,B$2+ROW()-1),"") | C28: =IF(ROW()<=B$3,INDEX(FP!E:E,B$2+ROW()-1),"") | D28: =IF(ROW()<=B$3,INDEX(FP!F:F,B$2+ROW()-1),"") | F28: =IF(ROW()<=B$3,INDEX(FP!G:G,B$2+ROW()-1),"") | H28: =IF(ROW()<=B$3,INDEX(FP!C:C,B$2+ROW()-1),"") | I28: =IF(ROW()<=B$3,SUMIF(A$107:A$10042,A28,I$107:I$10042),"") | J28: =IF(ROW()<=B$3,SUMIFS(I$103:I$50042,A$103:A$50042,K28,J$103:J$50042,L28),"") | K28: =$A28 | L28: 99 | M28: AAA | N28: HHH
A29: =IF(ROW()<=B$3,INDEX(FP!F:F,B$2+ROW()-1)&" - "&INDEX(FP!C:C,B$2+ROW()-1),"") | C29: =IF(ROW()<=B$3,INDEX(FP!E:E,B$2+ROW()-1),"") | D29: =IF(ROW()<=B$3,INDEX(FP!F:F,B$2+ROW()-1),"") | F29: =IF(ROW()<=B$3,INDEX(FP!G:G,B$2+ROW()-1),"") | H29: =IF(ROW()<=B$3,INDEX(FP!C:C,B$2+ROW()-1),"") | I29: =IF(ROW()<=B$3,SUMIF(A$107:A$10042,A29,I$107:I$10042),"") | J29: =IF(ROW()<=B$3,SUMIFS(I$103:I$50042,A$103:A$50042,K29,J$103:J$50042,L29),"") | K29: =$A29 | L29: 99 | M29: =$A28 | N29: 99
A30: =IF(ROW()<=B$3,INDEX(FP!F:F,B$2+ROW()-1)&" - "&INDEX(FP!C:C,B$2+ROW()-1),"") | C30: =IF(ROW()<=B$3,INDEX(FP!E:E,B$2+ROW()-1),"") | D30: =IF(ROW()<=B$3,INDEX(FP!F:F,B$2+ROW()-1),"") | F30: =IF(ROW()<=B$3,INDEX(FP!G:G,B$2+ROW()-1),"") | H30: =IF(ROW()<=B$3,INDEX(FP!C:C,B$2+ROW()-1),"") | I30: =IF(ROW()<=B$3,SUMIF(A$107:A$10042,A30,I$107:I$10042),"") | J30: =IF(ROW()<=B$3,SUMIFS(I$103:I$50042,A$103:A$50042,K30,J$103:J$50042,L30),"") | K30: =$A30 | L30: 99 | M30: AAA | N30: HHH
A31: =IF(ROW()<=B$3,INDEX(FP!F:F,B$2+ROW()-1)&" - "&INDEX(FP!C:C,B$2+ROW()-1),"") | C31: =IF(ROW()<=B$3,INDEX(FP!E:E,B$2+ROW()-1),"") | D31: =IF(ROW()<=B$3,INDEX(FP!F:F,B$2+ROW()-1),"") | F31: =IF(ROW()<=B$3,INDEX(FP!G:G,B$2+ROW()-1),"") | H31: =IF(ROW()<=B$3,INDEX(FP!C:C,B$2+ROW()-1),"") | I31: =IF(ROW()<=B$3,SUMIF(A$107:A$10042,A31,I$107:I$10042),"") | J31: =IF(ROW()<=B$3,SUMIFS(I$103:I$50042,A$103:A$50042,K31,J$103:J$50042,L31),"") | K31: =$A31 | L31: 99 | M31: =$A30 | N31: 99
A32: =IF(ROW()<=B$3,INDEX(FP!F:F,B$2+ROW()-1)&" - "&INDEX(FP!C:C,B$2+ROW()-1),"") | C32: =IF(ROW()<=B$3,INDEX(FP!E:E,B$2+ROW()-1),"") | D32: =IF(ROW()<=B$3,INDEX(FP!F:F,B$2+ROW()-1),"") | F32: =IF(ROW()<=B$3,INDEX(FP!G:G,B$2+ROW()-1),"") | H32: =IF(ROW()<=B$3,INDEX(FP!C:C,B$2+ROW()-1),"") | I32: =IF(ROW()<=B$3,SUMIF(A$107:A$10042,A32,I$107:I$10042),"") | J32: =IF(ROW()<=B$3,SUMIFS(I$103:I$50042,A$103:A$50042,K32,J$103:J$50042,L32),"") | K32: =$A32 | L32: 99 | M32: AAA | N32: HHH
A33: =IF(ROW()<=B$3,INDEX(FP!F:F,B$2+ROW()-1)&" - "&INDEX(FP!C:C,B$2+ROW()-1),"") | C33: =IF(ROW()<=B$3,INDEX(FP!E:E,B$2+ROW()-1),"") | D33: =IF(ROW()<=B$3,INDEX(FP!F:F,B$2+ROW()-1),"") | F33: =IF(ROW()<=B$3,INDEX(FP!G:G,B$2+ROW()-1),"") | H33: =IF(ROW()<=B$3,INDEX(FP!C:C,B$2+ROW()-1),"") | I33: =IF(ROW()<=B$3,SUMIF(A$107:A$10042,A33,I$107:I$10042),"") | J33: =IF(ROW()<=B$3,SUMIFS(I$103:I$50042,A$103:A$50042,K33,J$103:J$50042,L33),"") | K33: =$A33 | L33: 99 | M33: =$A32 | N33: 99
A34: =IF(ROW()<=B$3,INDEX(FP!F:F,B$2+ROW()-1)&" - "&INDEX(FP!C:C,B$2+ROW()-1),"") | C34: =IF(ROW()<=B$3,INDEX(FP!E:E,B$2+ROW()-1),"") | D34: =IF(ROW()<=B$3,INDEX(FP!F:F,B$2+ROW()-1),"") | F34: =IF(ROW()<=B$3,INDEX(FP!G:G,B$2+ROW()-1),"") | H34: =IF(ROW()<=B$3,INDEX(FP!C:C,B$2+ROW()-1),"") | I34: =IF(ROW()<=B$3,SUMIF(A$107:A$10042,A34,I$107:I$10042),"") | J34: =IF(ROW()<=B$3,SUMIFS(I$103:I$50042,A$103:A$50042,K34,J$103:J$50042,L34),"") | K34: =$A34 | L34: 99 | M34: AAA | N34: HHH
A35: =IF(ROW()<=B$3,INDEX(FP!F:F,B$2+ROW()-1)&" - "&INDEX(FP!C:C,B$2+ROW()-1),"") | C35: =IF(ROW()<=B$3,INDEX(FP!E:E,B$2+ROW()-1),"") | D35: =IF(ROW()<=B$3,INDEX(FP!F:F,B$2+ROW()-1),"") | F35: =IF(ROW()<=B$3,INDEX(FP!G:G,B$2+ROW()-1),"") | H35: =IF(ROW()<=B$3,INDEX(FP!C:C,B$2+ROW()-1),"") | I35: =IF(ROW()<=B$3,SUMIF(A$107:A$10042,A35,I$107:I$10042),"") | J35: =IF(ROW()<=B$3,SUMIFS(I$103:I$50042,A$103:A$50042,K35,J$103:J$50042,L35),"") | K35: =$A35 | L35: 99 | M35: =$A34 | N35: 99
A36: =IF(ROW()<=B$3,INDEX(FP!F:F,B$2+ROW()-1)&" - "&INDEX(FP!C:C,B$2+ROW()-1),"") | C36: =IF(ROW()<=B$3,INDEX(FP!E:E,B$2+ROW()-1),"") | D36: =IF(ROW()<=B$3,INDEX(FP!F:F,B$2+ROW()-1),"") | F36: =IF(ROW()<=B$3,INDEX(FP!G:G,B$2+ROW()-1),"") | H36: =IF(ROW()<=B$3,INDEX(FP!C:C,B$2+ROW()-1),"") | I36: =IF(ROW()<=B$3,SUMIF(A$107:A$10042,A36,I$107:I$10042),"") | J36: =IF(ROW()<=B$3,SUMIFS(I$103:I$50042,A$103:A$50042,K36,J$103:J$50042,L36),"") | K36: =$A36 | L36: 99 | M36: AAA | N36: HHH
A37: =IF(ROW()<=B$3,INDEX(FP!F:F,B$2+ROW()-1)&" - "&INDEX(FP!C:C,B$2+ROW()-1),"") | C37: =IF(ROW()<=B$3,INDEX(FP!E:E,B$2+ROW()-1),"") | D37: =IF(ROW()<=B$3,INDEX(FP!F:F,B$2+ROW()-1),"") | F37: =IF(ROW()<=B$3,INDEX(FP!G:G,B$2+ROW()-1),"") | H37: =IF(ROW()<=B$3,INDEX(FP!C:C,B$2+ROW()-1),"") | I37: =IF(ROW()<=B$3,SUMIF(A$107:A$10042,A37,I$107:I$10042),"") | J37: =IF(ROW()<=B$3,SUMIFS(I$103:I$50042,A$103:A$50042,K37,J$103:J$50042,L37),"") | K37: =$A37 | L37: 99 | M37: =$A36 | N37: 99
A38: =IF(ROW()<=B$3,INDEX(FP!F:F,B$2+ROW()-1)&" - "&INDEX(FP!C:C,B$2+ROW()-1),"") | C38: =IF(ROW()<=B$3,INDEX(FP!E:E,B$2+ROW()-1),"") | D38: =IF(ROW()<=B$3,INDEX(FP!F:F,B$2+ROW()-1),"") | F38: =IF(ROW()<=B$3,INDEX(FP!G:G,B$2+ROW()-1),"") | H38: =IF(ROW()<=B$3,INDEX(FP!C:C,B$2+ROW()-1),"") | I38: =IF(ROW()<=B$3,SUMIF(A$107:A$10042,A38,I$107:I$10042),"") | J38: =IF(ROW()<=B$3,SUMIFS(I$103:I$50042,A$103:A$50042,K38,J$103:J$50042,L38),"") | K38: =$A38 | L38: 99 | M38: AAA | N38: HHH
A39: =IF(ROW()<=B$3,INDEX(FP!F:F,B$2+ROW()-1)&" - "&INDEX(FP!C:C,B$2+ROW()-1),"") | C39: =IF(ROW()<=B$3,INDEX(FP!E:E,B$2+ROW()-1),"") | D39: =IF(ROW()<=B$3,INDEX(FP!F:F,B$2+ROW()-1),"") | F39: =IF(ROW()<=B$3,INDEX(FP!G:G,B$2+ROW()-1),"") | H39: =IF(ROW()<=B$3,INDEX(FP!C:C,B$2+ROW()-1),"") | I39: =IF(ROW()<=B$3,SUMIF(A$107:A$10042,A39,I$107:I$10042),"") | J39: =IF(ROW()<=B$3,SUMIFS(I$103:I$50042,A$103:A$50042,K39,J$103:J$50042,L39),"") | K39: =$A39 | L39: 99 | M39: =$A38 | N39: 99
A40: =IF(ROW()<=B$3,INDEX(FP!F:F,B$2+ROW()-1)&" - "&INDEX(FP!C:C,B$2+ROW()-1),"") | C40: =IF(ROW()<=B$3,INDEX(FP!E:E,B$2+ROW()-1),"") | D40: =IF(ROW()<=B$3,INDEX(FP!F:F,B$2+ROW()-1),"") | F40: =IF(ROW()<=B$3,INDEX(FP!G:G,B$2+ROW()-1),"") | H40: =IF(ROW()<=B$3,INDEX(FP!C:C,B$2+ROW()-1),"") | I40: =IF(ROW()<=B$3,SUMIF(A$107:A$10042,A40,I$107:I$10042),"") | J40: =IF(ROW()<=B$3,SUMIFS(I$103:I$50042,A$103:A$50042,K40,J$103:J$50042,L40),"") | K40: =$A40 | L40: 99 | M40: AAA | N40: HHH
...

Sheet Adr
A1: IČO | B1: Subjekt | C1: Právna forma | D1: Ulica a číslo domu | E1: Mesto | F1: PSČ | G1: Webové sídlo | H1: E-mail | I1: Štatutárny zástupca | J1: Štatutár - funkcia | K1: Kontakná osoba | L1: Kontakt telefón | M1: IBAN 1 | N1: IBAN 2 | O1: IBAN TOP | P1: IBAN DOT
A2: 42446481 | B2: "BigHugGym" | C2: občianske združenie | D2: Drieňova 1/C | E2: Bratislava | F2: 821 01 | G2: www.bighuggym.sk | H2: info@bighuggym.sk | I2: Daniel Kamenický | J2: predseda | K2: Daniel Kamenický | L2: 421905859671 | M2: SK38 0200 0000 0035 2888 8654
A3: 37992619 | B3: "Miesta pre mladých" | C3: občianske združenie | D3: Ulica Vladimíra Clementisa 6509/13 | E3: Trnava | F3: 917 01 | G3: www.lanac.sk | H3: cakpeter@gmail.com | I3: Peter Cák | J3: predseda | K3: Petr Cák | L3: 421915992124 | M3: SK89 8330 0000 0029 0329 3851
A4: 34055584 | B4: 1. Volejbalový klub Púchov | C4: občianske združenie | D4: Komenského 1651/88 | E4: Púchov | F4: 020 01 | G4: www.volleypuchov.sk | H4: suchanek@volleypuchov.sk | I4: Michal Suchánek | J4: predseda | K4: Michal Suchánek | L4: 421905262613 | M4: SK53 0200 0000 0052 0048 0654
A5: 55014810 | B5: 3x3sport | C5: občianske združenie | D5: Lesná ulica 13/336 | E5: Kysak | F5: 044 81 | G5: www.3x3sport.sk | H5: halas@3x3sport.sk | I5: Jozef Halás | J5: predseda | K5: Jozef Halás | L5: 421915064990 | M5: SK80 8330 0000 0025 0253 2305
A6: 30793513 | B6: Academy 4 you | C6: občianske združenie | D6: Martinčekova 5 | E6: Bratislava | F6: 821 01 | G6: www.sportovkovo.sk | H6: info@sportovkovo.sk | I6: Cyril Holeš | J6: predseda | K6: Cyril Holeš | L6: 421908174487 | M6: SK18 8330 0000 0020 0332 7868
A7: 17067006 | B7: Aeroklub Prievidza, občianske združenie | C7: občianske združenie | D7: Letisková ulica 387/8 | E7: Prievidza | F7: 971 03 | G7: www.aeroklub-prievidza.sk | H7: info@aeroklub-prievidza.sk | I7: Roman Leporis, Ľuboš Jánošík | J7: prezident, sekretár | K7: Ľuboš Jánošík | L7: 421911110504 | M7: SK66 0900 0000 0052 3762 7402
A8: 36637092 | B8: AG Hradová s.r.o. | C8: spoločnosť s ručením obmedzeným | D8: Športová ulica 5756 | E8: Lučenec | F8: 984 01 | G8: www.rocketclub.sk | H8: aghradova.sro@gmail.com | I8: Martin Podhora | J8: konateľ | K8: Martin Podhora | L8: 421905625637 | M8: SK39 7500 0000 0040 1280 3984
A9: 36132632 | B9: AKNELA | C9: občianske združenie | D9: Palackého 1940/30 | E9: Vrútky | F9: 038 61 | G9: www.aknela.sk | H9: alen@aknela.sk | I9: Michaela Adámiková | J9: predseda | K9: Alena Drljača | L9: 421904567820 | M9: SK66 0900 0000 0003 5232 4252
A10: 37894021 | B10: ASOCIÁCIA MAŽORETKOVÉHO ŠPORTU SLOVENSKO | C10: občianske združenie | D10: Rozkvet 2073/155 | E10: Považská Bystrica | F10: 017 01 | G10: www.amas.sk | H10: elllapb@gmail.com | I10: Elena Martinková | J10: prezident | K10: Mgr. Štefan Pčola | L10: 421903471398 | M10: SK55 7500 0000 0040 3499 6617
A11: 00678457 | B11: Asociácia športových klubov Inter Bratislava | C11: občianske združenie | D11: Trnavská cesta 3011/33 | E11: Bratislava | F11: 832 84 | G11: http://www.askinter.sk/sk/kluby/kanoistika/kanoistika-o-klube | H11: kanoistickyklubinter@gmail.com | I11: Ľubomír Želiezka | J11: riaditeľ | K11: Monika Vyskočilová | L11: 421910953832 | M11: SK45 0200 0000 0000 0923 1112
A12: 00681482 | B12: Asociácia športu pre všetkých Slovenskej republiky | C12: občianske združenie | D12: Olympijské námestie 14290/1 | E12: Bratislava | F12: 832 80 | G12: www.aspv.sk | H12: aspv@aspv.sk | I12: Ján Holko | J12: predseda | K12: Ján Holko | L12: 421911244266 | M12: SK32 0200 0000 0050 7394 7054
A13: 55184707 | B13: Baláž Racing | C13: občianske združenie | D13: Medveďovej 2700/21 | E13: Bratislava | F13: 851 04 | G13: www.balazracing.sk | H13: hd.balaz@gmail.com | I13: Michal Baláž | J13: predseda | K13: Michal Baláž | L13: 421948780850 | M13: SK36 8330 0000 0022 0329 4693 | R13: =A13 -> 55184707
A14: 35629827 | B14: Basketbalový klub AŠK Slávia Trnava | C14: občianske združenie | D14: Ulica Rybníková 592/1 | E14: Trnava | F14: 917 01 | G14: www.bkslaviatrnava.sk | H14: jobb.basket@gmail.com | I14: Ján Jobb | J14: predseda | K14: Ján Jobb | L14: 421918706450 | M14: SK37 0900 0000 0052 3953 9406 | R14: =A14 -> 35629827
A15: 37963091 | B15: Basketbalový klub mládeže JUNIOR Unverzity Konštantína Filozofa Nitra | C15: občianske združenie | D15: tr.A.Hlinku 1 | E15: Nitra | F15: 949 01 | G15: www.bkmnitra.sk | H15: sailer.doma@gmail.com | I15: Ladislav Sailer | J15: predseda | K15: Ladislav Sailer | L15: 421905442262 | M15: SK83 5600 0000 0048 1839 9001 | R15: =A15 -> 37963091
A16: 42220971 | B16: BASKETBALOVÝ KLUB MLÁDEŽE ŽILINA - ZÁVODIE | C16: občianske združenie | D16: Kvetná 2396/7 | E16: Žilina | F16: 010 01 | G16: www.bkmzilina.sk | H16: ippsza@gmail.com | I16: Pavol Gerát | J16: predseda | K16: Pavol Gerát | L16: 421907188019 | M16: SK72 1100 0000 0029 4426 9890 | R16: =A16 -> 42220971
A17: 42180309 | B17: Benitim | C17: občianske združenie | D17: Fláviovská 43 | E17: Bratislava | F17: 851 10 | G17: www.benitim.sk | H17: andrea@benitim.sk | I17: Andrea Čvapková | J17: predseda | K17: Andrea Čvapková | L17: 421905508129 | M17: SK54 0900 0000 0052 4034 4200 | R17: =A17 -> 42180309
A18: 52085929 | B18: BIKE RACING SLOVAKIA MARTIN | C18: občianske združenie | D18: J. Mazúra 4427/6 | E18: Martin | F18: 036 01 | G18: - | H18: Filip.Cillik@marbach.com; bibkac22@gmail.com | I18: Filip Čillík | J18: podpredseda | K18: Filip Čillík | L18: 421911545054 | M18: SK23 8330 0000 0029 0169 6673
A19: 51972042 | B19: ByteBite, s. r. o. | C19: spoločnosť s ručením obmedzeným | D19: Klincová 35 | E19: Bratislava | F19: 821 08 | G19: www.bytebite.sk | H19: info@bytebite.sk | I19: Peter Daniš | J19: konateľ | K19: Peter Daniš | L19: 421907510189 | M19: SK38 8330 0000 0021 0151 8668 | R19: =A19 -> 51972042
A20: 42254388 | B20: Deaflympijský výbor Slovenska | C20: občianske združenie | D20: Kýčerského 7 | E20: Bratislava | F20: 811 05 | G20: www.deaflympic.sk | H20: office@deaflympic.sk | I20: Peter Birka | J20: prezident | K20: Milena Fabšičová | L20: 421911370554 | M20: SK30 1100 0000 0029 2988 5740 | R20: =A20 -> 42254388
A21: 42017840 | B21: Florbalový klub AS Trenčín | C21: občianske združenie | D21: Kubrická 109/3 | E21: Trenčín | F21: 911 01 | G21: www.astrencinflorbal.sk | H21: jurmat@centrum.sk | I21: Juraj Matejka | J21: predseda | K21: Juraj Matejka | L21: 421903945335 | M21: SK82 0900 0000 0052 3934 1977
A22: 42103711 | B22: FLORBALOVÝ KLUB MICHALOVCE | C22: občianske združenie | D22: T.J.Moussona č. 4 | E22: Michalovce | F22: 071 01 | G22: www.eastern-wings-michalovce.webnode.sk | H22: puchir@fbkmichalovce.sk | I22: Gerhard Puchír | J22: predseda | K22: Gerhard Puchír | L22: 421903604195 | M22: SK88 7500 0000 0040 2375 4305 | R22: =A22 -> 42103711
A23: 17315298 | B23: Futbalový klub Dúbravka | C23: občianske združenie | D23: K Horánskej studni 29 | E23: Bratislava | F23: 841 02 | G23: www.fkdubravka.sk | H23: fkdubravka@fkdubravka.sk | I23: Miroslav Janky | J23: predseda | K23: Miroslav Janky | L23: 421905613897 | M23: SK64 0200 0000 0052 4532 0355
A24: 14223040 | B24: Futbalový klub Iskra Hnúšťa | C24: občianske združenie | D24: Nábrežie Rimavy 446 | E24: Hnúšťa | F24: 981 01 | G24: www.mesto.hnusta.sk/mesto/skolstvo-kultura-sport/sport-/ | H24: mpetrok33@gmail.com | I24: Marian Petrok | J24: predseda | K24: Marian Petrok | L24: 421905837809 | M24: SK63 0200 0000 0000 2053 4392
A25: 42258014 | B25: FUTBALOVÝ KLUB POLÍCIE BRATISLAVA | C25: občianske združenie | D25: Ľuda Zúbka 3169/25 | E25: Bratislava | F25: 841 01 | G25: www.fkp.sk | H25: s.gubrica@gmail.com | I25: Štefan Gubrica | J25: predseda | K25: Štefan Gubrica | L25: 421903434035 | M25: SK23 0200 0000 0036 4957 5451 | R25: =A25 -> 42258014
A26: 42396841 | B26: FUTSAL KLUB LUČENEC | C26: občianske združenie | D26: Ulica železničná 26 | E26: Lučenec | F26: 984 01 | G26: www.futsallucenec.sk | H26: jozef.kamensky@gmail.com | I26: Milan Kamenský | J26: predseda | K26: Jozef Kamenský | L26: 421905323008 | M26: - | R26: =A26 -> 42396841
A27: 53939042 | B27: Gladiators TnUAD Trenčín n.o | C27: Nezisková organizácia poskytujúca všeobecne prospešné služby | D27: Trenčianske Jastrabie 56 | E27: Trenčianske Jastrabie | F27: 913 22 | G27: www.gladiatorstrencin.sk | H27: lfryvaldsky@gmail.com | I27: Lukáš Frývaldský | J27: riaditeľ | K27: Lukáš Frývaldský | L27: 421904760660 | M27: SK75 1100 0000 0029 4527 4659 | R27: =A27 -> 53939042
A28: 35605472 | B28: Handball Club Pezinok | C28: občianske združenie | D28: Na Bielenisku 4 | E28: Pezinok | F28: 902 01 | G28: www.handballpezinok.sk | H28: info@handballpezinok.sk | I28: Martin Šipoš | J28: predseda | K28: Martin Šipoš | L28: 421903757165 | M28: SK54 0900 0000 0052 3928 4378
A29: 52798721 | B29: HC 07 Detva s. r. o. | C29: spoločnosť s ručením obmedzeným | D29: Jánošíkova 3346/6 | E29: Detva | F29: 962 12 | G29: - | H29: hc07detva@gmail.com | I29: Matej Ľupták | J29: konateľ | K29: - | L29: - | M29: - | R29: =A29 -> 52798721
A30: 52489159 | B30: HC UNIZA | C30: občianske združenie | D30: M. Šinského 936/11 | E30: Žilina | F30: 010 07 | G30: www.hc.uniza.sk | H30: hcuniza@gmail.com | I30: Alexander Gašparovič | J30: predseda | K30: Alexander Gašparovič | L30: 421905103966 | M30: SK63 8330 0000 0025 0203 4322 | R30: =A30 -> 52489159
A31: 00603481 | B31: Hlavné mesto Slovenskej republiky Bratislava | C31: samostatný územný samosprávny celok | D31: Primaciálne námestie č. 1 | E31: Bratislava | F31: 814 99 | G31: www.bratislava.sk | H31: sport@bratislava.sk | I31: Ctibor Košťál | J31: riaditeľ Magistrátu hlavného mesta SR Bratislavy | M31: SK44 0900 0000 0052 5252 5252 | R31: =A31 -> 00603481
A32: 50879391 | B32: Hokejový klub UMB | C32: občianske združenie | D32: Hronské predmestie 1452/4 | E32: Banská Bystrica | F32: 974 01 | G32: www.umbhockey.sk | H32: lukas@umbhockey.sk | I32: Lukáš Opáth | J32: prezident | M32: SK12 0900 0000 0051 3456 4613 | R32: =A32 -> 50879391
A33: 50642804 | B33: iCompete Natural Slovakia | C33: občianske združenie | D33: Jesenského 71 | E33: Zvolen | F33: 960 01 | G33: www.icn.sk | H33: icn@icn.sk | I33: René Tomášek | J33: prezident | K33: René Tomášek | L33: 421905819613 | M33: SK84 7500 0000 0040 3183 7581
A34: 42024536 | B34: ILYO - TAEKWONDO TRENČÍN, o. z. | C34: občianske združenie | D34: Saratovská 7388/1B | E34: Trenčín | F34: 911 08 | G34: www.taekwondo-tn.sk | H34: ilasenkova@gmail.com | I34: Jana Babinská | J34: prezidentka | K34: Jana Babinská | L34: 421904481001 | M34: SK94 8330 0000 0024 0332 9571 | R34: =A34 -> 42024536
A35: 51285193 | B35: Jachtklub Akademik Technická univerzita Košice | C35: občianske združenie | D35: Watsonova 1912/4A | E35: Košice | F35: 040 01 | G35: www.surfclub.sk | H35: lopuchovskygalop@gmail.com | I35: Pavol Lopuchovský | J35: predseda výkonného výboru | K35: Pavol Lopuchovský | L35: 421903655253 | M35: SK88 0900 0000 0051 4483 2829 | R35: =A35 -> 51285193
A36: 42103479 | B36: JAKASPORT academy | C36: občianske združenie | D36: Tomášiková 17 | E36: Košice | F36: 040 01 | G36: www.jakasport.eu | H36: sport.jaka@gmail.com | I36: Lucia Pajkošová | J36: predseda | K36: Lucia Pajkošová | L36: 421908828982 | M36: SK25 0200 0000 0042 1911 9354 | R36: =A36 -> 42103479
A37: 47210125 | B37: job&fun s.r.o. | C37: spoločnosť s ručením obmedzeným | D37: Letná 33 | E37: Stará Ľubovňa | F37: 064 01 | G37: www.jobandfun.sk | H37: jobfun.slovakia@gmail.com | I37: Adriana Malá | J37: konateľka | K37: Adriana Malá | L37: 421903141567 | M37: SK61 7500 0000 0040 3513 8032 | R37: =A37 -> 47210125
A38: 42234425 | B38: JUDO CLUB Bardejov o. z. | C38: občianske združenie | D38: J.Grešáka 2745/15 | E38: Bardejov | F38: 085 01 | G38: www.judovychod.sk | H38: stanislav.mlynaric@centrum.sk | I38: Stanislav Mlynarič | J38: podpredseda | K38: Stanislav Mlynarič | L38: 421905262047 | M38: SK33 7500 0000 0040 1666 9348 | R38: =A38 -> 42234425
A39: 14222230 | B39: Judo Klub Martin, Občianske združenie | C39: občianske združenie | D39: Československej armády 1698/10 | E39: Martin | F39: 036 01 | G39: www.judomartin.sk | H39: zdenkokozak@centrum.sk | I39: Zdenko Kozák | J39: predseda | K39: Zdenko Kozák | L39: 421907672006 | M39: SK02 0900 0000 0052 3952 2479 | R39: =A39 -> 14222230
A40: 00609153 | B40: Kajak & kanoe klub Komárno, o.z. | C40: občianske združenie | D40: Župná ul. 1149/18 | E40: Komárno | F40: 945 01 | G40: www.kajakkomarno.sk | H40: kkajakkomarno@gmail.com | I40: Viktor Demin | J40: predseda | K40: Viktor Demin | L40: 421915178155 | M40: SK71 0900 0000 0051 3433 5407 | R40: =A40 -> 00609153
...

Sheet FP
A1: IČO | B1: Prijímateľ | C1: Predmet (názov, miesto, termín, parametre) | D1: Schválená (eur) | E1: SF (%) | F1: Účel | G1: PPG | H1: B/K | I1: ico+ucel | J1: ico+ppg | K1: Šport | L1: ICO+PPG+BK | M1: Zoraď | N1: ico+ucel+B/K
A2: 42446481 | B2: =VLOOKUP(A2,Adr!A:B,2,FALSE) -> "BigHugGym" | C2: športové pohybové tábory pre mládež | D2: 5000 | E2: 0 | F2: l | G2: 026 03 | H2: B | I2: =A2&F2 -> 42446481l | J2: =A2&G2 -> 42446481026 03 | L2: =A2&G2&H2 -> 42446481026 03B | M2: =B2&F2&H2&C2 -> "BigHugGym"lBšportové pohybové tábory pre mládež | N2: =+I2&H2 -> 42446481lB
A3: 37992619 | B3: =VLOOKUP(A3,Adr!A:B,2,FALSE) -> "Miesta pre mladých" | C3: športové pohybové tábory pre mládež | D3: 4983 | E3: 0 | F3: l | G3: 026 03 | H3: B | I3: =A3&F3 -> 37992619l | J3: =A3&G3 -> 37992619026 03 | L3: =A3&G3&H3 -> 37992619026 03B | M3: =B3&F3&H3&C3 -> "Miesta pre mladých"lBšportové pohybové tábory pre mládež | N3: =+I3&H3 -> 37992619lB
A4: 34055584 | B4: =VLOOKUP(A4,Adr!A:B,2,FALSE) -> 1. Volejbalový klub Púchov | C4: športové pohybové tábory pre mládež | D4: 3575 | E4: 0 | F4: l | G4: 026 03 | H4: B | I4: =A4&F4 -> 34055584l | J4: =A4&G4 -> 34055584026 03 | L4: =A4&G4&H4 -> 34055584026 03B | M4: =B4&F4&H4&C4 -> 1. Volejbalový klub PúchovlBšportové pohybové tábory pre mládež | N4: =+I4&H4 -> 34055584lB
A5: 55014810 | B5: =VLOOKUP(A5,Adr!A:B,2,FALSE) -> 3x3sport | C5: plnenie úloh verejného záujmu v športe | D5: 20000 | E5: 0 | F5: f | G5: 026 01 | H5: B | I5: =A5&F5 -> 55014810f | J5: =A5&G5 -> 55014810026 01 | L5: =A5&G5&H5 -> 55014810026 01B | M5: =B5&F5&H5&C5 -> 3x3sportfBplnenie úloh verejného záujmu v športe | N5: =+I5&H5 -> 55014810fB
A6: 30793513 | B6: =VLOOKUP(A6,Adr!A:B,2,FALSE) -> Academy 4 you | C6: športové pohybové tábory pre mládež | D6: 5000 | E6: 0 | F6: l | G6: 026 03 | H6: B | I6: =A6&F6 -> 30793513l | J6: =A6&G6 -> 30793513026 03 | L6: =A6&G6&H6 -> 30793513026 03B | M6: =B6&F6&H6&C6 -> Academy 4 youlBšportové pohybové tábory pre mládež | N6: =+I6&H6 -> 30793513lB
A7: 17067006 | B7: =VLOOKUP(A7,Adr!A:B,2,FALSE) -> Aeroklub Prievidza, občianske združenie | C7: plnenie úloh verejného záujmu v športe | D7: 15000 | E7: 0 | F7: f | G7: 026 01 | H7: B | I7: =A7&F7 -> 17067006f | J7: =A7&G7 -> 17067006026 01 | L7: =A7&G7&H7 -> 17067006026 01B | M7: =B7&F7&H7&C7 -> Aeroklub Prievidza, občianske združeniefBplnenie úloh verejného záujmu v športe | N7: =+I7&H7 -> 17067006fB
A8: 36637092 | B8: =VLOOKUP(A8,Adr!A:B,2,FALSE) -> AG Hradová s.r.o. | C8: športové pohybové tábory pre mládež | D8: 4990 | E8: 0 | F8: l | G8: 026 03 | H8: B | I8: =A8&F8 -> 36637092l | J8: =A8&G8 -> 36637092026 03 | L8: =A8&G8&H8 -> 36637092026 03B | M8: =B8&F8&H8&C8 -> AG Hradová s.r.o.lBšportové pohybové tábory pre mládež | N8: =+I8&H8 -> 36637092lB
A9: 36132632 | B9: =VLOOKUP(A9,Adr!A:B,2,FALSE) -> AKNELA | C9: športové pohybové tábory pre mládež | D9: 4500 | E9: 0 | F9: l | G9: 026 03 | H9: B | I9: =A9&F9 -> 36132632l | J9: =A9&G9 -> 36132632026 03 | L9: =A9&G9&H9 -> 36132632026 03B | M9: =B9&F9&H9&C9 -> AKNELAlBšportové pohybové tábory pre mládež | N9: =+I9&H9 -> 36132632lB
A10: 37894021 | B10: =VLOOKUP(A10,Adr!A:B,2,FALSE) -> ASOCIÁCIA MAŽORETKOVÉHO ŠPORTU SLOVENSKO | C10: rozvoj športov, ktoré nie sú uznanými podľa zákona č. 440/2015 Z. z. | D10: 16900 | E10: 0 | F10: g | G10: 026 03 | H10: B | I10: =A10&F10 -> 37894021g | J10: =A10&G10 -> 37894021026 03 | L10: =A10&G10&H10 -> 37894021026 03B | M10: =B10&F10&H10&C10 -> ASOCIÁCIA MAŽORETKOVÉHO ŠPORTU SLOVENSKOgBrozvoj športov, ktoré nie sú uznanými podľa zákona č. 440/2015 Z. z. | N10: =+I10&H10 -> 37894021gB
A11: 00678457 | B11: =VLOOKUP(A11,Adr!A:B,2,FALSE) -> Asociácia športových klubov Inter Bratislava | C11: Pohár Interu | D11: 3083 | E11: 0 | F11: m | G11: 026 03 | H11: B | I11: =A11&F11 -> 00678457m | J11: =A11&G11 -> 00678457026 03 | L11: =A11&G11&H11 -> 00678457026 03B | M11: =B11&F11&H11&C11 -> Asociácia športových klubov Inter BratislavamBPohár Interu | N11: =+I11&H11 -> 00678457mB
A12: 00681482 | B12: =VLOOKUP(A12,Adr!A:B,2,FALSE) -> Asociácia športu pre všetkých Slovenskej republiky | C12: podpora a rozvoj športu pre všetkých | D12: 48000 | E12: 0 | F12: f | G12: 026 01 | H12: B | I12: =A12&F12 -> 00681482f | J12: =A12&G12 -> 00681482026 01 | L12: =A12&G12&H12 -> 00681482026 01B | M12: =B12&F12&H12&C12 -> Asociácia športu pre všetkých Slovenskej republikyfBpodpora a rozvoj športu pre všetkých | N12: =+I12&H12 -> 00681482fB
A13: 55184707 | B13: =VLOOKUP(A13,Adr!A:B,2,FALSE) -> Baláž Racing | C13: plnenie úloh verejného záujmu v športe | D13: 5000 | E13: 0 | F13: f | G13: 026 01 | H13: B | I13: =A13&F13 -> 55184707f | J13: =A13&G13 -> 55184707026 01 | L13: =A13&G13&H13 -> 55184707026 01B | M13: =B13&F13&H13&C13 -> Baláž RacingfBplnenie úloh verejného záujmu v športe | N13: =+I13&H13 -> 55184707fB
... A99: 42254302 | B99: =VLOOKUP(A99,Adr!A:B,2,FALSE) -> Slávia Gymnastické centrum Bratislava | C99: športové pohybové tábory pre mládež | D99: 5000 | E99: 0 | F99: l | G99: 026 03 | H99: B | I99: =A99&F99 -> 42254302l | J99: =A99&G99 -> 42254302026 03 | L99: =A99&G99&H99 -> 42254302026 03B | M99: =B99&F99&H99&C99 -> Slávia Gymnastické centrum BratislavalBšportové pohybové tábory pre mládež | N99: =+I99&H99 -> 42254302lB
A100: 30787009 | B100: =VLOOKUP(A100,Adr!A:B,2,FALSE) -> Slovenská asociácia amerického futbalu | C100: americký futbal - bežné transfery | D100: 20620 | E100: 0 | F100: a | G100: 026 02 | H100: B | I100: =A100&F100 -> 30787009a | J100: =A100&G100 -> 30787009026 02 | K100: americký futbal | L100: =A100&G100&H100 -> 30787009026 02B | M100: =B100&F100&H100&C100 -> Slovenská asociácia amerického futbaluaBamerický futbal - bežné transfery | N100: =+I100&H100 -> 30787009aB
A101: 00631655 | B101: =VLOOKUP(A101,Adr!A:B,2,FALSE) -> Slovenská asociácia boccie | C101: boccia - bežné transfery | D101: 19239 | E101: 0 | F101: a | G101: 026 02 | H101: B | I101: =A101&F101 -> 00631655a | J101: =A101&G101 -> 00631655026 02 | K101: boccia | L101: =A101&G101&H101 -> 00631655026 02B | M101: =B101&F101&H101&C101 -> Slovenská asociácia boccieaBboccia - bežné transfery | N101: =+I101&H101 -> 00631655aB
A102: 00631655 | B102: =VLOOKUP(A102,Adr!A:B,2,FALSE) -> Slovenská asociácia boccie | C102: boule lyonnaise - bežné transfery | D102: 19239 | E102: 0 | F102: a | G102: 026 02 | H102: B | I102: =A102&F102 -> 00631655a | J102: =A102&G102 -> 00631655026 02 | K102: boule lyonnaise | L102: =A102&G102&H102 -> 00631655026 02B | M102: =B102&F102&H102&C102 -> Slovenská asociácia boccieaBboule lyonnaise - bežné transfery | N102: =+I102&H102 -> 00631655aB
A103: 42019541 | B103: =VLOOKUP(A103,Adr!A:B,2,FALSE) -> Slovenská asociácia čínskeho wushu | C103: wushu - bežné transfery | D103: 30377 | E103: 0 | F103: a | G103: 026 02 | H103: B | I103: =A103&F103 -> 42019541a | J103: =A103&G103 -> 42019541026 02 | K103: wushu | L103: =A103&G103&H103 -> 42019541026 02B | M103: =B103&F103&H103&C103 -> Slovenská asociácia čínskeho wushuaBwushu - bežné transfery | N103: =+I103&H103 -> 42019541aB
A104: 30810108 | B104: =VLOOKUP(A104,Adr!A:B,2,FALSE) -> Slovenská Asociácia Dynamickej Streľby | C104: dynamická streľba - bežné transfery | D104: 28868 | E104: 0 | F104: a | G104: 026 02 | H104: B | I104: =A104&F104 -> 30810108a | J104: =A104&G104 -> 30810108026 02 | K104: dynamická streľba | L104: =A104&G104&H104 -> 30810108026 02B | M104: =B104&F104&H104&C104 -> Slovenská Asociácia Dynamickej StreľbyaBdynamická streľba - bežné transfery | N104: =+I104&H104 -> 30810108aB
A105: 30842069 | B105: =VLOOKUP(A105,Adr!A:B,2,FALSE) -> Slovenská asociácia fitnes, kulturistiky a silového trojboja | C105: fitnes a kulturistika - bežné transfery | D105: 501165 | E105: 0 | F105: a | G105: 026 02 | H105: B | I105: =A105&F105 -> 30842069a | J105: =A105&G105 -> 30842069026 02 | K105: fitnes a kulturistika | L105: =A105&G105&H105 -> 30842069026 02B | M105: =B105&F105&H105&C105 -> Slovenská asociácia fitnes, kulturistiky a silového trojbojaaBfitnes a kulturistika - bežné transfery | N105: =+I105&H105 -> 30842069aB
A106: 30842069 | B106: =VLOOKUP(A106,Adr!A:B,2,FALSE) -> Slovenská asociácia fitnes, kulturistiky a silového trojboja | C106: silové športy - bežné transfery | D106: 24014 | E106: 0 | F106: a | G106: 026 02 | H106: B | I106: =A106&F106 -> 30842069a | J106: =A106&G106 -> 30842069026 02 | K106: silové športy | L106: =A106&G106&H106 -> 30842069026 02B | M106: =B106&F106&H106&C106 -> Slovenská asociácia fitnes, kulturistiky a silového trojbojaaBsilové športy - bežné transfery | N106: =+I106&H106 -> 30842069aB
A107: 30842069 | B107: =VLOOKUP(A107,Adr!A:B,2,FALSE) -> Slovenská asociácia fitnes, kulturistiky a silového trojboja | C107: Barbier Michal | D107: 20000 | E107: 0 | F107: d | G107: 026 03 | H107: B | I107: =A107&F107 -> 30842069d | J107: =A107&G107 -> 30842069026 03 | L107: =A107&G107&H107 -> 30842069026 03B | M107: =B107&F107&H107&C107 -> Slovenská asociácia fitnes, kulturistiky a silového trojbojadBBarbier Michal | N107: =+I107&H107 -> 30842069dB
A108: 30842069 | B108: =VLOOKUP(A108,Adr!A:B,2,FALSE) -> Slovenská asociácia fitnes, kulturistiky a silového trojboja | C108: Bellák Jakub | D108: 15000 | E108: 0 | F108: d | G108: 026 03 | H108: B | I108: =A108&F108 -> 30842069d | J108: =A108&G108 -> 30842069026 03 | L108: =A108&G108&H108 -> 30842069026 03B | M108: =B108&F108&H108&C108 -> Slovenská asociácia fitnes, kulturistiky a silového trojbojadBBellák Jakub | N108: =+I108&H108 -> 30842069dB
A109: 31749852 | B109: =VLOOKUP(A109,Adr!A:B,2,FALSE) -> Slovenská asociácia Frisbee | C109: športy s lietajúcim diskom - bežné transfery | D109: 69132 | E109: 0 | F109: a | G109: 026 02 | H109: B | I109: =A109&F109 -> 31749852a | J109: =A109&G109 -> 31749852026 02 | K109: športy s lietajúcim diskom | L109: =A109&G109&H109 -> 31749852026 02B | M109: =B109&F109&H109&C109 -> Slovenská asociácia FrisbeeaBšporty s lietajúcim diskom - bežné transfery | N109: =+I109&H109 -> 31749852aB
