Workbook

Sheet Usmernenie
A1: Usmernenie k priebežnému čerpaniu a vyúčtovaniu finančných prostriedkov poskytnutých v roku 2025
A3: ZÁKLADNÉ POKYNY
A4: 1. Vložiť údaje do hárkov "Príjmy" a "Doklady".
A5: 2. Skontrolovať hárky "Doklady" a "Spolu".
A6: 3. Vyplniť hárok "Avízo - vratka" (len Prijímatelia, ktorí nevyčerpali celú sumu). V prípade vratky menšej ako 5 € (vrátane) za všetky účely spolu prijímateľ nevracia finančné prostriedky.
A7: 4. Po kontrole odoslať elektronickú verziu formuláru na adresu ziadosti.sport@mincrs.sk.
A8: 5. Vytlačiť hárky "Spolu", "Doklady", v prípade nevyčerpaných finančných prostriedkov aj vyplnený hárok "Avízo - vratka".
A9: 6. Dopísať do hárku "Spolu" dátum a čas odoslania elektronickej verzie formuláru vyúčtovania.
A10: 7. Podpísať hárok "Spolu" prípadne hárok "Avízo - vratka" štatutárnym zástupcom/zástupcami.
A11: 8. Odoslať vyúčtovanie - hárok "Doklady", hárok "Spolu" prípadne hárok "Avízo - vratka" v listinnej podobe na adresu: Ministerstvo cestovného ruchu a športu SR, sekcia financovania športu a štátnej športovej politiky, Pribinova 32, 810 08 Bratislava .
A12: Pri vypĺňaní odporúčame použiť hárok „Príklady“, v ktorom je uvedený spôsob uvádzania niektorých druhov výdavkov.
A14: Dôrazne žiadame hárky nezabezpečovať heslom!
... A137: Upozornenie: Vo formulári na vyúčtovanie príspevku uznanému športu sú zapracované ustanovenia zákona o športe, podľa ktorých v roku, v ktorom bola vyhlásená krízová situácia a trvala viac ako 30 dní, sa ustanovenia § 69 ods. 4 zákona o športe nepoužijú a ustanovenia zmluvy o poskytnutí príspevku uznanému športu, ktoré sa týkajú rozdelenia finančných prostriedkov podľa § 69 ods. 4, sa v príslušnom kalendárnom roku nebudú uplatňovať. Zaradenie výdavkov do jednotlivých analytických kódov, aj keď má v takom prípade len informatívny charakter, je však potrebné vyplniť.

Sheet Príklady
A1: Príklady vyplnenia formulára
A2: Priebežné čerpanie finančných prostriedkov poskytnutých zo štátneho rozpočtu v oblasti športu v roku 2025 | H2: =+Doklady!I100 -> V4
H3: =+Doklady!I101 -> 45961
A4: Prijímateľ dotácie: | B4: Slovenský zväz skúšobný
A7: Účel úhrady (vyberte zo zoznamu, inak automatické vyhodnocovanie nebude fungovať) | B7: Interné číslo účtovného dokladu | C7: Číslo externého (originálneho) účtovného dokladu | D7: Dátum skutočnej úhrady účtovného dokladu | E7: Popis úhrady (vyberte z rozbaľovacieho zoznamu, alebo zadajte voľný text) | F7: IČO dodávateľa plnenia | G7: Dodávateľ plnenia | H7: Skutočne uhradená suma (eur) | I7: AK
A8: a - kriket - bežné výdavky | D8: 45779 | E8: Organizovanie podujatia Názov podujatia: Svetový pohár v skúškach Miesto konania: Brezno Termín: 15. - 18.4.2025 Počet zúčastnených osôb (okrem divákov): 20
A9: a - kriket - bežné výdavky | B9: 123/2025 | C9: CP14-110 | D9: 45780 | E9: počet odpracovaných hodín spolu: 100 hrubé mzdy vyplatené osobám v súvislosti s podujatím vrátane odvodov zamestnávateľa spolu (dohody, zmluvy, faktúry, a pod.) v eur | G9: osoba 1 - osoba 20 | H9: 400 | I9: 3
A10: a - kriket - bežné výdavky | B10: 124/2025 | C10: DF 24 | D10: 45781 | E10: náklady na ubytovanie 10 športovcov + 1 tréner | G10: Chata Breznovčan | I10: 3
A11: a - kriket - bežné výdavky | B11: 100/2025 | C11: 3020 | D11: 45782 | E11: grafické práce na výrobe loga podujatia | G11: Anna Malá - PROMOTION, s.r.o. | H11: 100 | I11: 3
A12: a - kriket - bežné výdavky | B12: 121/2025 | C12: 100002352 | D12: 45783 | E12: cestovné - vlak - Bratislava - Brezno, 16 osôb | G12: Ján Rýchly | H12: 50 | I12: 3
A13: a - kriket - bežné výdavky | B13: 125/2024 | C13: DF 26 | D13: 45784 | E13: stravovanie 20 osôb | G13: Reštaurácia "U vodníka", Brezno | H13: 200 | I13: 3
A14: a - kriket - bežné výdavky | B14: 126/2024 | C14: DF 29 | D14: 45785 | E14: prenájom plavárne | G14: STARZ, Bratislava | I14: 3
A15: a - kriket - bežné výdavky | B15: 128/2024 | C15: DF 30 | D15: 45786 | E15: nákup športového oblečenia - 15 ks | G15: Adidas, Brezno | H15: 505 | I15: 3
A16: a - kriket - bežné výdavky | D16: 45787 | E16: Pracovná cesta Názov: Majstrovstvá V4 v skúškach Termín: 3.9.2024 Miesto - mesto a štát: Varšava, Poľsko Spôsob dopravy: letecky/BUS Počet všetkých osôb na pracovnej ceste: 6, z toho: - športovci (+ navádzači): 1 - tréneri + rozhodcovia + vedúci výpravy + lekár + fyzioterapeut + masér + ): 1 - ostatné osoby (napr. sponzori, hostia): 4
A17: a - kriket - bežné výdavky | B17: 270/2024 | C17: 3252514 | D17: 45788 | E17: nákup leteniek - 6 ks | G17: Czech Airlines | I17: 2
A18: a - kriket - bežné výdavky | B18: 274/2024 | C18: D/258/2020 | D18: 45789 | E18: materiálové zabezpečenie pretekov - nákup 4 pušiek | G18: Puškárstvo - Ernest Bezaj, Malinovo | I18: 2
A19: a - kriket - bežné výdavky | B19: 275/2024 | C19: DF 32 | D19: 45790 | E19: občerstvenie - 6 osôb | G19: Messing Catering, s.r.o., Rovinka | H19: 1000 | I19: 2
A20: a - kriket - bežné výdavky | B20: 280/2024 | C20: DF 33 | D20: 45791 | E20: ubytovanie - 2 osoby | G20: Jozef Karát - privát, Šaľa | H20: 300 | I20: 2
A21: a - kriket - bežné výdavky | B21: 190/2024 | C21: DF50 | D21: 45792 | E21: prenájom miestnosti | G21: Double Tree Hotel, Bratislava | H21: 600 | I21: 2
A22: a - kriket - bežné výdavky | B22: 250/2024 | C22: 999 | D22: 45793 | E22: cestovné - Cerová - Trnava a späť, 3.9.2024, 2 osoby | G22: Železničná spoločnosť, a.s., Slovensko | H22: 25.9 | I22: 2
A23: a - kriket - bežné výdavky | B23: 251/2024 | C23: 258963 | D23: 45794 | E23: vecné ceny - poháre 3 ks | G23: Victory sport, s.r.o. | I23: 2
A24: a - kriket - bežné výdavky | D24: 45795 | E24: Ostatné
A25: a - kriket - bežné výdavky | B25: 256 | C25: 20 | D25: 45700 | E25: zdravotné služby - Veľká cena Slovenska, Žilina, 1.1.2025 - 2.1.2025 | G25: DZS OPTIMUS, s.r.o. | H25: 200 | I25: 5
A26: a - kriket - bežné výdavky | B26: P1/V/316 | C26: P1/V/316 | D26: 45796 | E26: Hrubé mzdy vyplatené osobám (zamestnancom) vrátane odvodov zamestnávateľa za rok 2024 počet fyzických osôb: 5 | G26: osoba 1, osoba 4 - 7 | I26: 4
A27: a - kriket - bežné výdavky | B27: J/2024-20 | C27: 258 | D27: 45797 | E27: doplnky výživy - 21 športovcov | G27: Lekáreň Kozia, Bratislava | H27: 124 | I27: 2
A28: a - kriket - bežné výdavky | B28: DF2024/326 | C28: 1213275 | D28: 45798 | E28: oprava športtesteru | G28: TOP TREND Patrik Valo | H28: 19.1 | I28: 2
A29: a - kriket - bežné výdavky | B29: DF2024/193 | C29: 2007006035 | D29: 45799 | E29: havarijné poistenie 1-3/2021, EČV BA 258 KK | G29: Uniqa poisťovňa, a.s. | H29: 277.74 | I29: 4
A30: a - kriket - bežné výdavky | B30: 45627 | C30: 258 | D30: 45800 | E30: diaľničná nálepka na rok 2024 | G30: OMV, s.r.o. | H30: 50 | I30: 4
A31: a - kriket - bežné výdavky | B31: 199/2024 | C31: 32 | D31: 45801 | E31: poštovné | G31: Slovenská pošta, a.s. | H31: 9 | I31: 4
A32: a - kriket - bežné výdavky | B32: 45413 | C32: 3 | D32: 45802 | E32: nájom kancelárskych priestorov 2/2024 | G32: Slovenské združenie telesnej kultúry | H32: 10 | I32: 4
A33: a - kriket - bežné výdavky | B33: P1/V/259 | C33: 20123698752 | D33: 45803 | E33: regenerácia, 8 športovcov, 8/2024 | G33: SPORTMEDICAL s.r.o., Bratislava | H33: 500 | I33: 1
A34: a - kriket - bežné výdavky | B34: 235/2024 | C34: 40010 | D34: 45804 | E34: nákup materiálu - reprezentačná vlajka 1 ks | G34: ADAT, s.r.o. | H34: 71.2 | I34: 3
A35: a - kriket - bežné výdavky | B35: 206/2024 | C35: DF100/9/2020 | D35: 45805 | E35: refundácia nákladov na základe zmluvy pre CTM Žilina: Okresné kolo v skúškach, 7.8.2024, Žilina, 43 osôb, z toho: 37 športovcov, 1 tréner, 1 strážna služba, 1 masér, 3 technickí pracovníci, úhrada nákladov za stravovanie | G35: Prestige catering, s.r.o. | H35: 250 | I35: 1
A36: a - kriket - bežné výdavky | B36: 207/2024 | C36: DF500 | D36: 45806 | E36: prenájom plavárne, 4 dráhy, 8 hodín | G36: Mesto Žilina | H36: 320 | I36: 5
A37: a - kriket - bežné výdavky | B37: 305/2024 | C37: 14 | D37: 45807 | E37: upratovacie služby 5/2024 | G37: Boris Dubaj - živnostník | H37: 40 | I37: 4
A38: a - kriket - bežné výdavky | B38: 45292 | C38: V-2020-3 | D38: 45808 | E38: bankové poplatky | G38: SLSP, a.s. | H38: 25 | I38: 4
A39: a - kriket - bežné výdavky | B39: 45352 | C39: 980 | D39: 45809 | E39: poplatok medzinárodnej federácii za rok 2024 | G39: Internationale Asociation ..... | H39: 150 | I39: 4
A40: a - kriket - bežné výdavky | B40: 45383 | C40: 5 | D40: 45810 | E40: členský poplatok za rok 2024 | G40: Konfederácia športových zväzov | H40: 100 | I40: 4
A41: a - kriket - bežné výdavky | B41: 301/2024 | C41: 78954787 | D41: 45811 | E41: prenájom optického kábla 3/2024 | G41: e-Net, s.r.o. | H41: 74.1 | I41: 4
A42: a - kriket - bežné výdavky | B42: 330/2024 | C42: FD52 | D42: 45812 | E42: poplatky za telefón, 7/2024 | G42: Slovak telekom, a.s. | H42: 120 | I42: 2
A43: a - kriket - bežné výdavky | B43: V1-12 | C43: V1-12 | D43: 45813 | E43: PHM - služobné motorové vozidlo EČV: BA 111 SA Obdobie: 14.4. - 18.4.2024 Najazdené kilometre: 800 km | G43: Slovnaft, a.s. Bratislava | H43: 80 | I43: 3
A44: a - kriket - bežné výdavky | B44: 25 | C44: 358 | D44: 45814 | E44: trénerské služby 10/2024 | G44: Ondrej Pado - živnostník | H44: 600 | I44: 1
A45: a - kriket - bežné výdavky | B45: 3 | C45: 26985235 | D45: 45815 | E45: oprava služobného motorového vozidla, BA 222 AA | G45: Prvý autoservis, Bratislava | H45: 10 | I45: 3
A46: a - kriket - bežné výdavky | B46: P1/V/309 | C46: PP46130119 | D46: 45816 | E46: lekárske vyšetrenie - 10 športovcov | G46: Alpha medical a.s. | H46: 19 | I46: 2
A47: a - kriket - bežné výdavky | B47: 300/2024 | C47: 256 | D47: 45817 | E47: laboratórne vyšetrenie | G47: Nemocnica s poliklinikou, Prešov | H47: 230 | I47: 2
A48: a - kriket - bežné výdavky | B48: V/2024/3 | C48: DF2020/143 | D48: 45818 | E48: lyžiarsky servis - február 2024 | G48: Dušan Otčenáš - Martek Sport | H48: 175 | I48: 2
A49: a - kriket - bežné výdavky | B49: ID258 | C49: 369963 | D49: 45819 | E49: športová výstroj - tenisové rakety - 7 ks | G49: Sportissimo, Bratislava | I49: 1
A50: b - Sergej Bubka | D50: 45820 | E50: Pracovná cesta Názov: Výcvikový tábor Termín: 1.12.-20.12.2024 Miesto - mesto a štát: Moskva, Ruská federácia Spôsob dopravy: LET Počet všetkých osôb na pracovnej ceste: 2, z toho - športovci: 1 - tréner: 1 | I50: 10
A51: b - Sergej Bubka | B51: DF2024/309 | C51: 20200136 | D51: 45821 | E51: trénerské služby - 1.12-20.12.2024 | G51: Peter Konrád | H51: 360 | I51: 10
A52: b - Sergej Bubka | B52: R/2024/11 | C52: 20123698752 | D52: 45822 | E52: regenerácia | G52: SPORTMEDICAL s.r.o., Bratislava | H52: 500 | I52: 10
A53: b - Sergej Bubka | B53: 45505 | C53: 369 | D53: 45823 | E53: prenájom tenisového kurtu 1.2.2024 | G53: Národné tenisové centrum, a.s. | H53: 20 | I53: 10
A54: b - Sergej Bubka | B54: 40/2024 | C54: 25412 | D54: 45824 | E54: doplnky výživy | G54: Sunpharma, s.r.o. | H54: 25 | I54: 10
A55: a - kriket - mikrobus | B55: 45536 | C55: 4/2020/DU | D55: 45825 | E55: nákup mikrobusu, EVČ BA 111 SS (faktúra doložená v prílohe vyúčtovania) | G55: AUDI centrum, s.r.o. | H55: 20000 | I55: 5
A56: a - kriket - hala | B56: 89/2024 | C56: 36/14 | D56: 45826 | E56: rekonštrukcia športovej haly v Čadci - opláštenie tribúny, výmena sedadiel, rekonštrukcia šatní a sociálnych zariadení (faktúra doložená v prílohe vyúčtovania) | G56: Rekostav, s.r.o., Čadca | H56: 30000 | I56: 5
A57: (1) - výber a príprava športových talentov | D57: 45827 | E57: Pracovná cesta Názov: Sústredenie dievčat Termín: 03.-07.06.2024 Miesto - mesto a štát: Košice Spôsob dopravy: vlak Počet všetkých osôb na pracovnej ceste: 48, z toho: - športovci (+ navádzači): 44 - tréneri + rozhodcovia + vedúci výpravy + lekár + fyzioterapeut + masér + ): 3 - ostatné osoby (napr. sponzori, hostia): 1
A58: a - kriket - bežné výdavky | B58: ID082 | C58: 555 | D58: 45828 | E58: doprava, BUS, 2.7.2024, 7.6.2021, 39 osôb | G58: Autodoprava Charvát, Veľké Bielice | H58: 123 | I58: 2
A59: a - kriket - bežné výdavky | B59: ID100 | C59: 444 | D59: 45829 | E59: cestovné, VLAK, Banská Bystrica - Košice, 3.7.2024, 8 osôb | G59: Ján Rýchly, prezident zväzu | H59: 1600 | I59: 2
A60: a - kriket - bežné výdavky | D60: 45830 | E60: Ostatné | I60: 2
A61: a - kriket - bežné výdavky | B61: FA213090 | C61: 1300072 | D61: 45831 | E61: potlač 4 ks športových dresov | G61: RES Promotion, s.r.o., Košice 1 | H61: 21.36 | I61: 2
A62: a - kriket - bežné výdavky | B62: 310/2024 | C62: DF2555 | D62: 45832 | E62: regenerácia 16.5.2024, 1 športovec | G62: Fyziopraktik, s.r.o. | H62: 20 | I62: 2
A63: a - kriket - bežné výdavky | B63: 32/2024 | C63: PZ5 | D63: 45833 | E63: trénerská činnosť 12/2024 | G63: Henrich Madaj - živnostník | H63: 200 | I63: 2
A64: a - kriket - bežné výdavky | B64: 25/2024 | C64: 254 | D64: 45834 | E64: Materiálové vybavenie športovcov CTM Žilina, náhradné súčiastky na bicykel | G64: Bottico, s.r.o. Otrokovice | H64: 201.5 | I64: 2
A65: a - kriket - bežné výdavky | B65: 288/2024 | C65: 141 | D65: 45835 | E65: regenerácia športovcov CTM Bobot, 30 hodín | G65: Slovenské liečebné kúpele Rajecké Teplice, a.s. | H65: 1010 | I65: 2
A66: a - kriket - bežné výdavky | B66: ID221 | C66: 25 | D66: 45836 | E66: refundácia nákladov na základe zmluvy za centrum talentovanej mládeže Bošáca: sústredenie mladších žiačok, 30.6.-7.7.2024, Bardejov, ubytovanie, 12 osôb | G66: Ubytovňa Nádej, Bardejov | H66: 1330 | I66: 2
A67: d - finančné odmeny športovcom a trénerom - Eleonóra Sihoťová | B67: 45627 | C67: 760998 | D67: 45837 | E67: odmena športovcom za výsledky dosiahnuté v roku 2024 | G67: Peter Novák | H67: 1000 | I67: 10
A68: d - finančné odmeny športovcom a trénerom - Miroslav Hurban | B68: 13/2024 | C68: 760852 | D68: 45838 | E68: odmena trénerovi mládeže | G68: Miroslav Hurban | H68: 200 | I68: 10
A69: d- Národná súťaž v skúškach | D69: 45839 | E69: Organizovanie podujatia Názov: Národná súťaž v skúškach Termín: 15.06.2024 Miesto - mesto a štát: Pezinok Počet zúčastnených osôb (okrem divákov): 547 | I69: 10
A70: d- Národná súťaž v skúškach | B70: 66/2024 | C70: 25 | D70: 45840 | E70: tlač diplomov A4 547 ks | G70: Mouton, s.r.o. Žilina | H70: 147.35 | I70: 10
A71: d- Národná súťaž v skúškach | B71: 361/2024 | C71: 36 | D71: 45841 | E71: technické a organizačné zabezpečenie súťaže - úprava pretekárskej dráhy, stavba pódia, organizácia záverečného ceremoniálu, moderovanie | G71: Dušan Tesár - Select Managering, s.r.o. | H71: 2500 | I71: 10
A72: d- Národná súťaž v skúškach | B72: 98/2024 | C72: 14 | D72: 45842 | E72: nákup športového vybavenia - 20 ks lôpt | G72: Sport, s.r.o. Poprad | H72: 1200 | I72: 10
A73: d- Národná súťaž v skúškach | B73: PC2024/36 | C73: 56/C | D73: 45843 | E73: PHM - služobné motorové vozidlo EČV: BL 363 AA Obdobie: 10.6.-15.6.2024 Najazdené kilometre: 600 | G73: OMV, s.r.o., Bratislava | H73: 350 | I73: 10
A74: d- Národná súťaž v skúškach | D74: 45844 | E74: Organizovanie podujatia Názov: M-SR žiakov ZŠ v skúškach Termín: 15.05.2024 Miesto - mesto a štát: Nitra Počet zúčastnených osôb (okrem divákov): 220 | I74: 10
A75: d- Národná súťaž v skúškach | B75: 380/2024 | C75: 952 | D75: 45845 | E75: športový materiál - bedmintonové rakety, košíky | G75: Funny sport, s.r.o., Prešov | H75: 230 | I75: 10
A76: d- Národná súťaž v skúškach | B76: 390/2024 | C76: 3852/2020 | D76: 45846 | E76: zdravotné služby | G76: DZS OPTIMUS, s.r.o. | H76: 200 | I76: 10
A78: d- obnova turistických značkovaných trás a údržba turistických informačných miest | B78: 400/2024 | C78: V582/14 | D78: 45847 | E78: materiál na obnovu značkovania - okres Poprad - farby, štetce, stĺpiky | G78: Color, s.r.o., Poprad | H78: 10 | I78: 10

Sheet Príjmy
A1: Aktualizovaná suma prostriedkov poskytnutých ministerstvom k dátumu | C1: 45688 | G1: 45688
G2: 45716
A3: Prijímateľ | B3: =INDEX(Adr!B:B,Doklady!B102+1) -> Slovenský bridžový zväz | G3: 45747
A4: IČO: | B4: =RIGHT("0000"&INDEX(Adr!A:A,Doklady!B102+1),8) -> 31770908 | G4: 45777
A5: Sídlo: | B5: =INDEX(Adr!D:D,Doklady!B102+1)&", "&INDEX(Adr!E:E,Doklady!B102+1) -> Pluhová 1662, Rovinka | G5: 45808
G6: 45838
G7: 45869
G8: 45900
A9: PPG | B9: PPG | C9: Poskytnuté prostriedky | G9: 45930
A10: 026 01 | B10: Šport pre všetkých, školský a univerzitný šport | C10: =+Spolu!C10 -> 0 | G10: 45961
A11: 026 02 | B11: Uznané športy | C11: =+Spolu!C11 -> 19239 | G11: 45991
A12: 026 03 | B12: Národné športové projekty | C12: 0 | G12: 46022
A13: 026 04 | B13: Športová infraštruktúra | C13: =+Spolu!C13 -> 0
A14: 026 05 | B14: Prierezové činnosti v športe | C14: =+Spolu!C14 -> 0
A15: SPOLU | C15: =SUM(C10:C14) -> 19239
A17: Prijímateľ prostriedkov zo štátneho rozpočtu je povinný priebežne zverejňovať informácie o prijatí a spôsobe ich použitia najneskôr do 25. dňa kalendárneho mesiaca nasledujúceho po kalendárnom mesiaci, v ktorom boli prijaté alebo použité ( § 65, ods. 6 zákona č. 440/2015 Z. z. o športe a o zmene a doplnení niektorých zákonov v znení neskorších predpisov).
A61: 15

Sheet Spolu
A1: Priebežné čerpanie a vyúčtovanie finančných prostriedkov poskytnutých zo štátneho rozpočtu v oblasti športu v roku 2025
B3: Prijímateľ dotácie: | C3: =INDEX(Adr!B2:B244,Doklady!B102) -> Slovenský bridžový zväz | I3: =Doklady!I100 -> V4
B4: IČO: | C4: =INDEX(Adr!A2:A244,Doklady!B102) -> 31770908 | I4: =Doklady!I101 -> 45961
B5: Právna forma: | C5: =INDEX(Adr!C2:C244,Doklady!B102) -> občianske združenie
B6: Sídlo: | C6: =INDEX(Adr!D2:D244,Doklady!B102)&", "&INDEX(Adr!E2:E244,Doklady!B102)&", "&INDEX(Adr!F2:F244,Doklady!B102) -> Pluhová 1662, Rovinka, 900 41
A9: PPG | B9: Podprogram | C9: Poskytnuté (eur) | D9: Vyúčtované (eur) | E9: Povinnosť vrátiť (eur)
A10: 026 01 | B10: Šport pre všetkých, školský a univerzitný šport | C10: =SUMIF(FP!J:J,Doklady!$B$1&A10,FP!D:D) -> 0 | D10: =C10-E10 -> 0 | E10: =SUMIF(K:K,A10,I:I) -> 0 | L10: AAA
A11: 026 02 | B11: Uznané športy | C11: =SUMIF(FP!J:J,Doklady!$B$1&A11,FP!D:D) -> 19239 | D11: =+C11-E11 -> 19239 | E11: =+I39-I42+I44-I47 -> 0 | L11: =L41 -> a - bridž - bežné transfery
A12: 026 03 | B12: Národné športové projekty | C12: =SUMIF(FP!J:J,Doklady!$B$1&A12,FP!D:D) -> 0 | D12: =C12-E12 -> 0 | E12: =SUMIF(K:K,A12,I:I) -> 0 | L12: =L42 -> a - bridž - kapitálové transfery
A13: 026 04 | B13: Športová infraštruktúra | C13: =SUMIF(FP!J:J,Doklady!$B$1&A13,FP!D:D) -> 0 | D13: =C13-E13 -> 0 | E13: =SUMIF(K:K,A13,I:I) -> 0 | L13: =L46 -> 2
A14: 026 05 | B14: Prierezové činnosti v športe | C14: =SUMIF(FP!J:J,Doklady!$B$1&A14,FP!D:D) -> 0 | D14: =C14-E14 -> 0 | E14: =SUMIF(K:K,A14,I:I) -> 0 | L14: =L47 -> 2
A16: Účel | B16: Názov | I16: Suma
A17: a | B17: príspevok uznaným športom | I17: =SUMIF(FP!I:I,Doklady!$B$1&A17,FP!D:D) -> 19239
A18: b | B18: príspevok Slovenskému olympijskému a športovému výboru | I18: =SUMIF(FP!I:I,Doklady!$B$1&A18,FP!D:D) -> 0
A19: c | B19: príspevok Slovenskému paralympijskému výboru | I19: =SUMIF(FP!I:I,Doklady!$B$1&A19,FP!D:D) -> 0
A20: d | B20: príspevok športovcom top tímu | I20: =SUMIF(FP!I:I,Doklady!$B$1&A20,FP!D:D) -> 0
A21: e | B21: organizácia významnej súťaže alebo účasť na významnej súťaži podľa § 3 písm. h) vrátane prípravy na túto súťaž | I21: =SUMIF(FP!I:I,Doklady!$B$1&A21,FP!D:D) -> 0
A22: f | B22: plnenie úloh verejného záujmu v športe | I22: =SUMIF(FP!I:I,Doklady!$B$1&A22,FP!D:D) -> 0
A23: g | B23: rozvoj športov, ktoré nie sú uznanými podľa zákona č. 440/2015 Z. z. | I23: =SUMIF(FP!I:I,Doklady!$B$1&A23,FP!D:D) -> 0
A24: h | B24: podpora a rozvoj turistických a cykloturistických trás | I24: =SUMIF(FP!I:I,Doklady!$B$1&A24,FP!D:D) -> 0
A25: i | B25: podpora národného projektu športu pre všetkých so zameraním na mládež | I25: =SUMIF(FP!I:I,Doklady!$B$1&A25,FP!D:D) -> 0
A26: j | B26: projekty školského športu, univerzitného športu a športu pre všetkých | I26: =SUMIF(FP!I:I,Doklady!$B$1&A26,FP!D:D) -> 0
A27: k | B27: výstavba, modernizácia a rekonštrukcia športovej infraštruktúry národného významu | I27: =SUMIF(FP!I:I,Doklady!$B$1&A27,FP!D:D) -> 0
A28: l | B28: športové pohybové tábory pre mládež | I28: =SUMIF(FP!I:I,Doklady!$B$1&A28,FP!D:D) -> 0
A29: m | B29: organizácia tradičných športových podujatí | I29: =SUMIF(FP!I:I,Doklady!$B$1&A29,FP!D:D) -> 0
A30: n | I30: =SUMIF(FP!I:I,Doklady!$B$1&A30,FP!D:D) -> 0
A31: o | I31: =SUMIF(FP!I:I,Doklady!$B$1&A31,FP!D:D) -> 0
A32: p | I32: =SUMIF(FP!I:I,Doklady!$B$1&A32,FP!D:D) -> 0
A33: q | I33: =SUMIF(FP!I:I,Doklady!$B$1&A33,FP!D:D) -> 0
A34: r | I34: =SUMIF(FP!I:I,Doklady!$B$1&A34,FP!D:D) -> 0
A36: Použitie príspevku uznanému športu | C36: 1 | D36: 2 | E36: 3 | F36: 4 | G36: 5 | H36: 5
A38: Účel | B38: ="Šport "&K40 -> Šport bridž | C38: mládež 23 MIN.20% | D38: talenty MIN.20% | E38: reprezentácia MIN.25% | F38: prevádzka MAX.15% | G38: ostatné úlohy | H38: kapitálové transfery z PUŠ | I38: SPOLU | L38: =COUNTIF(FP!N:N,Doklady!B1&"aB") -> 1
A39: a | B39: Poskytnutý príspevok uznanému športu | C39: =I39*0.2 -> 3847.8 | D39: =I39*0.2 -> 3847.8 | E39: =I39*0.25 -> 4809.75 | F39: =+I39*0.15 -> 2885.85 | G39: =+MAX(I39-C39-D39-E39-F39-H39,0) -> 3847.8 | H39: =+IFERROR(VLOOKUP(K40&" - kapitálové transfery",B$53:C$90,2,0),0) -> 0 | I39: =SUMIF(FP!K:K,K40,FP!D:D) -> 19239 | L39: =COUNTIF(FP!N:N,Doklady!B1&"aK") -> 0
A40: a | B40: Vyúčtovaný príspevok uznanému športu | C40: =DSUM(Doklady!A103:J10000,"GGG",Spolu!L40:M42) -> 4333.42 | D40: =DSUM(Doklady!A103:J10000,"GGG",Spolu!N40:O42) -> 3952.24 | E40: =DSUM(Doklady!A103:J10000,"GGG",Spolu!P40:Q42) -> 5989.03 | F40: =DSUM(Doklady!A103:J10000,"GGG",Spolu!R40:S42) -> 341.1 | G40: =DSUM(Doklady!A103:J10000,"GGG",Spolu!T40:U42)-H40 -> 4623.21 | H40: =+IFERROR(VLOOKUP(K40&" - kapitálové transfery",B$53:D$90,3,0),0) -> 0 | I40: =+C40+D40+E40+F40+G40+H40 -> 19239 | J40: =+K45 -> . | K40: =IF(L38>0,INDEX(FP!K:K,Doklady!B2),".") -> bridž | L40: AAA | M40: HHH | N40: AAA | O40: HHH | P40: AAA | Q40: HHH | R40: AAA | S40: HHH | T40: AAA | U40: HHH
A41: a | B41: ROZDIEL | C41: =MAX(C39-C40,0) -> 0 | D41: =MAX(D39-D40,0) -> 0 | E41: =MAX(E39-E40,0) -> 0 | F41: =MIN(I39,MAX(-F39+F40,0)) -> 0 | G41: =MIN(J39,MAX(-G39+G40+MIN(F40-F39,0),0)) -> 0 | H41: =MAX(H39-H40,0) -> 0 | I41: =+I39-I42 -> 0 | J41: =+K46 -> 0 | K41: =+I41-H41 -> 0 | L41: =IF(L38>0,"a - "&INDEX(FP!C:C,Doklady!B2),2) -> a - bridž - bežné transfery | M41: 1 | N41: =+L41 -> a - bridž - bežné transfery | O41: 2 | P41: =+L41 -> a - bridž - bežné transfery | Q41: 3 | R41: =+L41 -> a - bridž - bežné transfery | S41: 4 | T41: =+L41 -> a - bridž - bežné transfery | U41: 5
A42: a | B42: Uznaná suma vyúčtovaných FP | C42: =+C40 -> 4333.42 | D42: =+D40 -> 3952.24 | E42: =+E40 -> 5989.03 | F42: =+MIN(F39:F40) -> 341.1 | G42: =+MIN(G39+MAX(F39-F40,0)-MAX(E40-E39,0)-MAX(D40-D39,0)-MAX(C40-C39,0),G40) -> 4623.21 | H42: =+MIN(H39:H40) -> 0 | I42: =+C42+D42+E42+MIN(F39:F40)+G42+H42 -> 19239 | J42: =+K47 -> 0 | K42: =+I42-H42 -> 19239 | L42: =+SUBSTITUTE(L41,"bežné","kapitálové") -> a - bridž - kapitálové transfery | M42: 1 | N42: =+L42 -> a - bridž - kapitálové transfery | O42: 2 | P42: =+L42 -> a - bridž - kapitálové transfery | Q42: 3 | R42: =+L42 -> a - bridž - kapitálové transfery | S42: 4 | T42: =+L42 -> a - bridž - kapitálové transfery | U42: 5
A43: Účel | B43: =IF(L38>2,"Šport "&INDEX(FP!K:K,Doklady!B2+2),"Šport "&K45) -> Šport . | C43: mládež 23 MIN.20% | D43: talenty MIN.20% | E43: reprezentácia MIN.25% | F43: prevádzka MAX.15% | G43: ostatné úlohy | H43: kapitálové transfery z PUŠ | I43: SPOLU | L43: =L38-1 -> 0
A44: a | B44: Poskytnutý príspevok uznanému športu | C44: =I44*0.2 -> 0 | D44: =I44*0.2 -> 0 | E44: =I44*0.25 -> 0 | F44: =+I44*0.15 -> 0 | G44: =+MAX(I44-C44-D44-E44-F44-H44,0) -> 0 | H44: =+IFERROR(VLOOKUP(K45&" - kapitálové transfery",B$53:C$90,2,0),0) -> 0 | I44: =SUMIF(FP!K:K,K45,FP!D:D) -> 0
A45: a | B45: Vyúčtovaný príspevok uznanému športu | C45: =DSUM(Doklady!A103:J10000,"GGG",Spolu!L45:M47) -> 0 | D45: =DSUM(Doklady!A103:J10000,"GGG",Spolu!N45:O47) -> 0 | E45: =DSUM(Doklady!A103:J10000,"GGG",Spolu!P45:Q47) -> 0 | F45: =DSUM(Doklady!A103:J10000,"GGG",Spolu!R45:S47) -> 0 | G45: =DSUM(Doklady!A103:J10000,"GGG",Spolu!T45:U47)-H45 -> 0 | H45: =+IFERROR(VLOOKUP(K45&" - kapitálové transfery",B$53:D$90,3,0),0) -> 0 | I45: =+C45+D45+E45+F45+G45+H45 -> 0 | K45: =IF(L38>1,INDEX(FP!K:K,Doklady!B2+1),".") -> . | L45: AAA | M45: HHH | N45: AAA | O45: HHH | P45: AAA | Q45: HHH | R45: AAA | S45: HHH | T45: AAA | U45: HHH
A46: a | B46: ROZDIEL | C46: =MAX(C44-C45,0) -> 0 | D46: =MAX(D44-D45,0) -> 0 | E46: =MAX(E44-E45,0) -> 0 | F46: =MIN(I44,MAX(-F44+F45,0)) -> 0 | G46: =MIN(J44,MAX(-G44+G45+MIN(F45-F44,0),0)) -> 0 | H46: =MAX(H44-H45,0) -> 0 | I46: =+I44-I47 -> 0 | K46: =+I46-H46 -> 0 | L46: =IF(L43>0,"a - "&INDEX(FP!C:C,Doklady!B2+1),2) -> 2 | M46: 1 | N46: =+L46 -> 2 | O46: 2 | P46: =+L46 -> 2 | Q46: 3 | R46: =+L46 -> 2 | S46: 4 | T46: =+L46 -> 2 | U46: 5
A47: a | B47: Uznaná suma vyúčtovaných FP | C47: =+C45 -> 0 | D47: =+D45 -> 0 | E47: =+E45 -> 0 | F47: =+MIN(F44:F45) -> 0 | G47: =+MIN(G44+MAX(F44-F45,0)-MAX(E45-E44,0)-MAX(D45-D44,0)-MAX(C45-C44,0),G45) -> 0 | H47: =+MIN(H44:H45) -> 0 | I47: =+C47+D47+E47+MIN(F44:F45)+G47+H47 -> 0 | K47: =+I47-H47 -> 0 | L47: =+SUBSTITUTE(L46,"bežné","kapitálové") -> 2 | M47: 1 | N47: =+L47 -> 2 | O47: 2 | P47: =+L47 -> 2 | Q47: 3 | R47: =+L47 -> 2 | S47: 4 | T47: =+L47 -> 2 | U47: 5
A52: Účel | B52: Účel poskytnutých finančných prostriedkov | C52: Poskytnuté FP | D52: Vyúčtované FP | E52: Povinné SF | F52: Vyúčtované SF | G52: Uznaná suma vyúčtov. FP | I52: Povinnosť vrátiť | K52: PPG | L52: BK | M52: PPGBK
A53: =Doklady!D1 -> a | B53: =Doklady!H1 -> bridž - bežné transfery | C53: =IF(A53<>"",INDEX(FP!D:D,Doklady!B$2+(ROW()-53)),"") -> 19239 | D53: =IF(A53<>"",Doklady!I1-Doklady!J1,"") -> 19239 | E53: =IF(A53<>"",MIN(D53,C53)*Doklady!C1/(1-Doklady!C1),"") -> 0 | F53: =IF(A53<>"",Doklady!J1,"") -> 0 | G53: =+IFERROR(HLOOKUP(IF(RIGHT(B53,15)="bežné transfery",LEFT(B53,LEN(B53)-18),0),$J$40:$K$42,3,0),MIN(C53,D53)) -> 19239 | I53: =IF(A53<>"",MAX(IF(G53<C53,C53-G53,0)+IF(F53<E53,E53-F53,0),0),0) -> 0 | J53: =IF(D53>C53,"Vyúčtované prostriedky nemôžu byť väčšie ako poskytnuté. Opravte v hárku ""Doklady""","") | K53: =Doklady!F1 -> 026 02 | L53: =IF(A53<>"",INDEX(FP!H:H,Doklady!B$2+(ROW()-52)),"") -> B | M53: =K53&L53 -> 026 02B
A54: =Doklady!D2 | B54: =Doklady!H2 | C54: =IF(A54<>"",INDEX(FP!D:D,Doklady!B$2+(ROW()-53)),"") | D54: =IF(A54<>"",Doklady!I2-Doklady!J2,"") | E54: =IF(A54<>"",MIN(D54,C54)*Doklady!C2/(1-Doklady!C2),"") | F54: =IF(A54<>"",Doklady!J2,"") | G54: =+IFERROR(HLOOKUP(IF(RIGHT(B54,15)="bežné transfery",LEFT(B54,LEN(B54)-18),0),$J$40:$K$42,3,0),MIN(C54,D54)) -> 0 | I54: =IF(A54<>"",MAX(IF(G54<C54,C54-G54,0)+IF(F54<E54,E54-F54,0),0),0) -> 0 | J54: =IF(D54>C54,"Vyúčtované prostriedky nemôžu byť väčšie ako poskytnuté. Opravte v hárku ""Doklady""","") | K54: =Doklady!F2 | L54: =IF(A54<>"",INDEX(FP!H:H,Doklady!B$2+(ROW()-52)),"") | M54: =K54&L54
A55: =Doklady!D3 | B55: =Doklady!H3 | C55: =IF(A55<>"",INDEX(FP!D:D,Doklady!B$2+(ROW()-53)),"") | D55: =IF(A55<>"",Doklady!I3-Doklady!J3,"") | E55: =IF(A55<>"",MIN(D55,C55)*Doklady!C3/(1-Doklady!C3),"") | F55: =IF(A55<>"",Doklady!J3,"") | G55: =+IFERROR(HLOOKUP(IF(RIGHT(B55,15)="bežné transfery",LEFT(B55,LEN(B55)-18),0),$J$40:$K$42,3,0),MIN(C55,D55)) -> 0 | I55: =IF(A55<>"",MAX(IF(G55<C55,C55-G55,0)+IF(F55<E55,E55-F55,0),0),0) -> 0 | J55: =IF(D55>C55,"Vyúčtované prostriedky nemôžu byť väčšie ako poskytnuté. Opravte v hárku ""Doklady""","") | K55: =Doklady!F3 | L55: =IF(A55<>"",INDEX(FP!H:H,Doklady!B$2+(ROW()-52)),"") | M55: =K55&L55
A56: =Doklady!D4 | B56: =Doklady!H4 | C56: =IF(A56<>"",INDEX(FP!D:D,Doklady!B$2+(ROW()-53)),"") | D56: =IF(A56<>"",Doklady!I4-Doklady!J4,"") | E56: =IF(A56<>"",MIN(D56,C56)*Doklady!C4/(1-Doklady!C4),"") | F56: =IF(A56<>"",Doklady!J4,"") | G56: =+IFERROR(HLOOKUP(IF(RIGHT(B56,15)="bežné transfery",LEFT(B56,LEN(B56)-18),0),$J$40:$K$42,3,0),MIN(C56,D56)) -> 0 | I56: =IF(A56<>"",MAX(IF(G56<C56,C56-G56,0)+IF(F56<E56,E56-F56,0),0),0) -> 0 | J56: =IF(D56>C56,"Vyúčtované prostriedky nemôžu byť väčšie ako poskytnuté. Opravte v hárku ""Doklady""","") | K56: =Doklady!F4 | L56: =IF(A56<>"",INDEX(FP!H:H,Doklady!B$2+(ROW()-52)),"") | M56: =K56&L56
A57: =Doklady!D5 | B57: =Doklady!H5 | C57: =IF(A57<>"",INDEX(FP!D:D,Doklady!B$2+(ROW()-53)),"") | D57: =IF(A57<>"",Doklady!I5-Doklady!J5,"") | E57: =IF(A57<>"",MIN(D57,C57)*Doklady!C5/(1-Doklady!C5),"") | F57: =IF(A57<>"",Doklady!J5,"") | G57: =+IFERROR(HLOOKUP(IF(RIGHT(B57,15)="bežné transfery",LEFT(B57,LEN(B57)-18),0),$J$40:$K$42,3,0),MIN(C57,D57)) -> 0 | I57: =IF(A57<>"",MAX(IF(G57<C57,C57-G57,0)+IF(F57<E57,E57-F57,0),0),0) -> 0 | J57: =IF(D57>C57,"Vyúčtované prostriedky nemôžu byť väčšie ako poskytnuté. Opravte v hárku ""Doklady""","") | K57: =Doklady!F5 | L57: =IF(A57<>"",INDEX(FP!H:H,Doklady!B$2+(ROW()-52)),"") | M57: =K57&L57
A58: =Doklady!D6 | B58: =Doklady!H6 | C58: =IF(A58<>"",INDEX(FP!D:D,Doklady!B$2+(ROW()-53)),"") | D58: =IF(A58<>"",Doklady!I6-Doklady!J6,"") | E58: =IF(A58<>"",MIN(D58,C58)*Doklady!C6/(1-Doklady!C6),"") | F58: =IF(A58<>"",Doklady!J6,"") | G58: =+IFERROR(HLOOKUP(IF(RIGHT(B58,15)="bežné transfery",LEFT(B58,LEN(B58)-18),0),$J$40:$K$42,3,0),MIN(C58,D58)) -> 0 | I58: =IF(A58<>"",MAX(IF(G58<C58,C58-G58,0)+IF(F58<E58,E58-F58,0),0),0) -> 0 | J58: =IF(D58>C58,"Vyúčtované prostriedky nemôžu byť väčšie ako poskytnuté. Opravte v hárku ""Doklady""","") | K58: =Doklady!F6 | L58: =IF(A58<>"",INDEX(FP!H:H,Doklady!B$2+(ROW()-52)),"") | M58: =K58&L58
A59: =Doklady!D7 | B59: =Doklady!H7 | C59: =IF(A59<>"",INDEX(FP!D:D,Doklady!B$2+(ROW()-53)),"") | D59: =IF(A59<>"",Doklady!I7-Doklady!J7,"") | E59: =IF(A59<>"",MIN(D59,C59)*Doklady!C7/(1-Doklady!C7),"") | F59: =IF(A59<>"",Doklady!J7,"") | G59: =+IFERROR(HLOOKUP(IF(RIGHT(B59,15)="bežné transfery",LEFT(B59,LEN(B59)-18),0),$J$40:$K$42,3,0),MIN(C59,D59)) -> 0 | I59: =IF(A59<>"",MAX(IF(G59<C59,C59-G59,0)+IF(F59<E59,E59-F59,0),0),0) -> 0 | J59: =IF(D59>C59,"Vyúčtované prostriedky nemôžu byť väčšie ako poskytnuté. Opravte v hárku ""Doklady""","") | K59: =Doklady!F7 | L59: =IF(A59<>"",INDEX(FP!H:H,Doklady!B$2+(ROW()-52)),"") | M59: =K59&L59
A60: =Doklady!D8 | B60: =Doklady!H8 | C60: =IF(A60<>"",INDEX(FP!D:D,Doklady!B$2+(ROW()-53)),"") | D60: =IF(A60<>"",Doklady!I8-Doklady!J8,"") | E60: =IF(A60<>"",MIN(D60,C60)*Doklady!C8/(1-Doklady!C8),"") | F60: =IF(A60<>"",Doklady!J8,"") | G60: =+IFERROR(HLOOKUP(IF(RIGHT(B60,15)="bežné transfery",LEFT(B60,LEN(B60)-18),0),$J$40:$K$42,3,0),MIN(C60,D60)) -> 0 | I60: =IF(A60<>"",MAX(IF(G60<C60,C60-G60,0)+IF(F60<E60,E60-F60,0),0),0) -> 0 | J60: =IF(D60>C60,"Vyúčtované prostriedky nemôžu byť väčšie ako poskytnuté. Opravte v hárku ""Doklady""","") | K60: =Doklady!F8 | L60: =IF(A60<>"",INDEX(FP!H:H,Doklady!B$2+(ROW()-52)),"") | M60: =K60&L60
A61: =Doklady!D9 | B61: =Doklady!H9 | C61: =IF(A61<>"",INDEX(FP!D:D,Doklady!B$2+(ROW()-53)),"") | D61: =IF(A61<>"",Doklady!I9-Doklady!J9,"") | E61: =IF(A61<>"",MIN(D61,C61)*Doklady!C9/(1-Doklady!C9),"") | F61: =IF(A61<>"",Doklady!J9,"") | G61: =+IFERROR(HLOOKUP(IF(RIGHT(B61,15)="bežné transfery",LEFT(B61,LEN(B61)-18),0),$J$40:$K$42,3,0),MIN(C61,D61)) -> 0 | I61: =IF(A61<>"",MAX(IF(G61<C61,C61-G61,0)+IF(F61<E61,E61-F61,0),0),0) -> 0 | J61: =IF(D61>C61,"Vyúčtované prostriedky nemôžu byť väčšie ako poskytnuté. Opravte v hárku ""Doklady""","") | K61: =Doklady!F9 | L61: =IF(A61<>"",INDEX(FP!H:H,Doklady!B$2+(ROW()-52)),"") | M61: =K61&L61
A62: =Doklady!D10 | B62: =Doklady!H10 | C62: =IF(A62<>"",INDEX(FP!D:D,Doklady!B$2+(ROW()-53)),"") | D62: =IF(A62<>"",Doklady!I10-Doklady!J10,"") | E62: =IF(A62<>"",MIN(D62,C62)*Doklady!C10/(1-Doklady!C10),"") | F62: =IF(A62<>"",Doklady!J10,"") | G62: =+IFERROR(HLOOKUP(IF(RIGHT(B62,15)="bežné transfery",LEFT(B62,LEN(B62)-18),0),$J$40:$K$42,3,0),MIN(C62,D62)) -> 0 | I62: =IF(A62<>"",MAX(IF(G62<C62,C62-G62,0)+IF(F62<E62,E62-F62,0),0),0) -> 0 | J62: =IF(D62>C62,"Vyúčtované prostriedky nemôžu byť väčšie ako poskytnuté. Opravte v hárku ""Doklady""","") | K62: =Doklady!F10 | L62: =IF(A62<>"",INDEX(FP!H:H,Doklady!B$2+(ROW()-52)),"") | M62: =K62&L62
A63: =Doklady!D11 | B63: =Doklady!H11 | C63: =IF(A63<>"",INDEX(FP!D:D,Doklady!B$2+(ROW()-53)),"") | D63: =IF(A63<>"",Doklady!I11-Doklady!J11,"") | E63: =IF(A63<>"",MIN(D63,C63)*Doklady!C11/(1-Doklady!C11),"") | F63: =IF(A63<>"",Doklady!J11,"") | G63: =+IFERROR(HLOOKUP(IF(RIGHT(B63,15)="bežné transfery",LEFT(B63,LEN(B63)-18),0),$J$40:$K$42,3,0),MIN(C63,D63)) -> 0 | I63: =IF(A63<>"",MAX(IF(G63<C63,C63-G63,0)+IF(F63<E63,E63-F63,0),0),0) -> 0 | J63: =IF(D63>C63,"Vyúčtované prostriedky nemôžu byť väčšie ako poskytnuté. Opravte v hárku ""Doklady""","") | K63: =Doklady!F11 | L63: =IF(A63<>"",INDEX(FP!H:H,Doklady!B$2+(ROW()-52)),"") | M63: =K63&L63
A64: =Doklady!D12 | B64: =Doklady!H12 | C64: =IF(A64<>"",INDEX(FP!D:D,Doklady!B$2+(ROW()-53)),"") | D64: =IF(A64<>"",Doklady!I12-Doklady!J12,"") | E64: =IF(A64<>"",MIN(D64,C64)*Doklady!C12/(1-Doklady!C12),"") | F64: =IF(A64<>"",Doklady!J12,"") | G64: =+IFERROR(HLOOKUP(IF(RIGHT(B64,15)="bežné transfery",LEFT(B64,LEN(B64)-18),0),$J$40:$K$42,3,0),MIN(C64,D64)) -> 0 | I64: =IF(A64<>"",MAX(IF(G64<C64,C64-G64,0)+IF(F64<E64,E64-F64,0),0),0) -> 0 | J64: ; | K64: =Doklady!F12 | L64: =IF(A64<>"",INDEX(FP!H:H,Doklady!B$2+(ROW()-52)),"") | M64: =K64&L64
A65: =Doklady!D13 | B65: =Doklady!H13 | C65: =IF(A65<>"",INDEX(FP!D:D,Doklady!B$2+(ROW()-53)),"") | D65: =IF(A65<>"",Doklady!I13-Doklady!J13,"") | E65: =IF(A65<>"",MIN(D65,C65)*Doklady!C13/(1-Doklady!C13),"") | F65: =IF(A65<>"",Doklady!J13,"") | G65: =+IFERROR(HLOOKUP(IF(RIGHT(B65,15)="bežné transfery",LEFT(B65,LEN(B65)-18),0),$J$40:$K$42,3,0),MIN(C65,D65)) -> 0 | I65: =IF(A65<>"",MAX(IF(G65<C65,C65-G65,0)+IF(F65<E65,E65-F65,0),0),0) -> 0 | J65: =IF(D65>C65,"Vyúčtované prostriedky nemôžu byť väčšie ako poskytnuté. Opravte v hárku ""Doklady""","") | K65: =Doklady!F13 | L65: =IF(A65<>"",INDEX(FP!H:H,Doklady!B$2+(ROW()-52)),"") | M65: =K65&L65
A66: =Doklady!D14 | B66: =Doklady!H14 | C66: =IF(A66<>"",INDEX(FP!D:D,Doklady!B$2+(ROW()-53)),"") | D66: =IF(A66<>"",Doklady!I14-Doklady!J14,"") | E66: =IF(A66<>"",MIN(D66,C66)*Doklady!C14/(1-Doklady!C14),"") | F66: =IF(A66<>"",Doklady!J14,"") | G66: =+IFERROR(HLOOKUP(IF(RIGHT(B66,15)="bežné transfery",LEFT(B66,LEN(B66)-18),0),$J$40:$K$42,3,0),MIN(C66,D66)) -> 0 | I66: =IF(A66<>"",MAX(IF(G66<C66,C66-G66,0)+IF(F66<E66,E66-F66,0),0),0) -> 0 | J66: =IF(D66>C66,"Vyúčtované prostriedky nemôžu byť väčšie ako poskytnuté. Opravte v hárku ""Doklady""","") | K66: =Doklady!F14 | L66: =IF(A66<>"",INDEX(FP!H:H,Doklady!B$2+(ROW()-52)),"") | M66: =K66&L66
A67: =Doklady!D15 | B67: =Doklady!H15 | C67: =IF(A67<>"",INDEX(FP!D:D,Doklady!B$2+(ROW()-53)),"") | D67: =IF(A67<>"",Doklady!I15-Doklady!J15,"") | E67: =IF(A67<>"",MIN(D67,C67)*Doklady!C15/(1-Doklady!C15),"") | F67: =IF(A67<>"",Doklady!J15,"") | G67: =+IFERROR(HLOOKUP(IF(RIGHT(B67,15)="bežné transfery",LEFT(B67,LEN(B67)-18),0),$J$40:$K$42,3,0),MIN(C67,D67)) -> 0 | I67: =IF(A67<>"",MAX(IF(G67<C67,C67-G67,0)+IF(F67<E67,E67-F67,0),0),0) -> 0 | J67: =IF(D67>C67,"Vyúčtované prostriedky nemôžu byť väčšie ako poskytnuté. Opravte v hárku ""Doklady""","") | K67: =Doklady!F15 | L67: =IF(A67<>"",INDEX(FP!H:H,Doklady!B$2+(ROW()-52)),"") | M67: =K67&L67
A68: =Doklady!D16 | B68: =Doklady!H16 | C68: =IF(A68<>"",INDEX(FP!D:D,Doklady!B$2+(ROW()-53)),"") | D68: =IF(A68<>"",Doklady!I16-Doklady!J16,"") | E68: =IF(A68<>"",MIN(D68,C68)*Doklady!C16/(1-Doklady!C16),"") | F68: =IF(A68<>"",Doklady!J16,"") | G68: =+IFERROR(HLOOKUP(IF(RIGHT(B68,15)="bežné transfery",LEFT(B68,LEN(B68)-18),0),$J$40:$K$42,3,0),MIN(C68,D68)) -> 0 | I68: =IF(A68<>"",MAX(IF(G68<C68,C68-G68,0)+IF(F68<E68,E68-F68,0),0),0) -> 0 | J68: =IF(D68>C68,"Vyúčtované prostriedky nemôžu byť väčšie ako poskytnuté. Opravte v hárku ""Doklady""","") | K68: =Doklady!F16 | L68: =IF(A68<>"",INDEX(FP!H:H,Doklady!B$2+(ROW()-52)),"") | M68: =K68&L68
A69: =Doklady!D17 | B69: =Doklady!H17 | C69: =IF(A69<>"",INDEX(FP!D:D,Doklady!B$2+(ROW()-53)),"") | D69: =IF(A69<>"",Doklady!I17-Doklady!J17,"") | E69: =IF(A69<>"",MIN(D69,C69)*Doklady!C17/(1-Doklady!C17),"") | F69: =IF(A69<>"",Doklady!J17,"") | G69: =+IFERROR(HLOOKUP(IF(RIGHT(B69,15)="bežné transfery",LEFT(B69,LEN(B69)-18),0),$J$40:$K$42,3,0),MIN(C69,D69)) -> 0 | I69: =IF(A69<>"",MAX(IF(G69<C69,C69-G69,0)+IF(F69<E69,E69-F69,0),0),0) -> 0 | J69: =IF(D69>C69,"Vyúčtované prostriedky nemôžu byť väčšie ako poskytnuté. Opravte v hárku ""Doklady""","") | K69: =Doklady!F17 | L69: =IF(A69<>"",INDEX(FP!H:H,Doklady!B$2+(ROW()-52)),"") | M69: =K69&L69
A70: =Doklady!D18 | B70: =Doklady!H18 | C70: =IF(A70<>"",INDEX(FP!D:D,Doklady!B$2+(ROW()-53)),"") | D70: =IF(A70<>"",Doklady!I18-Doklady!J18,"") | E70: =IF(A70<>"",MIN(D70,C70)*Doklady!C18/(1-Doklady!C18),"") | F70: =IF(A70<>"",Doklady!J18,"") | G70: =+IFERROR(HLOOKUP(IF(RIGHT(B70,15)="bežné transfery",LEFT(B70,LEN(B70)-18),0),$J$40:$K$42,3,0),MIN(C70,D70)) -> 0 | I70: =IF(A70<>"",MAX(IF(G70<C70,C70-G70,0)+IF(F70<E70,E70-F70,0),0),0) -> 0 | J70: =IF(D70>C70,"Vyúčtované prostriedky nemôžu byť väčšie ako poskytnuté. Opravte v hárku ""Doklady""","") | K70: =Doklady!F18 | L70: =IF(A70<>"",INDEX(FP!H:H,Doklady!B$2+(ROW()-52)),"") | M70: =K70&L70
A71: =Doklady!D19 | B71: =Doklady!H19 | C71: =IF(A71<>"",INDEX(FP!D:D,Doklady!B$2+(ROW()-53)),"") | D71: =IF(A71<>"",Doklady!I19-Doklady!J19,"") | E71: =IF(A71<>"",MIN(D71,C71)*Doklady!C19/(1-Doklady!C19),"") | F71: =IF(A71<>"",Doklady!J19,"") | G71: =+IFERROR(HLOOKUP(IF(RIGHT(B71,15)="bežné transfery",LEFT(B71,LEN(B71)-18),0),$J$40:$K$42,3,0),MIN(C71,D71)) -> 0 | I71: =IF(A71<>"",MAX(IF(G71<C71,C71-G71,0)+IF(F71<E71,E71-F71,0),0),0) -> 0 | J71: =IF(D71>C71,"Vyúčtované prostriedky nemôžu byť väčšie ako poskytnuté. Opravte v hárku ""Doklady""","") | K71: =Doklady!F19 | L71: =IF(A71<>"",INDEX(FP!H:H,Doklady!B$2+(ROW()-52)),"") | M71: =K71&L71
A72: =Doklady!D20 | B72: =Doklady!H20 | C72: =IF(A72<>"",INDEX(FP!D:D,Doklady!B$2+(ROW()-53)),"") | D72: =IF(A72<>"",Doklady!I20-Doklady!J20,"") | E72: =IF(A72<>"",MIN(D72,C72)*Doklady!C20/(1-Doklady!C20),"") | F72: =IF(A72<>"",Doklady!J20,"") | G72: =+IFERROR(HLOOKUP(IF(RIGHT(B72,15)="bežné transfery",LEFT(B72,LEN(B72)-18),0),$J$40:$K$42,3,0),MIN(C72,D72)) -> 0 | I72: =IF(A72<>"",MAX(IF(G72<C72,C72-G72,0)+IF(F72<E72,E72-F72,0),0),0) -> 0 | J72: =IF(D72>C72,"Vyúčtované prostriedky nemôžu byť väčšie ako poskytnuté. Opravte v hárku ""Doklady""","") | K72: =Doklady!F20 | L72: =IF(A72<>"",INDEX(FP!H:H,Doklady!B$2+(ROW()-52)),"") | M72: =K72&L72
A73: =Doklady!D21 | B73: =Doklady!H21 | C73: =IF(A73<>"",INDEX(FP!D:D,Doklady!B$2+(ROW()-53)),"") | D73: =IF(A73<>"",Doklady!I21-Doklady!J21,"") | E73: =IF(A73<>"",MIN(D73,C73)*Doklady!C21/(1-Doklady!C21),"") | F73: =IF(A73<>"",Doklady!J21,"") | G73: =+IFERROR(HLOOKUP(IF(RIGHT(B73,15)="bežné transfery",LEFT(B73,LEN(B73)-18),0),$J$40:$K$42,3,0),MIN(C73,D73)) -> 0 | I73: =IF(A73<>"",MAX(IF(G73<C73,C73-G73,0)+IF(F73<E73,E73-F73,0),0),0) -> 0 | J73: =IF(D73>C73,"Vyúčtované prostriedky nemôžu byť väčšie ako poskytnuté. Opravte v hárku ""Doklady""","") | K73: =Doklady!F21 | L73: =IF(A73<>"",INDEX(FP!H:H,Doklady!B$2+(ROW()-52)),"") | M73: =K73&L73
A74: =Doklady!D22 | B74: =Doklady!H22 | C74: =IF(A74<>"",INDEX(FP!D:D,Doklady!B$2+(ROW()-53)),"") | D74: =IF(A74<>"",Doklady!I22-Doklady!J22,"") | E74: =IF(A74<>"",MIN(D74,C74)*Doklady!C22/(1-Doklady!C22),"") | F74: =IF(A74<>"",Doklady!J22,"") | G74: =+IFERROR(HLOOKUP(IF(RIGHT(B74,15)="bežné transfery",LEFT(B74,LEN(B74)-18),0),$J$40:$K$42,3,0),MIN(C74,D74)) -> 0 | I74: =IF(A74<>"",MAX(IF(G74<C74,C74-G74,0)+IF(F74<E74,E74-F74,0),0),0) -> 0 | J74: =IF(D74>C74,"Vyúčtované prostriedky nemôžu byť väčšie ako poskytnuté. Opravte v hárku ""Doklady""","") | K74: =Doklady!F22 | L74: =IF(A74<>"",INDEX(FP!H:H,Doklady!B$2+(ROW()-52)),"") | M74: =K74&L74
A75: =Doklady!D23 | B75: =Doklady!H23 | C75: =IF(A75<>"",INDEX(FP!D:D,Doklady!B$2+(ROW()-53)),"") | D75: =IF(A75<>"",Doklady!I23-Doklady!J23,"") | E75: =IF(A75<>"",MIN(D75,C75)*Doklady!C23/(1-Doklady!C23),"") | F75: =IF(A75<>"",Doklady!J23,"") | G75: =+IFERROR(HLOOKUP(IF(RIGHT(B75,15)="bežné transfery",LEFT(B75,LEN(B75)-18),0),$J$40:$K$42,3,0),MIN(C75,D75)) -> 0 | I75: =IF(A75<>"",MAX(IF(G75<C75,C75-G75,0)+IF(F75<E75,E75-F75,0),0),0) -> 0 | J75: =IF(D75>C75,"Vyúčtované prostriedky nemôžu byť väčšie ako poskytnuté. Opravte v hárku ""Doklady""","") | K75: =Doklady!F23 | L75: =IF(A75<>"",INDEX(FP!H:H,Doklady!B$2+(ROW()-52)),"") | M75: =K75&L75
A76: =Doklady!D24 | B76: =Doklady!H24 | C76: =IF(A76<>"",INDEX(FP!D:D,Doklady!B$2+(ROW()-53)),"") | D76: =IF(A76<>"",Doklady!I24-Doklady!J24,"") | E76: =IF(A76<>"",MIN(D76,C76)*Doklady!C24/(1-Doklady!C24),"") | F76: =IF(A76<>"",Doklady!J24,"") | G76: =+IFERROR(HLOOKUP(IF(RIGHT(B76,15)="bežné transfery",LEFT(B76,LEN(B76)-18),0),$J$40:$K$42,3,0),MIN(C76,D76)) -> 0 | I76: =IF(A76<>"",MAX(IF(G76<C76,C76-G76,0)+IF(F76<E76,E76-F76,0),0),0) -> 0 | J76: =IF(D76>C76,"Vyúčtované prostriedky nemôžu byť väčšie ako poskytnuté. Opravte v hárku ""Doklady""","") | K76: =Doklady!F24 | L76: =IF(A76<>"",INDEX(FP!H:H,Doklady!B$2+(ROW()-52)),"") | M76: =K76&L76
... A128: =Doklady!D76 | B128: =Doklady!H76 | C128: =IF(A128<>"",INDEX(FP!D:D,Doklady!B$2+(ROW()-53)),"") | D128: =IF(A128<>"",Doklady!I76-Doklady!J76,"") | E128: =IF(A128<>"",MIN(D128,C128)*Doklady!C76/(1-Doklady!C76),"") | F128: =IF(A128<>"",Doklady!J76,"") | G128: =+IFERROR(HLOOKUP(IF(RIGHT(B128,15)="bežné transfery",LEFT(B128,LEN(B128)-18),0),$J$40:$K$42,3,0),MIN(C128,D128)) -> 0 | I128: =IF(A128<>"",MAX(IF(G128<C128,C128-G128,0)+IF(F128<E128,E128-F128,0),0),0) -> 0 | J128: =IF(D128>C128,"Vyúčtované prostriedky nemôžu byť väčšie ako poskytnuté. Opravte v hárku ""Doklady""","") | K128: =Doklady!F76 | L128: =IF(A128<>"",INDEX(FP!H:H,Doklady!B$2+(ROW()-52)),"") | M128: =K128&L128
J129: =IF(D129>C129,"Vyúčtované prostriedky nemôžu byť väčšie ako poskytnuté. Opravte v hárku ""Doklady""","") | K129: =Doklady!F77 | L129: =IF(A129<>"",INDEX(FP!H:H,Doklady!B$2+(ROW()-52)),"") | M129: =K129&L129
A130: =Doklady!D66 | B130: SPOLU | C130: =SUM(C53:C129) -> 19239 | D130: =SUM(D53:D129) -> 19239 | E130: =SUM(E53:E129) -> 0 | F130: =SUM(F53:F129) -> 0 | G130: =SUM(G53:G129) -> 19239 | H130: =SUM(H53:H129) -> 0 | I130: =SUM(I53:I129) -> 0 | J130: =IF(D130>C130,"Vyúčtované prostriedky nemôžu byť väčšie ako poskytnuté. Opravte v hárku ""Doklady""","")
A132: Čestne vyhlasujem, že
A133: a) všetky uvedené údaje sú pravdivé,
A134: b) dolu podpísaná osoba/osoby je oprávnená/sú oprávnené v súlade so stanovami/zriaďovacou listinou na podpis vyúčtovania finančných prostriedkov poskytnutých v roku 2025.
A135: c) toto vytlačené a podpísané vyúčtovanie je zhodné s hárkom, ktorý sme zaslali na adresu ziadosti.sport@mincrs.sk dňa ....................... o .......... hod. ........ min.
A137: Súhlasím so zhromažďovaním, spracovávaním a zverejňovaním poskytnutých údajov.
A139: Dátum:
D140: Ing. Milan Krajčo
B141: Kontaktná osoba zodpovedná za vyplnený formulár meno a priezvisko:Ing. Milan Krajčo e-mail: milkrajco@gmail.com tel. kontakt (mobil): 0915 713 543 | D141: Meno, priezvisko a podpis štatutárneho zástupcu/zástupcov oprávneného/oprávnených na podpis žiadosti a zmluvy o poskytnutí finančných prostriedkov v súlade so stanovami, resp. zriaďovacou listinou

Sheet Doklady
A1: =IF(ROW()<=B$3,INDEX(FP!F:F,B$2+ROW()-1)&" - "&INDEX(FP!C:C,B$2+ROW()-1),"") -> a - bridž - bežné transfery | B1: =INDEX(Adr!A:A,B102+1) -> 31770908 | C1: =IF(ROW()<=B$3,INDEX(FP!E:E,B$2+ROW()-1),"") -> 0 | D1: =IF(ROW()<=B$3,INDEX(FP!F:F,B$2+ROW()-1),"") -> a | F1: =IF(ROW()<=B$3,INDEX(FP!G:G,B$2+ROW()-1),"") -> 026 02 | H1: =IF(ROW()<=B$3,INDEX(FP!C:C,B$2+ROW()-1),"") -> bridž - bežné transfery | I1: =IF(ROW()<=B$3,SUMIF(A$107:A$10042,A1,I$107:I$10042),"") -> 19239 | J1: =IF(ROW()<=B$3,SUMIFS(I$103:I$50042,A$103:A$50042,K1,J$103:J$50042,L1),"") -> 0 | K1: =$A1 -> a - bridž - bežné transfery | L1: 99
A2: =IF(ROW()<=B$3,INDEX(FP!F:F,B$2+ROW()-1)&" - "&INDEX(FP!C:C,B$2+ROW()-1),"") | B2: =MATCH(B1,FP!A:A,0) -> 245 | C2: =IF(ROW()<=B$3,INDEX(FP!E:E,B$2+ROW()-1),"") | D2: =IF(ROW()<=B$3,INDEX(FP!F:F,B$2+ROW()-1),"") | F2: =IF(ROW()<=B$3,INDEX(FP!G:G,B$2+ROW()-1),"") | H2: =IF(ROW()<=B$3,INDEX(FP!C:C,B$2+ROW()-1),"") | I2: =IF(ROW()<=B$3,SUMIF(A$107:A$10042,A2,I$107:I$10042),"") | J2: =IF(ROW()<=B$3,SUMIFS(I$103:I$50042,A$103:A$50042,K2,J$103:J$50042,L2),"") | K2: =$A2 | L2: 99 | M2: AAA | N2: HHH
A3: =IF(ROW()<=B$3,INDEX(FP!F:F,B$2+ROW()-1)&" - "&INDEX(FP!C:C,B$2+ROW()-1),"") | B3: =COUNTIF(FP!A:A,Doklady!B1) -> 1 | C3: =IF(ROW()<=B$3,INDEX(FP!E:E,B$2+ROW()-1),"") | D3: =IF(ROW()<=B$3,INDEX(FP!F:F,B$2+ROW()-1),"") | F3: =IF(ROW()<=B$3,INDEX(FP!G:G,B$2+ROW()-1),"") | H3: =IF(ROW()<=B$3,INDEX(FP!C:C,B$2+ROW()-1),"") | I3: =IF(ROW()<=B$3,SUMIF(A$107:A$10042,A3,I$107:I$10042),"") | J3: =IF(ROW()<=B$3,SUMIFS(I$103:I$50042,A$103:A$50042,K3,J$103:J$50042,L3),"") | K3: =$A3 | L3: 99 | M3: =$A2 | N3: 99
A4: =IF(ROW()<=B$3,INDEX(FP!F:F,B$2+ROW()-1)&" - "&INDEX(FP!C:C,B$2+ROW()-1),"") | C4: =IF(ROW()<=B$3,INDEX(FP!E:E,B$2+ROW()-1),"") | D4: =IF(ROW()<=B$3,INDEX(FP!F:F,B$2+ROW()-1),"") | F4: =IF(ROW()<=B$3,INDEX(FP!G:G,B$2+ROW()-1),"") | H4: =IF(ROW()<=B$3,INDEX(FP!C:C,B$2+ROW()-1),"") | I4: =IF(ROW()<=B$3,SUMIF(A$107:A$10042,A4,I$107:I$10042),"") | J4: =IF(ROW()<=B$3,SUMIFS(I$103:I$50042,A$103:A$50042,K4,J$103:J$50042,L4),"") | K4: =$A4 | L4: 99 | M4: AAA | N4: HHH
A5: =IF(ROW()<=B$3,INDEX(FP!F:F,B$2+ROW()-1)&" - "&INDEX(FP!C:C,B$2+ROW()-1),"") | C5: =IF(ROW()<=B$3,INDEX(FP!E:E,B$2+ROW()-1),"") | D5: =IF(ROW()<=B$3,INDEX(FP!F:F,B$2+ROW()-1),"") | F5: =IF(ROW()<=B$3,INDEX(FP!G:G,B$2+ROW()-1),"") | H5: =IF(ROW()<=B$3,INDEX(FP!C:C,B$2+ROW()-1),"") | I5: =IF(ROW()<=B$3,SUMIF(A$107:A$10042,A5,I$107:I$10042),"") | J5: =IF(ROW()<=B$3,SUMIFS(I$103:I$50042,A$103:A$50042,K5,J$103:J$50042,L5),"") | K5: =$A5 | L5: 99 | M5: =$A4 | N5: 99
A6: =IF(ROW()<=B$3,INDEX(FP!F:F,B$2+ROW()-1)&" - "&INDEX(FP!C:C,B$2+ROW()-1),"") | C6: =IF(ROW()<=B$3,INDEX(FP!E:E,B$2+ROW()-1),"") | D6: =IF(ROW()<=B$3,INDEX(FP!F:F,B$2+ROW()-1),"") | F6: =IF(ROW()<=B$3,INDEX(FP!G:G,B$2+ROW()-1),"") | H6: =IF(ROW()<=B$3,INDEX(FP!C:C,B$2+ROW()-1),"") | I6: =IF(ROW()<=B$3,SUMIF(A$107:A$10042,A6,I$107:I$10042),"") | J6: =IF(ROW()<=B$3,SUMIFS(I$103:I$50042,A$103:A$50042,K6,J$103:J$50042,L6),"") | K6: =$A6 | L6: 99 | M6: AAA | N6: HHH
A7: =IF(ROW()<=B$3,INDEX(FP!F:F,B$2+ROW()-1)&" - "&INDEX(FP!C:C,B$2+ROW()-1),"") | C7: =IF(ROW()<=B$3,INDEX(FP!E:E,B$2+ROW()-1),"") | D7: =IF(ROW()<=B$3,INDEX(FP!F:F,B$2+ROW()-1),"") | F7: =IF(ROW()<=B$3,INDEX(FP!G:G,B$2+ROW()-1),"") | H7: =IF(ROW()<=B$3,INDEX(FP!C:C,B$2+ROW()-1),"") | I7: =IF(ROW()<=B$3,SUMIF(A$107:A$10042,A7,I$107:I$10042),"") | J7: =IF(ROW()<=B$3,SUMIFS(I$103:I$50042,A$103:A$50042,K7,J$103:J$50042,L7),"") | K7: =$A7 | L7: 99 | M7: =$A6 | N7: 99
A8: =IF(ROW()<=B$3,INDEX(FP!F:F,B$2+ROW()-1)&" - "&INDEX(FP!C:C,B$2+ROW()-1),"") | C8: =IF(ROW()<=B$3,INDEX(FP!E:E,B$2+ROW()-1),"") | D8: =IF(ROW()<=B$3,INDEX(FP!F:F,B$2+ROW()-1),"") | F8: =IF(ROW()<=B$3,INDEX(FP!G:G,B$2+ROW()-1),"") | H8: =IF(ROW()<=B$3,INDEX(FP!C:C,B$2+ROW()-1),"") | I8: =IF(ROW()<=B$3,SUMIF(A$107:A$10042,A8,I$107:I$10042),"") | J8: =IF(ROW()<=B$3,SUMIFS(I$103:I$50042,A$103:A$50042,K8,J$103:J$50042,L8),"") | K8: =$A8 | L8: 99 | M8: AAA | N8: HHH
A9: =IF(ROW()<=B$3,INDEX(FP!F:F,B$2+ROW()-1)&" - "&INDEX(FP!C:C,B$2+ROW()-1),"") | C9: =IF(ROW()<=B$3,INDEX(FP!E:E,B$2+ROW()-1),"") | D9: =IF(ROW()<=B$3,INDEX(FP!F:F,B$2+ROW()-1),"") | F9: =IF(ROW()<=B$3,INDEX(FP!G:G,B$2+ROW()-1),"") | H9: =IF(ROW()<=B$3,INDEX(FP!C:C,B$2+ROW()-1),"") | I9: =IF(ROW()<=B$3,SUMIF(A$107:A$10042,A9,I$107:I$10042),"") | J9: =IF(ROW()<=B$3,SUMIFS(I$103:I$50042,A$103:A$50042,K9,J$103:J$50042,L9),"") | K9: =$A9 | L9: 99 | M9: =$A8 | N9: 99
A10: =IF(ROW()<=B$3,INDEX(FP!F:F,B$2+ROW()-1)&" - "&INDEX(FP!C:C,B$2+ROW()-1),"") | C10: =IF(ROW()<=B$3,INDEX(FP!E:E,B$2+ROW()-1),"") | D10: =IF(ROW()<=B$3,INDEX(FP!F:F,B$2+ROW()-1),"") | F10: =IF(ROW()<=B$3,INDEX(FP!G:G,B$2+ROW()-1),"") | H10: =IF(ROW()<=B$3,INDEX(FP!C:C,B$2+ROW()-1),"") | I10: =IF(ROW()<=B$3,SUMIF(A$107:A$10042,A10,I$107:I$10042),"") | J10: =IF(ROW()<=B$3,SUMIFS(I$103:I$50042,A$103:A$50042,K10,J$103:J$50042,L10),"") | K10: =$A10 | L10: 99 | M10: AAA | N10: HHH
A11: =IF(ROW()<=B$3,INDEX(FP!F:F,B$2+ROW()-1)&" - "&INDEX(FP!C:C,B$2+ROW()-1),"") | C11: =IF(ROW()<=B$3,INDEX(FP!E:E,B$2+ROW()-1),"") | D11: =IF(ROW()<=B$3,INDEX(FP!F:F,B$2+ROW()-1),"") | F11: =IF(ROW()<=B$3,INDEX(FP!G:G,B$2+ROW()-1),"") | H11: =IF(ROW()<=B$3,INDEX(FP!C:C,B$2+ROW()-1),"") | I11: =IF(ROW()<=B$3,SUMIF(A$107:A$10042,A11,I$107:I$10042),"") | J11: =IF(ROW()<=B$3,SUMIFS(I$103:I$50042,A$103:A$50042,K11,J$103:J$50042,L11),"") | K11: =$A11 | L11: 99 | M11: =$A10 | N11: 99
A12: =IF(ROW()<=B$3,INDEX(FP!F:F,B$2+ROW()-1)&" - "&INDEX(FP!C:C,B$2+ROW()-1),"") | C12: =IF(ROW()<=B$3,INDEX(FP!E:E,B$2+ROW()-1),"") | D12: =IF(ROW()<=B$3,INDEX(FP!F:F,B$2+ROW()-1),"") | F12: =IF(ROW()<=B$3,INDEX(FP!G:G,B$2+ROW()-1),"") | H12: =IF(ROW()<=B$3,INDEX(FP!C:C,B$2+ROW()-1),"") | I12: =IF(ROW()<=B$3,SUMIF(A$107:A$10042,A12,I$107:I$10042),"") | J12: =IF(ROW()<=B$3,SUMIFS(I$103:I$50042,A$103:A$50042,K12,J$103:J$50042,L12),"") | K12: =$A12 | L12: 99 | M12: AAA | N12: HHH
A13: =IF(ROW()<=B$3,INDEX(FP!F:F,B$2+ROW()-1)&" - "&INDEX(FP!C:C,B$2+ROW()-1),"") | C13: =IF(ROW()<=B$3,INDEX(FP!E:E,B$2+ROW()-1),"") | D13: =IF(ROW()<=B$3,INDEX(FP!F:F,B$2+ROW()-1),"") | F13: =IF(ROW()<=B$3,INDEX(FP!G:G,B$2+ROW()-1),"") | H13: =IF(ROW()<=B$3,INDEX(FP!C:C,B$2+ROW()-1),"") | I13: =IF(ROW()<=B$3,SUMIF(A$107:A$10042,A13,I$107:I$10042),"") | J13: =IF(ROW()<=B$3,SUMIFS(I$103:I$50042,A$103:A$50042,K13,J$103:J$50042,L13),"") | K13: =$A13 | L13: 99 | M13: =$A12 | N13: 99
A14: =IF(ROW()<=B$3,INDEX(FP!F:F,B$2+ROW()-1)&" - "&INDEX(FP!C:C,B$2+ROW()-1),"") | C14: =IF(ROW()<=B$3,INDEX(FP!E:E,B$2+ROW()-1),"") | D14: =IF(ROW()<=B$3,INDEX(FP!F:F,B$2+ROW()-1),"") | F14: =IF(ROW()<=B$3,INDEX(FP!G:G,B$2+ROW()-1),"") | H14: =IF(ROW()<=B$3,INDEX(FP!C:C,B$2+ROW()-1),"") | I14: =IF(ROW()<=B$3,SUMIF(A$107:A$10042,A14,I$107:I$10042),"") | J14: =IF(ROW()<=B$3,SUMIFS(I$103:I$50042,A$103:A$50042,K14,J$103:J$50042,L14),"") | K14: =$A14 | L14: 99 | M14: AAA | N14: HHH
A15: =IF(ROW()<=B$3,INDEX(FP!F:F,B$2+ROW()-1)&" - "&INDEX(FP!C:C,B$2+ROW()-1),"") | C15: =IF(ROW()<=B$3,INDEX(FP!E:E,B$2+ROW()-1),"") | D15: =IF(ROW()<=B$3,INDEX(FP!F:F,B$2+ROW()-1),"") | F15: =IF(ROW()<=B$3,INDEX(FP!G:G,B$2+ROW()-1),"") | H15: =IF(ROW()<=B$3,INDEX(FP!C:C,B$2+ROW()-1),"") | I15: =IF(ROW()<=B$3,SUMIF(A$107:A$10042,A15,I$107:I$10042),"") | J15: =IF(ROW()<=B$3,SUMIFS(I$103:I$50042,A$103:A$50042,K15,J$103:J$50042,L15),"") | K15: =$A15 | L15: 99 | M15: =$A14 | N15: 99
A16: =IF(ROW()<=B$3,INDEX(FP!F:F,B$2+ROW()-1)&" - "&INDEX(FP!C:C,B$2+ROW()-1),"") | C16: =IF(ROW()<=B$3,INDEX(FP!E:E,B$2+ROW()-1),"") | D16: =IF(ROW()<=B$3,INDEX(FP!F:F,B$2+ROW()-1),"") | F16: =IF(ROW()<=B$3,INDEX(FP!G:G,B$2+ROW()-1),"") | H16: =IF(ROW()<=B$3,INDEX(FP!C:C,B$2+ROW()-1),"") | I16: =IF(ROW()<=B$3,SUMIF(A$107:A$10042,A16,I$107:I$10042),"") | J16: =IF(ROW()<=B$3,SUMIFS(I$103:I$50042,A$103:A$50042,K16,J$103:J$50042,L16),"") | K16: =$A16 | L16: 99 | M16: AAA | N16: HHH
A17: =IF(ROW()<=B$3,INDEX(FP!F:F,B$2+ROW()-1)&" - "&INDEX(FP!C:C,B$2+ROW()-1),"") | C17: =IF(ROW()<=B$3,INDEX(FP!E:E,B$2+ROW()-1),"") | D17: =IF(ROW()<=B$3,INDEX(FP!F:F,B$2+ROW()-1),"") | F17: =IF(ROW()<=B$3,INDEX(FP!G:G,B$2+ROW()-1),"") | H17: =IF(ROW()<=B$3,INDEX(FP!C:C,B$2+ROW()-1),"") | I17: =IF(ROW()<=B$3,SUMIF(A$107:A$10042,A17,I$107:I$10042),"") | J17: =IF(ROW()<=B$3,SUMIFS(I$103:I$50042,A$103:A$50042,K17,J$103:J$50042,L17),"") | K17: =$A17 | L17: 99 | M17: =$A16 | N17: 99
A18: =IF(ROW()<=B$3,INDEX(FP!F:F,B$2+ROW()-1)&" - "&INDEX(FP!C:C,B$2+ROW()-1),"") | C18: =IF(ROW()<=B$3,INDEX(FP!E:E,B$2+ROW()-1),"") | D18: =IF(ROW()<=B$3,INDEX(FP!F:F,B$2+ROW()-1),"") | F18: =IF(ROW()<=B$3,INDEX(FP!G:G,B$2+ROW()-1),"") | H18: =IF(ROW()<=B$3,INDEX(FP!C:C,B$2+ROW()-1),"") | I18: =IF(ROW()<=B$3,SUMIF(A$107:A$10042,A18,I$107:I$10042),"") | J18: =IF(ROW()<=B$3,SUMIFS(I$103:I$50042,A$103:A$50042,K18,J$103:J$50042,L18),"") | K18: =$A18 | L18: 99 | M18: AAA | N18: HHH
A19: =IF(ROW()<=B$3,INDEX(FP!F:F,B$2+ROW()-1)&" - "&INDEX(FP!C:C,B$2+ROW()-1),"") | C19: =IF(ROW()<=B$3,INDEX(FP!E:E,B$2+ROW()-1),"") | D19: =IF(ROW()<=B$3,INDEX(FP!F:F,B$2+ROW()-1),"") | F19: =IF(ROW()<=B$3,INDEX(FP!G:G,B$2+ROW()-1),"") | H19: =IF(ROW()<=B$3,INDEX(FP!C:C,B$2+ROW()-1),"") | I19: =IF(ROW()<=B$3,SUMIF(A$107:A$10042,A19,I$107:I$10042),"") | J19: =IF(ROW()<=B$3,SUMIFS(I$103:I$50042,A$103:A$50042,K19,J$103:J$50042,L19),"") | K19: =$A19 | L19: 99 | M19: =$A18 | N19: 99
A20: =IF(ROW()<=B$3,INDEX(FP!F:F,B$2+ROW()-1)&" - "&INDEX(FP!C:C,B$2+ROW()-1),"") | C20: =IF(ROW()<=B$3,INDEX(FP!E:E,B$2+ROW()-1),"") | D20: =IF(ROW()<=B$3,INDEX(FP!F:F,B$2+ROW()-1),"") | F20: =IF(ROW()<=B$3,INDEX(FP!G:G,B$2+ROW()-1),"") | H20: =IF(ROW()<=B$3,INDEX(FP!C:C,B$2+ROW()-1),"") | I20: =IF(ROW()<=B$3,SUMIF(A$107:A$10042,A20,I$107:I$10042),"") | J20: =IF(ROW()<=B$3,SUMIFS(I$103:I$50042,A$103:A$50042,K20,J$103:J$50042,L20),"") | K20: =$A20 | L20: 99 | M20: AAA | N20: HHH
A21: =IF(ROW()<=B$3,INDEX(FP!F:F,B$2+ROW()-1)&" - "&INDEX(FP!C:C,B$2+ROW()-1),"") | C21: =IF(ROW()<=B$3,INDEX(FP!E:E,B$2+ROW()-1),"") | D21: =IF(ROW()<=B$3,INDEX(FP!F:F,B$2+ROW()-1),"") | F21: =IF(ROW()<=B$3,INDEX(FP!G:G,B$2+ROW()-1),"") | H21: =IF(ROW()<=B$3,INDEX(FP!C:C,B$2+ROW()-1),"") | I21: =IF(ROW()<=B$3,SUMIF(A$107:A$10042,A21,I$107:I$10042),"") | J21: =IF(ROW()<=B$3,SUMIFS(I$103:I$50042,A$103:A$50042,K21,J$103:J$50042,L21),"") | K21: =$A21 | L21: 99 | M21: =$A20 | N21: 99
A22: =IF(ROW()<=B$3,INDEX(FP!F:F,B$2+ROW()-1)&" - "&INDEX(FP!C:C,B$2+ROW()-1),"") | C22: =IF(ROW()<=B$3,INDEX(FP!E:E,B$2+ROW()-1),"") | D22: =IF(ROW()<=B$3,INDEX(FP!F:F,B$2+ROW()-1),"") | F22: =IF(ROW()<=B$3,INDEX(FP!G:G,B$2+ROW()-1),"") | H22: =IF(ROW()<=B$3,INDEX(FP!C:C,B$2+ROW()-1),"") | I22: =IF(ROW()<=B$3,SUMIF(A$107:A$10042,A22,I$107:I$10042),"") | J22: =IF(ROW()<=B$3,SUMIFS(I$103:I$50042,A$103:A$50042,K22,J$103:J$50042,L22),"") | K22: =$A22 | L22: 99 | M22: AAA | N22: HHH
A23: =IF(ROW()<=B$3,INDEX(FP!F:F,B$2+ROW()-1)&" - "&INDEX(FP!C:C,B$2+ROW()-1),"") | C23: =IF(ROW()<=B$3,INDEX(FP!E:E,B$2+ROW()-1),"") | D23: =IF(ROW()<=B$3,INDEX(FP!F:F,B$2+ROW()-1),"") | F23: =IF(ROW()<=B$3,INDEX(FP!G:G,B$2+ROW()-1),"") | H23: =IF(ROW()<=B$3,INDEX(FP!C:C,B$2+ROW()-1),"") | I23: =IF(ROW()<=B$3,SUMIF(A$107:A$10042,A23,I$107:I$10042),"") | J23: =IF(ROW()<=B$3,SUMIFS(I$103:I$50042,A$103:A$50042,K23,J$103:J$50042,L23),"") | K23: =$A23 | L23: 99 | M23: =$A22 | N23: 99
A24: =IF(ROW()<=B$3,INDEX(FP!F:F,B$2+ROW()-1)&" - "&INDEX(FP!C:C,B$2+ROW()-1),"") | C24: =IF(ROW()<=B$3,INDEX(FP!E:E,B$2+ROW()-1),"") | D24: =IF(ROW()<=B$3,INDEX(FP!F:F,B$2+ROW()-1),"") | F24: =IF(ROW()<=B$3,INDEX(FP!G:G,B$2+ROW()-1),"") | H24: =IF(ROW()<=B$3,INDEX(FP!C:C,B$2+ROW()-1),"") | I24: =IF(ROW()<=B$3,SUMIF(A$107:A$10042,A24,I$107:I$10042),"") | J24: =IF(ROW()<=B$3,SUMIFS(I$103:I$50042,A$103:A$50042,K24,J$103:J$50042,L24),"") | K24: =$A24 | L24: 99 | M24: AAA | N24: HHH
A25: =IF(ROW()<=B$3,INDEX(FP!F:F,B$2+ROW()-1)&" - "&INDEX(FP!C:C,B$2+ROW()-1),"") | C25: =IF(ROW()<=B$3,INDEX(FP!E:E,B$2+ROW()-1),"") | D25: =IF(ROW()<=B$3,INDEX(FP!F:F,B$2+ROW()-1),"") | F25: =IF(ROW()<=B$3,INDEX(FP!G:G,B$2+ROW()-1),"") | H25: =IF(ROW()<=B$3,INDEX(FP!C:C,B$2+ROW()-1),"") | I25: =IF(ROW()<=B$3,SUMIF(A$107:A$10042,A25,I$107:I$10042),"") | J25: =IF(ROW()<=B$3,SUMIFS(I$103:I$50042,A$103:A$50042,K25,J$103:J$50042,L25),"") | K25: =$A25 | L25: 99 | M25: =$A24 | N25: 99
A26: =IF(ROW()<=B$3,INDEX(FP!F:F,B$2+ROW()-1)&" - "&INDEX(FP!C:C,B$2+ROW()-1),"") | C26: =IF(ROW()<=B$3,INDEX(FP!E:E,B$2+ROW()-1),"") | D26: =IF(ROW()<=B$3,INDEX(FP!F:F,B$2+ROW()-1),"") | F26: =IF(ROW()<=B$3,INDEX(FP!G:G,B$2+ROW()-1),"") | H26: =IF(ROW()<=B$3,INDEX(FP!C:C,B$2+ROW()-1),"") | I26: =IF(ROW()<=B$3,SUMIF(A$107:A$10042,A26,I$107:I$10042),"") | J26: =IF(ROW()<=B$3,SUMIFS(I$103:I$50042,A$103:A$50042,K26,J$103:J$50042,L26),"") | K26: =$A26 | L26: 99 | M26: AAA | N26: HHH
A27: =IF(ROW()<=B$3,INDEX(FP!F:F,B$2+ROW()-1)&" - "&INDEX(FP!C:C,B$2+ROW()-1),"") | C27: =IF(ROW()<=B$3,INDEX(FP!E:E,B$2+ROW()-1),"") | D27: =IF(ROW()<=B$3,INDEX(FP!F:F,B$2+ROW()-1),"") | F27: =IF(ROW()<=B$3,INDEX(FP!G:G,B$2+ROW()-1),"") | H27: =IF(ROW()<=B$3,INDEX(FP!C:C,B$2+ROW()-1),"") | I27: =IF(ROW()<=B$3,SUMIF(A$107:A$10042,A27,I$107:I$10042),"") | J27: =IF(ROW()<=B$3,SUMIFS(I$103:I$50042,A$103:A$50042,K27,J$103:J$50042,L27),"") | K27: =$A27 | L27: 99 | M27: =$A26 | N27: 99
A28: =IF(ROW()<=B$3,INDEX(FP!F:F,B$2+ROW()-1)&" - "&INDEX(FP!C:C,B$2+ROW()-1),"") | C28: =IF(ROW()<=B$3,INDEX(FP!E:E,B$2+ROW()-1),"") | D28: =IF(ROW()<=B$3,INDEX(FP!F:F,B$2+ROW()-1),"") | F28: =IF(ROW()<=B$3,INDEX(FP!G:G,B$2+ROW()-1),"") | H28: =IF(ROW()<=B$3,INDEX(FP!C:C,B$2+ROW()-1),"") | I28: =IF(ROW()<=B$3,SUMIF(A$107:A$10042,A28,I$107:I$10042),"") | J28: =IF(ROW()<=B$3,SUMIFS(I$103:I$50042,A$103:A$50042,K28,J$103:J$50042,L28),"") | K28: =$A28 | L28: 99 | M28: AAA | N28: HHH
A29: =IF(ROW()<=B$3,INDEX(FP!F:F,B$2+ROW()-1)&" - "&INDEX(FP!C:C,B$2+ROW()-1),"") | C29: =IF(ROW()<=B$3,INDEX(FP!E:E,B$2+ROW()-1),"") | D29: =IF(ROW()<=B$3,INDEX(FP!F:F,B$2+ROW()-1),"") | F29: =IF(ROW()<=B$3,INDEX(FP!G:G,B$2+ROW()-1),"") | H29: =IF(ROW()<=B$3,INDEX(FP!C:C,B$2+ROW()-1),"") | I29: =IF(ROW()<=B$3,SUMIF(A$107:A$10042,A29,I$107:I$10042),"") | J29: =IF(ROW()<=B$3,SUMIFS(I$103:I$50042,A$103:A$50042,K29,J$103:J$50042,L29),"") | K29: =$A29 | L29: 99 | M29: =$A28 | N29: 99
A30: =IF(ROW()<=B$3,INDEX(FP!F:F,B$2+ROW()-1)&" - "&INDEX(FP!C:C,B$2+ROW()-1),"") | C30: =IF(ROW()<=B$3,INDEX(FP!E:E,B$2+ROW()-1),"") | D30: =IF(ROW()<=B$3,INDEX(FP!F:F,B$2+ROW()-1),"") | F30: =IF(ROW()<=B$3,INDEX(FP!G:G,B$2+ROW()-1),"") | H30: =IF(ROW()<=B$3,INDEX(FP!C:C,B$2+ROW()-1),"") | I30: =IF(ROW()<=B$3,SUMIF(A$107:A$10042,A30,I$107:I$10042),"") | J30: =IF(ROW()<=B$3,SUMIFS(I$103:I$50042,A$103:A$50042,K30,J$103:J$50042,L30),"") | K30: =$A30 | L30: 99 | M30: AAA | N30: HHH
A31: =IF(ROW()<=B$3,INDEX(FP!F:F,B$2+ROW()-1)&" - "&INDEX(FP!C:C,B$2+ROW()-1),"") | C31: =IF(ROW()<=B$3,INDEX(FP!E:E,B$2+ROW()-1),"") | D31: =IF(ROW()<=B$3,INDEX(FP!F:F,B$2+ROW()-1),"") | F31: =IF(ROW()<=B$3,INDEX(FP!G:G,B$2+ROW()-1),"") | H31: =IF(ROW()<=B$3,INDEX(FP!C:C,B$2+ROW()-1),"") | I31: =IF(ROW()<=B$3,SUMIF(A$107:A$10042,A31,I$107:I$10042),"") | J31: =IF(ROW()<=B$3,SUMIFS(I$103:I$50042,A$103:A$50042,K31,J$103:J$50042,L31),"") | K31: =$A31 | L31: 99 | M31: =$A30 | N31: 99
A32: =IF(ROW()<=B$3,INDEX(FP!F:F,B$2+ROW()-1)&" - "&INDEX(FP!C:C,B$2+ROW()-1),"") | C32: =IF(ROW()<=B$3,INDEX(FP!E:E,B$2+ROW()-1),"") | D32: =IF(ROW()<=B$3,INDEX(FP!F:F,B$2+ROW()-1),"") | F32: =IF(ROW()<=B$3,INDEX(FP!G:G,B$2+ROW()-1),"") | H32: =IF(ROW()<=B$3,INDEX(FP!C:C,B$2+ROW()-1),"") | I32: =IF(ROW()<=B$3,SUMIF(A$107:A$10042,A32,I$107:I$10042),"") | J32: =IF(ROW()<=B$3,SUMIFS(I$103:I$50042,A$103:A$50042,K32,J$103:J$50042,L32),"") | K32: =$A32 | L32: 99 | M32: AAA | N32: HHH
A33: =IF(ROW()<=B$3,INDEX(FP!F:F,B$2+ROW()-1)&" - "&INDEX(FP!C:C,B$2+ROW()-1),"") | C33: =IF(ROW()<=B$3,INDEX(FP!E:E,B$2+ROW()-1),"") | D33: =IF(ROW()<=B$3,INDEX(FP!F:F,B$2+ROW()-1),"") | F33: =IF(ROW()<=B$3,INDEX(FP!G:G,B$2+ROW()-1),"") | H33: =IF(ROW()<=B$3,INDEX(FP!C:C,B$2+ROW()-1),"") | I33: =IF(ROW()<=B$3,SUMIF(A$107:A$10042,A33,I$107:I$10042),"") | J33: =IF(ROW()<=B$3,SUMIFS(I$103:I$50042,A$103:A$50042,K33,J$103:J$50042,L33),"") | K33: =$A33 | L33: 99 | M33: =$A32 | N33: 99
A34: =IF(ROW()<=B$3,INDEX(FP!F:F,B$2+ROW()-1)&" - "&INDEX(FP!C:C,B$2+ROW()-1),"") | C34: =IF(ROW()<=B$3,INDEX(FP!E:E,B$2+ROW()-1),"") | D34: =IF(ROW()<=B$3,INDEX(FP!F:F,B$2+ROW()-1),"") | F34: =IF(ROW()<=B$3,INDEX(FP!G:G,B$2+ROW()-1),"") | H34: =IF(ROW()<=B$3,INDEX(FP!C:C,B$2+ROW()-1),"") | I34: =IF(ROW()<=B$3,SUMIF(A$107:A$10042,A34,I$107:I$10042),"") | J34: =IF(ROW()<=B$3,SUMIFS(I$103:I$50042,A$103:A$50042,K34,J$103:J$50042,L34),"") | K34: =$A34 | L34: 99 | M34: AAA | N34: HHH
A35: =IF(ROW()<=B$3,INDEX(FP!F:F,B$2+ROW()-1)&" - "&INDEX(FP!C:C,B$2+ROW()-1),"") | C35: =IF(ROW()<=B$3,INDEX(FP!E:E,B$2+ROW()-1),"") | D35: =IF(ROW()<=B$3,INDEX(FP!F:F,B$2+ROW()-1),"") | F35: =IF(ROW()<=B$3,INDEX(FP!G:G,B$2+ROW()-1),"") | H35: =IF(ROW()<=B$3,INDEX(FP!C:C,B$2+ROW()-1),"") | I35: =IF(ROW()<=B$3,SUMIF(A$107:A$10042,A35,I$107:I$10042),"") | J35: =IF(ROW()<=B$3,SUMIFS(I$103:I$50042,A$103:A$50042,K35,J$103:J$50042,L35),"") | K35: =$A35 | L35: 99 | M35: =$A34 | N35: 99
A36: =IF(ROW()<=B$3,INDEX(FP!F:F,B$2+ROW()-1)&" - "&INDEX(FP!C:C,B$2+ROW()-1),"") | C36: =IF(ROW()<=B$3,INDEX(FP!E:E,B$2+ROW()-1),"") | D36: =IF(ROW()<=B$3,INDEX(FP!F:F,B$2+ROW()-1),"") | F36: =IF(ROW()<=B$3,INDEX(FP!G:G,B$2+ROW()-1),"") | H36: =IF(ROW()<=B$3,INDEX(FP!C:C,B$2+ROW()-1),"") | I36: =IF(ROW()<=B$3,SUMIF(A$107:A$10042,A36,I$107:I$10042),"") | J36: =IF(ROW()<=B$3,SUMIFS(I$103:I$50042,A$103:A$50042,K36,J$103:J$50042,L36),"") | K36: =$A36 | L36: 99 | M36: AAA | N36: HHH
A37: =IF(ROW()<=B$3,INDEX(FP!F:F,B$2+ROW()-1)&" - "&INDEX(FP!C:C,B$2+ROW()-1),"") | C37: =IF(ROW()<=B$3,INDEX(FP!E:E,B$2+ROW()-1),"") | D37: =IF(ROW()<=B$3,INDEX(FP!F:F,B$2+ROW()-1),"") | F37: =IF(ROW()<=B$3,INDEX(FP!G:G,B$2+ROW()-1),"") | H37: =IF(ROW()<=B$3,INDEX(FP!C:C,B$2+ROW()-1),"") | I37: =IF(ROW()<=B$3,SUMIF(A$107:A$10042,A37,I$107:I$10042),"") | J37: =IF(ROW()<=B$3,SUMIFS(I$103:I$50042,A$103:A$50042,K37,J$103:J$50042,L37),"") | K37: =$A37 | L37: 99 | M37: =$A36 | N37: 99
A38: =IF(ROW()<=B$3,INDEX(FP!F:F,B$2+ROW()-1)&" - "&INDEX(FP!C:C,B$2+ROW()-1),"") | C38: =IF(ROW()<=B$3,INDEX(FP!E:E,B$2+ROW()-1),"") | D38: =IF(ROW()<=B$3,INDEX(FP!F:F,B$2+ROW()-1),"") | F38: =IF(ROW()<=B$3,INDEX(FP!G:G,B$2+ROW()-1),"") | H38: =IF(ROW()<=B$3,INDEX(FP!C:C,B$2+ROW()-1),"") | I38: =IF(ROW()<=B$3,SUMIF(A$107:A$10042,A38,I$107:I$10042),"") | J38: =IF(ROW()<=B$3,SUMIFS(I$103:I$50042,A$103:A$50042,K38,J$103:J$50042,L38),"") | K38: =$A38 | L38: 99 | M38: AAA | N38: HHH
A39: =IF(ROW()<=B$3,INDEX(FP!F:F,B$2+ROW()-1)&" - "&INDEX(FP!C:C,B$2+ROW()-1),"") | C39: =IF(ROW()<=B$3,INDEX(FP!E:E,B$2+ROW()-1),"") | D39: =IF(ROW()<=B$3,INDEX(FP!F:F,B$2+ROW()-1),"") | F39: =IF(ROW()<=B$3,INDEX(FP!G:G,B$2+ROW()-1),"") | H39: =IF(ROW()<=B$3,INDEX(FP!C:C,B$2+ROW()-1),"") | I39: =IF(ROW()<=B$3,SUMIF(A$107:A$10042,A39,I$107:I$10042),"") | J39: =IF(ROW()<=B$3,SUMIFS(I$103:I$50042,A$103:A$50042,K39,J$103:J$50042,L39),"") | K39: =$A39 | L39: 99 | M39: =$A38 | N39: 99
A40: =IF(ROW()<=B$3,INDEX(FP!F:F,B$2+ROW()-1)&" - "&INDEX(FP!C:C,B$2+ROW()-1),"") | C40: =IF(ROW()<=B$3,INDEX(FP!E:E,B$2+ROW()-1),"") | D40: =IF(ROW()<=B$3,INDEX(FP!F:F,B$2+ROW()-1),"") | F40: =IF(ROW()<=B$3,INDEX(FP!G:G,B$2+ROW()-1),"") | H40: =IF(ROW()<=B$3,INDEX(FP!C:C,B$2+ROW()-1),"") | I40: =IF(ROW()<=B$3,SUMIF(A$107:A$10042,A40,I$107:I$10042),"") | J40: =IF(ROW()<=B$3,SUMIFS(I$103:I$50042,A$103:A$50042,K40,J$103:J$50042,L40),"") | K40: =$A40 | L40: 99 | M40: AAA | N40: HHH
A41: =IF(ROW()<=B$3,INDEX(FP!F:F,B$2+ROW()-1)&" - "&INDEX(FP!C:C,B$2+ROW()-1),"") | C41: =IF(ROW()<=B$3,INDEX(FP!E:E,B$2+ROW()-1),"") | D41: =IF(ROW()<=B$3,INDEX(FP!F:F,B$2+ROW()-1),"") | F41: =IF(ROW()<=B$3,INDEX(FP!G:G,B$2+ROW()-1),"") | H41: =IF(ROW()<=B$3,INDEX(FP!C:C,B$2+ROW()-1),"") | I41: =IF(ROW()<=B$3,SUMIF(A$107:A$10042,A41,I$107:I$10042),"") | J41: =IF(ROW()<=B$3,SUMIFS(I$103:I$50042,A$103:A$50042,K41,J$103:J$50042,L41),"") | K41: =$A41 | L41: 99 | M41: =$A40 | N41: 99
A42: =IF(ROW()<=B$3,INDEX(FP!F:F,B$2+ROW()-1)&" - "&INDEX(FP!C:C,B$2+ROW()-1),"") | C42: =IF(ROW()<=B$3,INDEX(FP!E:E,B$2+ROW()-1),"") | D42: =IF(ROW()<=B$3,INDEX(FP!F:F,B$2+ROW()-1),"") | F42: =IF(ROW()<=B$3,INDEX(FP!G:G,B$2+ROW()-1),"") | H42: =IF(ROW()<=B$3,INDEX(FP!C:C,B$2+ROW()-1),"") | I42: =IF(ROW()<=B$3,SUMIF(A$107:A$10042,A42,I$107:I$10042),"") | J42: =IF(ROW()<=B$3,SUMIFS(I$103:I$50042,A$103:A$50042,K42,J$103:J$50042,L42),"") | K42: =$A42 | L42: 99 | M42: AAA | N42: HHH
A43: =IF(ROW()<=B$3,INDEX(FP!F:F,B$2+ROW()-1)&" - "&INDEX(FP!C:C,B$2+ROW()-1),"") | C43: =IF(ROW()<=B$3,INDEX(FP!E:E,B$2+ROW()-1),"") | D43: =IF(ROW()<=B$3,INDEX(FP!F:F,B$2+ROW()-1),"") | F43: =IF(ROW()<=B$3,INDEX(FP!G:G,B$2+ROW()-1),"") | H43: =IF(ROW()<=B$3,INDEX(FP!C:C,B$2+ROW()-1),"") | I43: =IF(ROW()<=B$3,SUMIF(A$107:A$10042,A43,I$107:I$10042),"") | J43: =IF(ROW()<=B$3,SUMIFS(I$103:I$50042,A$103:A$50042,K43,J$103:J$50042,L43),"") | K43: =$A43 | L43: 99 | M43: =$A42 | N43: 99
A44: =IF(ROW()<=B$3,INDEX(FP!F:F,B$2+ROW()-1)&" - "&INDEX(FP!C:C,B$2+ROW()-1),"") | C44: =IF(ROW()<=B$3,INDEX(FP!E:E,B$2+ROW()-1),"") | D44: =IF(ROW()<=B$3,INDEX(FP!F:F,B$2+ROW()-1),"") | F44: =IF(ROW()<=B$3,INDEX(FP!G:G,B$2+ROW()-1),"") | H44: =IF(ROW()<=B$3,INDEX(FP!C:C,B$2+ROW()-1),"") | I44: =IF(ROW()<=B$3,SUMIF(A$107:A$10042,A44,I$107:I$10042),"") | J44: =IF(ROW()<=B$3,SUMIFS(I$103:I$50042,A$103:A$50042,K44,J$103:J$50042,L44),"") | K44: =$A44 | L44: 99 | M44: AAA | N44: HHH
A45: =IF(ROW()<=B$3,INDEX(FP!F:F,B$2+ROW()-1)&" - "&INDEX(FP!C:C,B$2+ROW()-1),"") | C45: =IF(ROW()<=B$3,INDEX(FP!E:E,B$2+ROW()-1),"") | D45: =IF(ROW()<=B$3,INDEX(FP!F:F,B$2+ROW()-1),"") | F45: =IF(ROW()<=B$3,INDEX(FP!G:G,B$2+ROW()-1),"") | H45: =IF(ROW()<=B$3,INDEX(FP!C:C,B$2+ROW()-1),"") | I45: =IF(ROW()<=B$3,SUMIF(A$107:A$10042,A45,I$107:I$10042),"") | J45: =IF(ROW()<=B$3,SUMIFS(I$103:I$50042,A$103:A$50042,K45,J$103:J$50042,L45),"") | K45: =$A45 | L45: 99 | M45: =$A44 | N45: 99
A46: =IF(ROW()<=B$3,INDEX(FP!F:F,B$2+ROW()-1)&" - "&INDEX(FP!C:C,B$2+ROW()-1),"") | C46: =IF(ROW()<=B$3,INDEX(FP!E:E,B$2+ROW()-1),"") | D46: =IF(ROW()<=B$3,INDEX(FP!F:F,B$2+ROW()-1),"") | F46: =IF(ROW()<=B$3,INDEX(FP!G:G,B$2+ROW()-1),"") | H46: =IF(ROW()<=B$3,INDEX(FP!C:C,B$2+ROW()-1),"") | I46: =IF(ROW()<=B$3,SUMIF(A$107:A$10042,A46,I$107:I$10042),"") | J46: =IF(ROW()<=B$3,SUMIFS(I$103:I$50042,A$103:A$50042,K46,J$103:J$50042,L46),"") | K46: =$A46 | L46: 99 | M46: AAA | N46: HHH
A47: =IF(ROW()<=B$3,INDEX(FP!F:F,B$2+ROW()-1)&" - "&INDEX(FP!C:C,B$2+ROW()-1),"") | C47: =IF(ROW()<=B$3,INDEX(FP!E:E,B$2+ROW()-1),"") | D47: =IF(ROW()<=B$3,INDEX(FP!F:F,B$2+ROW()-1),"") | F47: =IF(ROW()<=B$3,INDEX(FP!G:G,B$2+ROW()-1),"") | H47: =IF(ROW()<=B$3,INDEX(FP!C:C,B$2+ROW()-1),"") | I47: =IF(ROW()<=B$3,SUMIF(A$107:A$10042,A47,I$107:I$10042),"") | J47: =IF(ROW()<=B$3,SUMIFS(I$103:I$50042,A$103:A$50042,K47,J$103:J$50042,L47),"") | K47: =$A47 | L47: 99 | M47: =$A46 | N47: 99
A48: =IF(ROW()<=B$3,INDEX(FP!F:F,B$2+ROW()-1)&" - "&INDEX(FP!C:C,B$2+ROW()-1),"") | C48: =IF(ROW()<=B$3,INDEX(FP!E:E,B$2+ROW()-1),"") | D48: =IF(ROW()<=B$3,INDEX(FP!F:F,B$2+ROW()-1),"") | F48: =IF(ROW()<=B$3,INDEX(FP!G:G,B$2+ROW()-1),"") | H48: =IF(ROW()<=B$3,INDEX(FP!C:C,B$2+ROW()-1),"") | I48: =IF(ROW()<=B$3,SUMIF(A$107:A$10042,A48,I$107:I$10042),"") | J48: =IF(ROW()<=B$3,SUMIFS(I$103:I$50042,A$103:A$50042,K48,J$103:J$50042,L48),"") | K48: =$A48 | L48: 99 | M48: AAA | N48: HHH
A49: =IF(ROW()<=B$3,INDEX(FP!F:F,B$2+ROW()-1)&" - "&INDEX(FP!C:C,B$2+ROW()-1),"") | C49: =IF(ROW()<=B$3,INDEX(FP!E:E,B$2+ROW()-1),"") | D49: =IF(ROW()<=B$3,INDEX(FP!F:F,B$2+ROW()-1),"") | F49: =IF(ROW()<=B$3,INDEX(FP!G:G,B$2+ROW()-1),"") | H49: =IF(ROW()<=B$3,INDEX(FP!C:C,B$2+ROW()-1),"") | I49: =IF(ROW()<=B$3,SUMIF(A$107:A$10042,A49,I$107:I$10042),"") | J49: =IF(ROW()<=B$3,SUMIFS(I$103:I$50042,A$103:A$50042,K49,J$103:J$50042,L49),"") | K49: =$A49 | L49: 99 | M49: =$A48 | N49: 99
A50: =IF(ROW()<=B$3,INDEX(FP!F:F,B$2+ROW()-1)&" - "&INDEX(FP!C:C,B$2+ROW()-1),"") | C50: =IF(ROW()<=B$3,INDEX(FP!E:E,B$2+ROW()-1),"") | D50: =IF(ROW()<=B$3,INDEX(FP!F:F,B$2+ROW()-1),"") | F50: =IF(ROW()<=B$3,INDEX(FP!G:G,B$2+ROW()-1),"") | H50: =IF(ROW()<=B$3,INDEX(FP!C:C,B$2+ROW()-1),"") | I50: =IF(ROW()<=B$3,SUMIF(A$107:A$10042,A50,I$107:I$10042),"") | J50: =IF(ROW()<=B$3,SUMIFS(I$103:I$50042,A$103:A$50042,K50,J$103:J$50042,L50),"") | K50: =$A50 | L50: 99 | M50: AAA | N50: HHH
A51: =IF(ROW()<=B$3,INDEX(FP!F:F,B$2+ROW()-1)&" - "&INDEX(FP!C:C,B$2+ROW()-1),"") | C51: =IF(ROW()<=B$3,INDEX(FP!E:E,B$2+ROW()-1),"") | D51: =IF(ROW()<=B$3,INDEX(FP!F:F,B$2+ROW()-1),"") | F51: =IF(ROW()<=B$3,INDEX(FP!G:G,B$2+ROW()-1),"") | H51: =IF(ROW()<=B$3,INDEX(FP!C:C,B$2+ROW()-1),"") | I51: =IF(ROW()<=B$3,SUMIF(A$107:A$10042,A51,I$107:I$10042),"") | J51: =IF(ROW()<=B$3,SUMIFS(I$103:I$50042,A$103:A$50042,K51,J$103:J$50042,L51),"") | K51: =$A51 | L51: 99 | M51: =$A50 | N51: 99
A52: =IF(ROW()<=B$3,INDEX(FP!F:F,B$2+ROW()-1)&" - "&INDEX(FP!C:C,B$2+ROW()-1),"") | C52: =IF(ROW()<=B$3,INDEX(FP!E:E,B$2+ROW()-1),"") | D52: =IF(ROW()<=B$3,INDEX(FP!F:F,B$2+ROW()-1),"") | F52: =IF(ROW()<=B$3,INDEX(FP!G:G,B$2+ROW()-1),"") | H52: =IF(ROW()<=B$3,INDEX(FP!C:C,B$2+ROW()-1),"") | I52: =IF(ROW()<=B$3,SUMIF(A$107:A$10042,A52,I$107:I$10042),"") | J52: =IF(ROW()<=B$3,SUMIFS(I$103:I$50042,A$103:A$50042,K52,J$103:J$50042,L52),"") | K52: =$A52 | L52: 99 | M52: AAA | N52: HHH
A53: =IF(ROW()<=B$3,INDEX(FP!F:F,B$2+ROW()-1)&" - "&INDEX(FP!C:C,B$2+ROW()-1),"") | C53: =IF(ROW()<=B$3,INDEX(FP!E:E,B$2+ROW()-1),"") | D53: =IF(ROW()<=B$3,INDEX(FP!F:F,B$2+ROW()-1),"") | F53: =IF(ROW()<=B$3,INDEX(FP!G:G,B$2+ROW()-1),"") | H53: =IF(ROW()<=B$3,INDEX(FP!C:C,B$2+ROW()-1),"") | I53: =IF(ROW()<=B$3,SUMIF(A$107:A$10042,A53,I$107:I$10042),"") | J53: =IF(ROW()<=B$3,SUMIFS(I$103:I$50042,A$103:A$50042,K53,J$103:J$50042,L53),"") | K53: =$A53 | L53: 99 | M53: =$A52 | N53: 99
A54: =IF(ROW()<=B$3,INDEX(FP!F:F,B$2+ROW()-1)&" - "&INDEX(FP!C:C,B$2+ROW()-1),"") | C54: =IF(ROW()<=B$3,INDEX(FP!E:E,B$2+ROW()-1),"") | D54: =IF(ROW()<=B$3,INDEX(FP!F:F,B$2+ROW()-1),"") | F54: =IF(ROW()<=B$3,INDEX(FP!G:G,B$2+ROW()-1),"") | H54: =IF(ROW()<=B$3,INDEX(FP!C:C,B$2+ROW()-1),"") | I54: =IF(ROW()<=B$3,SUMIF(A$107:A$10042,A54,I$107:I$10042),"") | J54: =IF(ROW()<=B$3,SUMIFS(I$103:I$50042,A$103:A$50042,K54,J$103:J$50042,L54),"") | K54: =$A54 | L54: 99 | M54: AAA | N54: HHH
A55: =IF(ROW()<=B$3,INDEX(FP!F:F,B$2+ROW()-1)&" - "&INDEX(FP!C:C,B$2+ROW()-1),"") | C55: =IF(ROW()<=B$3,INDEX(FP!E:E,B$2+ROW()-1),"") | D55: =IF(ROW()<=B$3,INDEX(FP!F:F,B$2+ROW()-1),"") | F55: =IF(ROW()<=B$3,INDEX(FP!G:G,B$2+ROW()-1),"") | H55: =IF(ROW()<=B$3,INDEX(FP!C:C,B$2+ROW()-1),"") | I55: =IF(ROW()<=B$3,SUMIF(A$107:A$10042,A55,I$107:I$10042),"") | J55: =IF(ROW()<=B$3,SUMIFS(I$103:I$50042,A$103:A$50042,K55,J$103:J$50042,L55),"") | K55: =$A55 | L55: 99 | M55: =$A54 | N55: 99
A56: =IF(ROW()<=B$3,INDEX(FP!F:F,B$2+ROW()-1)&" - "&INDEX(FP!C:C,B$2+ROW()-1),"") | C56: =IF(ROW()<=B$3,INDEX(FP!E:E,B$2+ROW()-1),"") | D56: =IF(ROW()<=B$3,INDEX(FP!F:F,B$2+ROW()-1),"") | F56: =IF(ROW()<=B$3,INDEX(FP!G:G,B$2+ROW()-1),"") | H56: =IF(ROW()<=B$3,INDEX(FP!C:C,B$2+ROW()-1),"") | I56: =IF(ROW()<=B$3,SUMIF(A$107:A$10042,A56,I$107:I$10042),"") | J56: =IF(ROW()<=B$3,SUMIFS(I$103:I$50042,A$103:A$50042,K56,J$103:J$50042,L56),"") | K56: =$A56 | L56: 99 | M56: AAA | N56: HHH
A57: =IF(ROW()<=B$3,INDEX(FP!F:F,B$2+ROW()-1)&" - "&INDEX(FP!C:C,B$2+ROW()-1),"") | C57: =IF(ROW()<=B$3,INDEX(FP!E:E,B$2+ROW()-1),"") | D57: =IF(ROW()<=B$3,INDEX(FP!F:F,B$2+ROW()-1),"") | F57: =IF(ROW()<=B$3,INDEX(FP!G:G,B$2+ROW()-1),"") | H57: =IF(ROW()<=B$3,INDEX(FP!C:C,B$2+ROW()-1),"") | I57: =IF(ROW()<=B$3,SUMIF(A$107:A$10042,A57,I$107:I$10042),"") | J57: =IF(ROW()<=B$3,SUMIFS(I$103:I$50042,A$103:A$50042,K57,J$103:J$50042,L57),"") | K57: =$A57 | L57: 99 | M57: =$A56 | N57: 99
A58: =IF(ROW()<=B$3,INDEX(FP!F:F,B$2+ROW()-1)&" - "&INDEX(FP!C:C,B$2+ROW()-1),"") | C58: =IF(ROW()<=B$3,INDEX(FP!E:E,B$2+ROW()-1),"") | D58: =IF(ROW()<=B$3,INDEX(FP!F:F,B$2+ROW()-1),"") | F58: =IF(ROW()<=B$3,INDEX(FP!G:G,B$2+ROW()-1),"") | H58: =IF(ROW()<=B$3,INDEX(FP!C:C,B$2+ROW()-1),"") | I58: =IF(ROW()<=B$3,SUMIF(A$107:A$10042,A58,I$107:I$10042),"") | J58: =IF(ROW()<=B$3,SUMIFS(I$103:I$50042,A$103:A$50042,K58,J$103:J$50042,L58),"") | K58: =$A58 | L58: 99 | M58: AAA | N58: HHH
A59: =IF(ROW()<=B$3,INDEX(FP!F:F,B$2+ROW()-1)&" - "&INDEX(FP!C:C,B$2+ROW()-1),"") | C59: =IF(ROW()<=B$3,INDEX(FP!E:E,B$2+ROW()-1),"") | D59: =IF(ROW()<=B$3,INDEX(FP!F:F,B$2+ROW()-1),"") | F59: =IF(ROW()<=B$3,INDEX(FP!G:G,B$2+ROW()-1),"") | H59: =IF(ROW()<=B$3,INDEX(FP!C:C,B$2+ROW()-1),"") | I59: =IF(ROW()<=B$3,SUMIF(A$107:A$10042,A59,I$107:I$10042),"") | J59: =IF(ROW()<=B$3,SUMIFS(I$103:I$50042,A$103:A$50042,K59,J$103:J$50042,L59),"") | K59: =$A59 | L59: 99 | M59: =$A58 | N59: 99
A60: =IF(ROW()<=B$3,INDEX(FP!F:F,B$2+ROW()-1)&" - "&INDEX(FP!C:C,B$2+ROW()-1),"") | C60: =IF(ROW()<=B$3,INDEX(FP!E:E,B$2+ROW()-1),"") | D60: =IF(ROW()<=B$3,INDEX(FP!F:F,B$2+ROW()-1),"") | F60: =IF(ROW()<=B$3,INDEX(FP!G:G,B$2+ROW()-1),"") | H60: =IF(ROW()<=B$3,INDEX(FP!C:C,B$2+ROW()-1),"") | I60: =IF(ROW()<=B$3,SUMIF(A$107:A$10042,A60,I$107:I$10042),"") | J60: =IF(ROW()<=B$3,SUMIFS(I$103:I$50042,A$103:A$50042,K60,J$103:J$50042,L60),"") | K60: =$A60 | L60: 99 | M60: AAA | N60: HHH
A61: =IF(ROW()<=B$3,INDEX(FP!F:F,B$2+ROW()-1)&" - "&INDEX(FP!C:C,B$2+ROW()-1),"") | C61: =IF(ROW()<=B$3,INDEX(FP!E:E,B$2+ROW()-1),"") | D61: =IF(ROW()<=B$3,INDEX(FP!F:F,B$2+ROW()-1),"") | F61: =IF(ROW()<=B$3,INDEX(FP!G:G,B$2+ROW()-1),"") | H61: =IF(ROW()<=B$3,INDEX(FP!C:C,B$2+ROW()-1),"") | I61: =IF(ROW()<=B$3,SUMIF(A$107:A$10042,A61,I$107:I$10042),"") | J61: =IF(ROW()<=B$3,SUMIFS(I$103:I$50042,A$103:A$50042,K61,J$103:J$50042,L61),"") | K61: =$A61 | L61: 99 | M61: =$A60 | N61: 99
A62: =IF(ROW()<=B$3,INDEX(FP!F:F,B$2+ROW()-1)&" - "&INDEX(FP!C:C,B$2+ROW()-1),"") | C62: =IF(ROW()<=B$3,INDEX(FP!E:E,B$2+ROW()-1),"") | D62: =IF(ROW()<=B$3,INDEX(FP!F:F,B$2+ROW()-1),"") | F62: =IF(ROW()<=B$3,INDEX(FP!G:G,B$2+ROW()-1),"") | H62: =IF(ROW()<=B$3,INDEX(FP!C:C,B$2+ROW()-1),"") | I62: =IF(ROW()<=B$3,SUMIF(A$107:A$10042,A62,I$107:I$10042),"") | J62: =IF(ROW()<=B$3,SUMIFS(I$103:I$50042,A$103:A$50042,K62,J$103:J$50042,L62),"") | K62: =$A62 | L62: 99 | M62: AAA | N62: HHH
A63: =IF(ROW()<=B$3,INDEX(FP!F:F,B$2+ROW()-1)&" - "&INDEX(FP!C:C,B$2+ROW()-1),"") | C63: =IF(ROW()<=B$3,INDEX(FP!E:E,B$2+ROW()-1),"") | D63: =IF(ROW()<=B$3,INDEX(FP!F:F,B$2+ROW()-1),"") | F63: =IF(ROW()<=B$3,INDEX(FP!G:G,B$2+ROW()-1),"") | H63: =IF(ROW()<=B$3,INDEX(FP!C:C,B$2+ROW()-1),"") | I63: =IF(ROW()<=B$3,SUMIF(A$107:A$10042,A63,I$107:I$10042),"") | J63: =IF(ROW()<=B$3,SUMIFS(I$103:I$50042,A$103:A$50042,K63,J$103:J$50042,L63),"") | K63: =$A63 | L63: 99 | M63: =$A62 | N63: 99
A64: =IF(ROW()<=B$3,INDEX(FP!F:F,B$2+ROW()-1)&" - "&INDEX(FP!C:C,B$2+ROW()-1),"") | C64: =IF(ROW()<=B$3,INDEX(FP!E:E,B$2+ROW()-1),"") | D64: =IF(ROW()<=B$3,INDEX(FP!F:F,B$2+ROW()-1),"") | F64: =IF(ROW()<=B$3,INDEX(FP!G:G,B$2+ROW()-1),"") | H64: =IF(ROW()<=B$3,INDEX(FP!C:C,B$2+ROW()-1),"") | I64: =IF(ROW()<=B$3,SUMIF(A$107:A$10042,A64,I$107:I$10042),"") | J64: =IF(ROW()<=B$3,SUMIFS(I$103:I$50042,A$103:A$50042,K64,J$103:J$50042,L64),"") | K64: =$A64 | L64: 99 | M64: AAA | N64: HHH
A65: =IF(ROW()<=B$3,INDEX(FP!F:F,B$2+ROW()-1)&" - "&INDEX(FP!C:C,B$2+ROW()-1),"") | C65: =IF(ROW()<=B$3,INDEX(FP!E:E,B$2+ROW()-1),"") | D65: =IF(ROW()<=B$3,INDEX(FP!F:F,B$2+ROW()-1),"") | F65: =IF(ROW()<=B$3,INDEX(FP!G:G,B$2+ROW()-1),"") | H65: =IF(ROW()<=B$3,INDEX(FP!C:C,B$2+ROW()-1),"") | I65: =IF(ROW()<=B$3,SUMIF(A$107:A$10042,A65,I$107:I$10042),"") | J65: =IF(ROW()<=B$3,SUMIFS(I$103:I$50042,A$103:A$50042,K65,J$103:J$50042,L65),"") | K65: =$A65 | L65: 99 | M65: =$A64 | N65: 99
A66: =IF(ROW()<=B$3,INDEX(FP!F:F,B$2+ROW()-1)&" - "&INDEX(FP!C:C,B$2+ROW()-1),"") | C66: =IF(ROW()<=B$3,INDEX(FP!E:E,B$2+ROW()-1),"") | D66: =IF(ROW()<=B$3,INDEX(FP!F:F,B$2+ROW()-1),"") | F66: =IF(ROW()<=B$3,INDEX(FP!G:G,B$2+ROW()-1),"") | H66: =IF(ROW()<=B$3,INDEX(FP!C:C,B$2+ROW()-1),"") | I66: =IF(ROW()<=B$3,SUMIF(A$107:A$10042,A66,I$107:I$10042),"") | J66: =IF(ROW()<=B$3,SUMIFS(I$103:I$50042,A$103:A$50042,K66,J$103:J$50042,L66),"") | K66: =$A66 | L66: 99 | M66: AAA | N66: HHH
A67: =IF(ROW()<=B$3,INDEX(FP!F:F,B$2+ROW()-1)&" - "&INDEX(FP!C:C,B$2+ROW()-1),"") | C67: =IF(ROW()<=B$3,INDEX(FP!E:E,B$2+ROW()-1),"") | D67: =IF(ROW()<=B$3,INDEX(FP!F:F,B$2+ROW()-1),"") | F67: =IF(ROW()<=B$3,INDEX(FP!G:G,B$2+ROW()-1),"") | H67: =IF(ROW()<=B$3,INDEX(FP!C:C,B$2+ROW()-1),"") | I67: =IF(ROW()<=B$3,SUMIF(A$107:A$10042,A67,I$107:I$10042),"") | J67: =IF(ROW()<=B$3,SUMIFS(I$103:I$50042,A$103:A$50042,K67,J$103:J$50042,L67),"") | K67: =$A67 | L67: 99 | M67: =$A66 | N67: 99
A68: =IF(ROW()<=B$3,INDEX(FP!F:F,B$2+ROW()-1)&" - "&INDEX(FP!C:C,B$2+ROW()-1),"") | C68: =IF(ROW()<=B$3,INDEX(FP!E:E,B$2+ROW()-1),"") | D68: =IF(ROW()<=B$3,INDEX(FP!F:F,B$2+ROW()-1),"") | F68: =IF(ROW()<=B$3,INDEX(FP!G:G,B$2+ROW()-1),"") | H68: =IF(ROW()<=B$3,INDEX(FP!C:C,B$2+ROW()-1),"") | I68: =IF(ROW()<=B$3,SUMIF(A$107:A$10042,A68,I$107:I$10042),"") | J68: =IF(ROW()<=B$3,SUMIFS(I$103:I$50042,A$103:A$50042,K68,J$103:J$50042,L68),"") | K68: =$A68 | L68: 99 | M68: AAA | N68: HHH
A69: =IF(ROW()<=B$3,INDEX(FP!F:F,B$2+ROW()-1)&" - "&INDEX(FP!C:C,B$2+ROW()-1),"") | C69: =IF(ROW()<=B$3,INDEX(FP!E:E,B$2+ROW()-1),"") | D69: =IF(ROW()<=B$3,INDEX(FP!F:F,B$2+ROW()-1),"") | F69: =IF(ROW()<=B$3,INDEX(FP!G:G,B$2+ROW()-1),"") | H69: =IF(ROW()<=B$3,INDEX(FP!C:C,B$2+ROW()-1),"") | I69: =IF(ROW()<=B$3,SUMIF(A$107:A$10042,A69,I$107:I$10042),"") | J69: =IF(ROW()<=B$3,SUMIFS(I$103:I$50042,A$103:A$50042,K69,J$103:J$50042,L69),"") | K69: =$A69 | L69: 99 | M69: =$A68 | N69: 99
A70: =IF(ROW()<=B$3,INDEX(FP!F:F,B$2+ROW()-1)&" - "&INDEX(FP!C:C,B$2+ROW()-1),"") | C70: =IF(ROW()<=B$3,INDEX(FP!E:E,B$2+ROW()-1),"") | D70: =IF(ROW()<=B$3,INDEX(FP!F:F,B$2+ROW()-1),"") | F70: =IF(ROW()<=B$3,INDEX(FP!G:G,B$2+ROW()-1),"") | H70: =IF(ROW()<=B$3,INDEX(FP!C:C,B$2+ROW()-1),"") | I70: =IF(ROW()<=B$3,SUMIF(A$107:A$10042,A70,I$107:I$10042),"") | J70: =IF(ROW()<=B$3,SUMIFS(I$103:I$50042,A$103:A$50042,K70,J$103:J$50042,L70),"") | K70: =$A70 | L70: 99 | M70: AAA | N70: HHH
A71: =IF(ROW()<=B$3,INDEX(FP!F:F,B$2+ROW()-1)&" - "&INDEX(FP!C:C,B$2+ROW()-1),"") | C71: =IF(ROW()<=B$3,INDEX(FP!E:E,B$2+ROW()-1),"") | D71: =IF(ROW()<=B$3,INDEX(FP!F:F,B$2+ROW()-1),"") | F71: =IF(ROW()<=B$3,INDEX(FP!G:G,B$2+ROW()-1),"") | H71: =IF(ROW()<=B$3,INDEX(FP!C:C,B$2+ROW()-1),"") | I71: =IF(ROW()<=B$3,SUMIF(A$107:A$10042,A71,I$107:I$10042),"") | J71: =IF(ROW()<=B$3,SUMIFS(I$103:I$50042,A$103:A$50042,K71,J$103:J$50042,L71),"") | K71: =$A71 | L71: 99 | M71: =$A70 | N71: 99
A72: =IF(ROW()<=B$3,INDEX(FP!F:F,B$2+ROW()-1)&" - "&INDEX(FP!C:C,B$2+ROW()-1),"") | C72: =IF(ROW()<=B$3,INDEX(FP!E:E,B$2+ROW()-1),"") | D72: =IF(ROW()<=B$3,INDEX(FP!F:F,B$2+ROW()-1),"") | F72: =IF(ROW()<=B$3,INDEX(FP!G:G,B$2+ROW()-1),"") | H72: =IF(ROW()<=B$3,INDEX(FP!C:C,B$2+ROW()-1),"") | I72: =IF(ROW()<=B$3,SUMIF(A$107:A$10042,A72,I$107:I$10042),"") | J72: =IF(ROW()<=B$3,SUMIFS(I$103:I$50042,A$103:A$50042,K72,J$103:J$50042,L72),"") | K72: =$A72 | L72: 99 | M72: AAA | N72: HHH
A73: =IF(ROW()<=B$3,INDEX(FP!F:F,B$2+ROW()-1)&" - "&INDEX(FP!C:C,B$2+ROW()-1),"") | C73: =IF(ROW()<=B$3,INDEX(FP!E:E,B$2+ROW()-1),"") | D73: =IF(ROW()<=B$3,INDEX(FP!F:F,B$2+ROW()-1),"") | F73: =IF(ROW()<=B$3,INDEX(FP!G:G,B$2+ROW()-1),"") | H73: =IF(ROW()<=B$3,INDEX(FP!C:C,B$2+ROW()-1),"") | I73: =IF(ROW()<=B$3,SUMIF(A$107:A$10042,A73,I$107:I$10042),"") | J73: =IF(ROW()<=B$3,SUMIFS(I$103:I$50042,A$103:A$50042,K73,J$103:J$50042,L73),"") | K73: =$A73 | L73: 99 | M73: =$A72 | N73: 99
A74: =IF(ROW()<=B$3,INDEX(FP!F:F,B$2+ROW()-1)&" - "&INDEX(FP!C:C,B$2+ROW()-1),"") | C74: =IF(ROW()<=B$3,INDEX(FP!E:E,B$2+ROW()-1),"") | D74: =IF(ROW()<=B$3,INDEX(FP!F:F,B$2+ROW()-1),"") | F74: =IF(ROW()<=B$3,INDEX(FP!G:G,B$2+ROW()-1),"") | H74: =IF(ROW()<=B$3,INDEX(FP!C:C,B$2+ROW()-1),"") | I74: =IF(ROW()<=B$3,SUMIF(A$107:A$10042,A74,I$107:I$10042),"") | J74: =IF(ROW()<=B$3,SUMIFS(I$103:I$50042,A$103:A$50042,K74,J$103:J$50042,L74),"") | K74: =$A74 | L74: 99 | M74: AAA | N74: HHH
A75: =IF(ROW()<=B$3,INDEX(FP!F:F,B$2+ROW()-1)&" - "&INDEX(FP!C:C,B$2+ROW()-1),"") | C75: =IF(ROW()<=B$3,INDEX(FP!E:E,B$2+ROW()-1),"") | D75: =IF(ROW()<=B$3,INDEX(FP!F:F,B$2+ROW()-1),"") | F75: =IF(ROW()<=B$3,INDEX(FP!G:G,B$2+ROW()-1),"") | H75: =IF(ROW()<=B$3,INDEX(FP!C:C,B$2+ROW()-1),"") | I75: =IF(ROW()<=B$3,SUMIF(A$107:A$10042,A75,I$107:I$10042),"") | J75: =IF(ROW()<=B$3,SUMIFS(I$103:I$50042,A$103:A$50042,K75,J$103:J$50042,L75),"") | K75: =$A75 | L75: 99 | M75: =$A74 | N75: 99
A76: =IF(ROW()<=B$3,INDEX(FP!F:F,B$2+ROW()-1)&" - "&INDEX(FP!C:C,B$2+ROW()-1),"") | C76: =IF(ROW()<=B$3,INDEX(FP!E:E,B$2+ROW()-1),"") | D76: =IF(ROW()<=B$3,INDEX(FP!F:F,B$2+ROW()-1),"") | F76: =IF(ROW()<=B$3,INDEX(FP!G:G,B$2+ROW()-1),"") | H76: =IF(ROW()<=B$3,INDEX(FP!C:C,B$2+ROW()-1),"") | I76: =IF(ROW()<=B$3,SUMIF(A$107:A$10042,A76,I$107:I$10042),"") | J76: =IF(ROW()<=B$3,SUMIFS(I$103:I$50042,A$103:A$50042,K76,J$103:J$50042,L76),"") | K76: =$A76 | L76: 99 | M76: AAA | N76: HHH
A77: =IF(ROW()<=B$3,INDEX(FP!F:F,B$2+ROW()-1)&" - "&INDEX(FP!C:C,B$2+ROW()-1),"") | C77: =IF(ROW()<=B$3,INDEX(FP!E:E,B$2+ROW()-1),"") | D77: =IF(ROW()<=B$3,INDEX(FP!F:F,B$2+ROW()-1),"") | F77: =IF(ROW()<=B$3,INDEX(FP!G:G,B$2+ROW()-1),"") | H77: =IF(ROW()<=B$3,INDEX(FP!C:C,B$2+ROW()-1),"") | I77: =IF(ROW()<=B$3,SUMIF(A$107:A$10042,A77,I$107:I$10042),"") | J77: =IF(ROW()<=B$3,SUMIFS(I$103:I$50042,A$103:A$50042,K77,J$103:J$50042,L77),"") | K77: =$A77 | L77: 99 | M77: =$A76 | N77: 99
A78: =IF(ROW()<=B$3,INDEX(FP!F:F,B$2+ROW()-1)&" - "&INDEX(FP!C:C,B$2+ROW()-1),"") | C78: =IF(ROW()<=B$3,INDEX(FP!E:E,B$2+ROW()-1),"") | D78: =IF(ROW()<=B$3,INDEX(FP!F:F,B$2+ROW()-1),"") | F78: =IF(ROW()<=B$3,INDEX(FP!G:G,B$2+ROW()-1),"") | H78: =IF(ROW()<=B$3,INDEX(FP!C:C,B$2+ROW()-1),"") | I78: =IF(ROW()<=B$3,SUMIF(A$107:A$10042,A78,I$107:I$10042),"") | J78: =IF(ROW()<=B$3,SUMIFS(I$103:I$50042,A$103:A$50042,K78,J$103:J$50042,L78),"") | K78: =$A78 | L78: 99 | M78: AAA | N78: HHH
A79: =IF(ROW()<=B$3,INDEX(FP!F:F,B$2+ROW()-1)&" - "&INDEX(FP!C:C,B$2+ROW()-1),"") | C79: =IF(ROW()<=B$3,INDEX(FP!E:E,B$2+ROW()-1),"") | D79: =IF(ROW()<=B$3,INDEX(FP!F:F,B$2+ROW()-1),"") | F79: =IF(ROW()<=B$3,INDEX(FP!G:G,B$2+ROW()-1),"") | H79: =IF(ROW()<=B$3,INDEX(FP!C:C,B$2+ROW()-1),"") | I79: =IF(ROW()<=B$3,SUMIF(A$107:A$10042,A79,I$107:I$10042),"") | J79: =IF(ROW()<=B$3,SUMIFS(I$103:I$50042,A$103:A$50042,K79,J$103:J$50042,L79),"") | K79: =$A79 | L79: 99 | M79: =$A78 | N79: 99
A80: =IF(ROW()<=B$3,INDEX(FP!F:F,B$2+ROW()-1)&" - "&INDEX(FP!C:C,B$2+ROW()-1),"") | C80: =IF(ROW()<=B$3,INDEX(FP!E:E,B$2+ROW()-1),"") | D80: =IF(ROW()<=B$3,INDEX(FP!F:F,B$2+ROW()-1),"") | F80: =IF(ROW()<=B$3,INDEX(FP!G:G,B$2+ROW()-1),"") | H80: =IF(ROW()<=B$3,INDEX(FP!C:C,B$2+ROW()-1),"") | I80: =IF(ROW()<=B$3,SUMIF(A$107:A$10042,A80,I$107:I$10042),"") | J80: =IF(ROW()<=B$3,SUMIFS(I$103:I$50042,A$103:A$50042,K80,J$103:J$50042,L80),"") | K80: =$A80 | L80: 99 | M80: AAA | N80: HHH
A81: =IF(ROW()<=B$3,INDEX(FP!F:F,B$2+ROW()-1)&" - "&INDEX(FP!C:C,B$2+ROW()-1),"") | C81: =IF(ROW()<=B$3,INDEX(FP!E:E,B$2+ROW()-1),"") | D81: =IF(ROW()<=B$3,INDEX(FP!F:F,B$2+ROW()-1),"") | F81: =IF(ROW()<=B$3,INDEX(FP!G:G,B$2+ROW()-1),"") | H81: =IF(ROW()<=B$3,INDEX(FP!C:C,B$2+ROW()-1),"") | I81: =IF(ROW()<=B$3,SUMIF(A$107:A$10042,A81,I$107:I$10042),"") | J81: =IF(ROW()<=B$3,SUMIFS(I$103:I$50042,A$103:A$50042,K81,J$103:J$50042,L81),"") | K81: =$A81 | L81: 99 | M81: =$A80 | N81: 99
A82: =IF(ROW()<=B$3,INDEX(FP!F:F,B$2+ROW()-1)&" - "&INDEX(FP!C:C,B$2+ROW()-1),"") | C82: =IF(ROW()<=B$3,INDEX(FP!E:E,B$2+ROW()-1),"") | D82: =IF(ROW()<=B$3,INDEX(FP!F:F,B$2+ROW()-1),"") | F82: =IF(ROW()<=B$3,INDEX(FP!G:G,B$2+ROW()-1),"") | H82: =IF(ROW()<=B$3,INDEX(FP!C:C,B$2+ROW()-1),"") | I82: =IF(ROW()<=B$3,SUMIF(A$107:A$10042,A82,I$107:I$10042),"") | J82: =IF(ROW()<=B$3,SUMIFS(I$103:I$50042,A$103:A$50042,K82,J$103:J$50042,L82),"") | K82: =$A82 | L82: 99 | M82: AAA | N82: HHH
A83: =IF(ROW()<=B$3,INDEX(FP!F:F,B$2+ROW()-1)&" - "&INDEX(FP!C:C,B$2+ROW()-1),"") | C83: =IF(ROW()<=B$3,INDEX(FP!E:E,B$2+ROW()-1),"") | D83: =IF(ROW()<=B$3,INDEX(FP!F:F,B$2+ROW()-1),"") | F83: =IF(ROW()<=B$3,INDEX(FP!G:G,B$2+ROW()-1),"") | H83: =IF(ROW()<=B$3,INDEX(FP!C:C,B$2+ROW()-1),"") | I83: =IF(ROW()<=B$3,SUMIF(A$107:A$10042,A83,I$107:I$10042),"") | J83: =IF(ROW()<=B$3,SUMIFS(I$103:I$50042,A$103:A$50042,K83,J$103:J$50042,L83),"") | K83: =$A83 | L83: 99 | M83: =$A82 | N83: 99
A84: =IF(ROW()<=B$3,INDEX(FP!F:F,B$2+ROW()-1)&" - "&INDEX(FP!C:C,B$2+ROW()-1),"") | C84: =IF(ROW()<=B$3,INDEX(FP!E:E,B$2+ROW()-1),"") | D84: =IF(ROW()<=B$3,INDEX(FP!F:F,B$2+ROW()-1),"") | F84: =IF(ROW()<=B$3,INDEX(FP!G:G,B$2+ROW()-1),"") | H84: =IF(ROW()<=B$3,INDEX(FP!C:C,B$2+ROW()-1),"") | I84: =IF(ROW()<=B$3,SUMIF(A$107:A$10042,A84,I$107:I$10042),"") | J84: =IF(ROW()<=B$3,SUMIFS(I$103:I$50042,A$103:A$50042,K84,J$103:J$50042,L84),"") | K84: =$A84 | L84: 99 | M84: AAA | N84: HHH
A85: =IF(ROW()<=B$3,INDEX(FP!F:F,B$2+ROW()-1)&" - "&INDEX(FP!C:C,B$2+ROW()-1),"") | C85: =IF(ROW()<=B$3,INDEX(FP!E:E,B$2+ROW()-1),"") | D85: =IF(ROW()<=B$3,INDEX(FP!F:F,B$2+ROW()-1),"") | F85: =IF(ROW()<=B$3,INDEX(FP!G:G,B$2+ROW()-1),"") | H85: =IF(ROW()<=B$3,INDEX(FP!C:C,B$2+ROW()-1),"") | I85: =IF(ROW()<=B$3,SUMIF(A$107:A$10042,A85,I$107:I$10042),"") | J85: =IF(ROW()<=B$3,SUMIFS(I$103:I$50042,A$103:A$50042,K85,J$103:J$50042,L85),"") | K85: =$A85 | L85: 99 | M85: =$A84 | N85: 99
A86: =IF(ROW()<=B$3,INDEX(FP!F:F,B$2+ROW()-1)&" - "&INDEX(FP!C:C,B$2+ROW()-1),"") | C86: =IF(ROW()<=B$3,INDEX(FP!E:E,B$2+ROW()-1),"") | D86: =IF(ROW()<=B$3,INDEX(FP!F:F,B$2+ROW()-1),"") | F86: =IF(ROW()<=B$3,INDEX(FP!G:G,B$2+ROW()-1),"") | H86: =IF(ROW()<=B$3,INDEX(FP!C:C,B$2+ROW()-1),"") | I86: =IF(ROW()<=B$3,SUMIF(A$107:A$10042,A86,I$107:I$10042),"") | J86: =IF(ROW()<=B$3,SUMIFS(I$103:I$50042,A$103:A$50042,K86,J$103:J$50042,L86),"") | K86: =$A86 | L86: 99 | M86: AAA | N86: HHH
A87: =IF(ROW()<=B$3,INDEX(FP!F:F,B$2+ROW()-1)&" - "&INDEX(FP!C:C,B$2+ROW()-1),"") | C87: =IF(ROW()<=B$3,INDEX(FP!E:E,B$2+ROW()-1),"") | D87: =IF(ROW()<=B$3,INDEX(FP!F:F,B$2+ROW()-1),"") | F87: =IF(ROW()<=B$3,INDEX(FP!G:G,B$2+ROW()-1),"") | H87: =IF(ROW()<=B$3,INDEX(FP!C:C,B$2+ROW()-1),"") | I87: =IF(ROW()<=B$3,SUMIF(A$107:A$10042,A87,I$107:I$10042),"") | J87: =IF(ROW()<=B$3,SUMIFS(I$103:I$50042,A$103:A$50042,K87,J$103:J$50042,L87),"") | K87: =$A87 | L87: 99 | M87: =$A86 | N87: 99
A88: =IF(ROW()<=B$3,INDEX(FP!F:F,B$2+ROW()-1)&" - "&INDEX(FP!C:C,B$2+ROW()-1),"") | C88: =IF(ROW()<=B$3,INDEX(FP!E:E,B$2+ROW()-1),"") | D88: =IF(ROW()<=B$3,INDEX(FP!F:F,B$2+ROW()-1),"") | F88: =IF(ROW()<=B$3,INDEX(FP!G:G,B$2+ROW()-1),"") | H88: =IF(ROW()<=B$3,INDEX(FP!C:C,B$2+ROW()-1),"") | I88: =IF(ROW()<=B$3,SUMIF(A$107:A$10042,A88,I$107:I$10042),"") | J88: =IF(ROW()<=B$3,SUMIFS(I$103:I$50042,A$103:A$50042,K88,J$103:J$50042,L88),"") | K88: =$A88 | L88: 99 | M88: AAA | N88: HHH
A89: =IF(ROW()<=B$3,INDEX(FP!F:F,B$2+ROW()-1)&" - "&INDEX(FP!C:C,B$2+ROW()-1),"") | C89: =IF(ROW()<=B$3,INDEX(FP!E:E,B$2+ROW()-1),"") | D89: =IF(ROW()<=B$3,INDEX(FP!F:F,B$2+ROW()-1),"") | F89: =IF(ROW()<=B$3,INDEX(FP!G:G,B$2+ROW()-1),"") | H89: =IF(ROW()<=B$3,INDEX(FP!C:C,B$2+ROW()-1),"") | I89: =IF(ROW()<=B$3,SUMIF(A$107:A$10042,A89,I$107:I$10042),"") | J89: =IF(ROW()<=B$3,SUMIFS(I$103:I$50042,A$103:A$50042,K89,J$103:J$50042,L89),"") | K89: =$A89 | L89: 99 | M89: =$A88 | N89: 99
A90: =IF(ROW()<=B$3,INDEX(FP!F:F,B$2+ROW()-1)&" - "&INDEX(FP!C:C,B$2+ROW()-1),"") | C90: =IF(ROW()<=B$3,INDEX(FP!E:E,B$2+ROW()-1),"") | D90: =IF(ROW()<=B$3,INDEX(FP!F:F,B$2+ROW()-1),"") | F90: =IF(ROW()<=B$3,INDEX(FP!G:G,B$2+ROW()-1),"") | H90: =IF(ROW()<=B$3,INDEX(FP!C:C,B$2+ROW()-1),"") | I90: =IF(ROW()<=B$3,SUMIF(A$107:A$10042,A90,I$107:I$10042),"") | J90: =IF(ROW()<=B$3,SUMIFS(I$103:I$50042,A$103:A$50042,K90,J$103:J$50042,L90),"") | K90: =$A90 | L90: 99 | M90: AAA | N90: HHH
A91: =IF(ROW()<=B$3,INDEX(FP!F:F,B$2+ROW()-1)&" - "&INDEX(FP!C:C,B$2+ROW()-1),"") | C91: =IF(ROW()<=B$3,INDEX(FP!E:E,B$2+ROW()-1),"") | D91: =IF(ROW()<=B$3,INDEX(FP!F:F,B$2+ROW()-1),"") | F91: =IF(ROW()<=B$3,INDEX(FP!G:G,B$2+ROW()-1),"") | H91: =IF(ROW()<=B$3,INDEX(FP!C:C,B$2+ROW()-1),"") | I91: =IF(ROW()<=B$3,SUMIF(A$107:A$10042,A91,I$107:I$10042),"") | J91: =IF(ROW()<=B$3,SUMIFS(I$103:I$50042,A$103:A$50042,K91,J$103:J$50042,L91),"") | K91: =$A91 | L91: 99 | M91: =$A90 | N91: 99
A92: =IF(ROW()<=B$3,INDEX(FP!F:F,B$2+ROW()-1)&" - "&INDEX(FP!C:C,B$2+ROW()-1),"") | C92: =IF(ROW()<=B$3,INDEX(FP!E:E,B$2+ROW()-1),"") | D92: =IF(ROW()<=B$3,INDEX(FP!F:F,B$2+ROW()-1),"") | F92: =IF(ROW()<=B$3,INDEX(FP!G:G,B$2+ROW()-1),"") | H92: =IF(ROW()<=B$3,INDEX(FP!C:C,B$2+ROW()-1),"") | I92: =IF(ROW()<=B$3,SUMIF(A$107:A$10042,A92,I$107:I$10042),"") | J92: =IF(ROW()<=B$3,SUMIFS(I$103:I$50042,A$103:A$50042,K92,J$103:J$50042,L92),"") | K92: =$A92 | L92: 99 | M92: AAA | N92: HHH
A93: =IF(ROW()<=B$3,INDEX(FP!F:F,B$2+ROW()-1)&" - "&INDEX(FP!C:C,B$2+ROW()-1),"") | C93: =IF(ROW()<=B$3,INDEX(FP!E:E,B$2+ROW()-1),"") | D93: =IF(ROW()<=B$3,INDEX(FP!F:F,B$2+ROW()-1),"") | F93: =IF(ROW()<=B$3,INDEX(FP!G:G,B$2+ROW()-1),"") | H93: =IF(ROW()<=B$3,INDEX(FP!C:C,B$2+ROW()-1),"") | I93: =IF(ROW()<=B$3,SUMIF(A$107:A$10042,A93,I$107:I$10042),"") | J93: =IF(ROW()<=B$3,SUMIFS(I$103:I$50042,A$103:A$50042,K93,J$103:J$50042,L93),"") | K93: =$A93 | L93: 99 | M93: =$A92 | N93: 99
A94: =IF(ROW()<=B$3,INDEX(FP!F:F,B$2+ROW()-1)&" - "&INDEX(FP!C:C,B$2+ROW()-1),"") | C94: =IF(ROW()<=B$3,INDEX(FP!E:E,B$2+ROW()-1),"") | D94: =IF(ROW()<=B$3,INDEX(FP!F:F,B$2+ROW()-1),"") | F94: =IF(ROW()<=B$3,INDEX(FP!G:G,B$2+ROW()-1),"") | H94: =IF(ROW()<=B$3,INDEX(FP!C:C,B$2+ROW()-1),"") | I94: =IF(ROW()<=B$3,SUMIF(A$107:A$10042,A94,I$107:I$10042),"") | J94: =IF(ROW()<=B$3,SUMIFS(I$103:I$50042,A$103:A$50042,K94,J$103:J$50042,L94),"") | K94: =$A94 | L94: 99 | M94: AAA | N94: HHH
F95: =IF(ROW()<=B$3,INDEX(FP!G:G,B$2+ROW()-1),"") | M95: =$A94 | N95: 99
F96: Organizácia podujatia názov podujatia (napr. Kongres ISF, Svetový pohár ICU): miesto konania (napr. Komjatice): termín (od-do) (napr. 1.5.-15.5.2013): počet aktívnych účastníkov (napr. 223): počet odpracovaných hodín spolu: (napr. 690): hrubé mzdy vyplatené osobám v súvislosti s podujatím vrátane odvodov zamestnávateľa spolu (dohody, zmluvy, faktúry, a pod.) v eur:
F97: Hrubé mzdy vyplatené osobám (zamestnancom) vrátane odvodov zamestnávateľa počet fyzických osôb (napr. 3): obdobie (napr. január - marec):
F98: Služobné motorové vozidlo EČV (napr. BB 123 AK): Obdobie (napr. 3.7.-28.7.2013): Najazdené kilometre (napr. 1 211 km):
F99: Pracovná cesta (napr. výjazd na výkonný výbor, na majstrovstvá) Názov (napr. majstrovstvá sveta, sústredenie, kongres, zasadnutie komisie): Termín (napr. 1.5.-3.6.2013): Miesto - mesto a štát (napr. Palermo, Taliansko): Spôsob dopravy (napr. letecky): Počet všetkých osôb na pracovnej ceste (napr. 17) z toho: - športovci (+ navádzači): 12 - tréneri + rozhodcovia + vedúci výpravy + administratívni pracovníci + lekár + fyzioterapeut + masér + ): 2 - ostatné osoby (napr. sponzori, hostia): 3
A100: Priebežné čerpanie a vyúčtovanie finančných prostriedkov poskytnutých zo štátneho rozpočtu v oblasti športu v roku 2025 | I100: V4
...

Sheet Adr
A1: IČO | B1: Subjekt | C1: Právna forma | D1: Ulica a číslo domu | E1: Mesto | F1: PSČ | G1: Webové sídlo | H1: E-mail | I1: Štatutárny zástupca | J1: Štatutár - funkcia | K1: Kontakná osoba | L1: Kontakt telefón | M1: IBAN 1 | N1: IBAN 2 | O1: IBAN TOP | P1: IBAN DOT
A2: 42446481 | B2: "BigHugGym" | C2: občianske združenie | D2: Drieňova 1/C | E2: Bratislava | F2: 821 01 | G2: www.bighuggym.sk | H2: info@bighuggym.sk | I2: Daniel Kamenický | J2: predseda | K2: Daniel Kamenický | L2: 421905859671 | M2: SK38 0200 0000 0035 2888 8654
A3: 37992619 | B3: "Miesta pre mladých" | C3: občianske združenie | D3: Ulica Vladimíra Clementisa 6509/13 | E3: Trnava | F3: 917 01 | G3: www.lanac.sk | H3: cakpeter@gmail.com | I3: Peter Cák | J3: predseda | K3: Petr Cák | L3: 421915992124 | M3: SK89 8330 0000 0029 0329 3851
A4: 34055584 | B4: 1. Volejbalový klub Púchov | C4: občianske združenie | D4: Komenského 1651/88 | E4: Púchov | F4: 020 01 | G4: www.volleypuchov.sk | H4: suchanek@volleypuchov.sk | I4: Michal Suchánek | J4: predseda | K4: Michal Suchánek | L4: 421905262613 | M4: SK53 0200 0000 0052 0048 0654
A5: 55014810 | B5: 3x3sport | C5: občianske združenie | D5: Lesná ulica 13/336 | E5: Kysak | F5: 044 81 | G5: www.3x3sport.sk | H5: halas@3x3sport.sk | I5: Jozef Halás | J5: predseda | K5: Jozef Halás | L5: 421915064990 | M5: SK80 8330 0000 0025 0253 2305
A6: 30793513 | B6: Academy 4 you | C6: občianske združenie | D6: Martinčekova 5 | E6: Bratislava | F6: 821 01 | G6: www.sportovkovo.sk | H6: info@sportovkovo.sk | I6: Cyril Holeš | J6: predseda | K6: Cyril Holeš | L6: 421908174487 | M6: SK18 8330 0000 0020 0332 7868
A7: 17067006 | B7: Aeroklub Prievidza, občianske združenie | C7: občianske združenie | D7: Letisková ulica 387/8 | E7: Prievidza | F7: 971 03 | G7: www.aeroklub-prievidza.sk | H7: info@aeroklub-prievidza.sk | I7: Roman Leporis, Ľuboš Jánošík | J7: prezident, sekretár | K7: Ľuboš Jánošík | L7: 421911110504 | M7: SK66 0900 0000 0052 3762 7402
A8: 36637092 | B8: AG Hradová s.r.o. | C8: spoločnosť s ručením obmedzeným | D8: Športová ulica 5756 | E8: Lučenec | F8: 984 01 | G8: www.rocketclub.sk | H8: aghradova.sro@gmail.com | I8: Martin Podhora | J8: konateľ | K8: Martin Podhora | L8: 421905625637 | M8: SK39 7500 0000 0040 1280 3984
A9: 36132632 | B9: AKNELA | C9: občianske združenie | D9: Palackého 1940/30 | E9: Vrútky | F9: 038 61 | G9: www.aknela.sk | H9: alen@aknela.sk | I9: Michaela Adámiková | J9: predseda | K9: Alena Drljača | L9: 421904567820 | M9: SK66 0900 0000 0003 5232 4252
A10: 37894021 | B10: ASOCIÁCIA MAŽORETKOVÉHO ŠPORTU SLOVENSKO | C10: občianske združenie | D10: Rozkvet 2073/155 | E10: Považská Bystrica | F10: 017 01 | G10: www.amas.sk | H10: elllapb@gmail.com | I10: Elena Martinková | J10: prezident | K10: Mgr. Štefan Pčola | L10: 421903471398 | M10: SK55 7500 0000 0040 3499 6617
A11: 00678457 | B11: Asociácia športových klubov Inter Bratislava | C11: občianske združenie | D11: Trnavská cesta 3011/33 | E11: Bratislava | F11: 832 84 | G11: http://www.askinter.sk/sk/kluby/kanoistika/kanoistika-o-klube | H11: kanoistickyklubinter@gmail.com | I11: Ľubomír Želiezka | J11: riaditeľ | K11: Monika Vyskočilová | L11: 421910953832 | M11: SK45 0200 0000 0000 0923 1112
A12: 00681482 | B12: Asociácia športu pre všetkých Slovenskej republiky | C12: občianske združenie | D12: Olympijské námestie 14290/1 | E12: Bratislava | F12: 832 80 | G12: www.aspv.sk | H12: aspv@aspv.sk | I12: Ján Holko | J12: predseda | K12: Ján Holko | L12: 421911244266 | M12: SK32 0200 0000 0050 7394 7054
A13: 55184707 | B13: Baláž Racing | C13: občianske združenie | D13: Medveďovej 2700/21 | E13: Bratislava | F13: 851 04 | G13: www.balazracing.sk | H13: hd.balaz@gmail.com | I13: Michal Baláž | J13: predseda | K13: Michal Baláž | L13: 421948780850 | M13: SK36 8330 0000 0022 0329 4693 | R13: =A13 -> 55184707
A14: 35629827 | B14: Basketbalový klub AŠK Slávia Trnava | C14: občianske združenie | D14: Ulica Rybníková 592/1 | E14: Trnava | F14: 917 01 | G14: www.bkslaviatrnava.sk | H14: jobb.basket@gmail.com | I14: Ján Jobb | J14: predseda | K14: Ján Jobb | L14: 421918706450 | M14: SK37 0900 0000 0052 3953 9406 | R14: =A14 -> 35629827
A15: 37963091 | B15: Basketbalový klub mládeže JUNIOR Unverzity Konštantína Filozofa Nitra | C15: občianske združenie | D15: tr.A.Hlinku 1 | E15: Nitra | F15: 949 01 | G15: www.bkmnitra.sk | H15: sailer.doma@gmail.com | I15: Ladislav Sailer | J15: predseda | K15: Ladislav Sailer | L15: 421905442262 | M15: SK83 5600 0000 0048 1839 9001 | R15: =A15 -> 37963091
A16: 42220971 | B16: BASKETBALOVÝ KLUB MLÁDEŽE ŽILINA - ZÁVODIE | C16: občianske združenie | D16: Kvetná 2396/7 | E16: Žilina | F16: 010 01 | G16: www.bkmzilina.sk | H16: ippsza@gmail.com | I16: Pavol Gerát | J16: predseda | K16: Pavol Gerát | L16: 421907188019 | M16: SK72 1100 0000 0029 4426 9890 | R16: =A16 -> 42220971
A17: 42180309 | B17: Benitim | C17: občianske združenie | D17: Fláviovská 43 | E17: Bratislava | F17: 851 10 | G17: www.benitim.sk | H17: andrea@benitim.sk | I17: Andrea Čvapková | J17: predseda | K17: Andrea Čvapková | L17: 421905508129 | M17: SK54 0900 0000 0052 4034 4200 | R17: =A17 -> 42180309
A18: 52085929 | B18: BIKE RACING SLOVAKIA MARTIN | C18: občianske združenie | D18: J. Mazúra 4427/6 | E18: Martin | F18: 036 01 | G18: - | H18: Filip.Cillik@marbach.com; bibkac22@gmail.com | I18: Filip Čillík | J18: podpredseda | K18: Filip Čillík | L18: 421911545054 | M18: SK23 8330 0000 0029 0169 6673
A19: 51972042 | B19: ByteBite, s. r. o. | C19: spoločnosť s ručením obmedzeným | D19: Klincová 35 | E19: Bratislava | F19: 821 08 | G19: www.bytebite.sk | H19: info@bytebite.sk | I19: Peter Daniš | J19: konateľ | K19: Peter Daniš | L19: 421907510189 | M19: SK38 8330 0000 0021 0151 8668 | R19: =A19 -> 51972042
A20: 42254388 | B20: Deaflympijský výbor Slovenska | C20: občianske združenie | D20: Kýčerského 7 | E20: Bratislava | F20: 811 05 | G20: www.deaflympic.sk | H20: office@deaflympic.sk | I20: Peter Birka | J20: prezident | K20: Milena Fabšičová | L20: 421911370554 | M20: SK30 1100 0000 0029 2988 5740 | R20: =A20 -> 42254388
A21: 42017840 | B21: Florbalový klub AS Trenčín | C21: občianske združenie | D21: Kubrická 109/3 | E21: Trenčín | F21: 911 01 | G21: www.astrencinflorbal.sk | H21: jurmat@centrum.sk | I21: Juraj Matejka | J21: predseda | K21: Juraj Matejka | L21: 421903945335 | M21: SK82 0900 0000 0052 3934 1977
A22: 42103711 | B22: FLORBALOVÝ KLUB MICHALOVCE | C22: občianske združenie | D22: T.J.Moussona č. 4 | E22: Michalovce | F22: 071 01 | G22: www.eastern-wings-michalovce.webnode.sk | H22: puchir@fbkmichalovce.sk | I22: Gerhard Puchír | J22: predseda | K22: Gerhard Puchír | L22: 421903604195 | M22: SK88 7500 0000 0040 2375 4305 | R22: =A22 -> 42103711
A23: 17315298 | B23: Futbalový klub Dúbravka | C23: občianske združenie | D23: K Horánskej studni 29 | E23: Bratislava | F23: 841 02 | G23: www.fkdubravka.sk | H23: fkdubravka@fkdubravka.sk | I23: Miroslav Janky | J23: predseda | K23: Miroslav Janky | L23: 421905613897 | M23: SK64 0200 0000 0052 4532 0355
A24: 14223040 | B24: Futbalový klub Iskra Hnúšťa | C24: občianske združenie | D24: Nábrežie Rimavy 446 | E24: Hnúšťa | F24: 981 01 | G24: www.mesto.hnusta.sk/mesto/skolstvo-kultura-sport/sport-/ | H24: mpetrok33@gmail.com | I24: Marian Petrok | J24: predseda | K24: Marian Petrok | L24: 421905837809 | M24: SK63 0200 0000 0000 2053 4392
A25: 42258014 | B25: FUTBALOVÝ KLUB POLÍCIE BRATISLAVA | C25: občianske združenie | D25: Ľuda Zúbka 3169/25 | E25: Bratislava | F25: 841 01 | G25: www.fkp.sk | H25: s.gubrica@gmail.com | I25: Štefan Gubrica | J25: predseda | K25: Štefan Gubrica | L25: 421903434035 | M25: SK23 0200 0000 0036 4957 5451 | R25: =A25 -> 42258014
A26: 42396841 | B26: FUTSAL KLUB LUČENEC | C26: občianske združenie | D26: Ulica železničná 26 | E26: Lučenec | F26: 984 01 | G26: www.futsallucenec.sk | H26: jozef.kamensky@gmail.com | I26: Milan Kamenský | J26: predseda | K26: Jozef Kamenský | L26: 421905323008 | M26: - | R26: =A26 -> 42396841
A27: 53939042 | B27: Gladiators TnUAD Trenčín n.o | C27: Nezisková organizácia poskytujúca všeobecne prospešné služby | D27: Trenčianske Jastrabie 56 | E27: Trenčianske Jastrabie | F27: 913 22 | G27: www.gladiatorstrencin.sk | H27: lfryvaldsky@gmail.com | I27: Lukáš Frývaldský | J27: riaditeľ | K27: Lukáš Frývaldský | L27: 421904760660 | M27: SK75 1100 0000 0029 4527 4659 | R27: =A27 -> 53939042
A28: 35605472 | B28: Handball Club Pezinok | C28: občianske združenie | D28: Na Bielenisku 4 | E28: Pezinok | F28: 902 01 | G28: www.handballpezinok.sk | H28: info@handballpezinok.sk | I28: Martin Šipoš | J28: predseda | K28: Martin Šipoš | L28: 421903757165 | M28: SK54 0900 0000 0052 3928 4378
A29: 52798721 | B29: HC 07 Detva s. r. o. | C29: spoločnosť s ručením obmedzeným | D29: Jánošíkova 3346/6 | E29: Detva | F29: 962 12 | G29: - | H29: hc07detva@gmail.com | I29: Matej Ľupták | J29: konateľ | K29: - | L29: - | M29: - | R29: =A29 -> 52798721
A30: 52489159 | B30: HC UNIZA | C30: občianske združenie | D30: M. Šinského 936/11 | E30: Žilina | F30: 010 07 | G30: www.hc.uniza.sk | H30: hcuniza@gmail.com | I30: Alexander Gašparovič | J30: predseda | K30: Alexander Gašparovič | L30: 421905103966 | M30: SK63 8330 0000 0025 0203 4322 | R30: =A30 -> 52489159
A31: 00603481 | B31: Hlavné mesto Slovenskej republiky Bratislava | C31: samostatný územný samosprávny celok | D31: Primaciálne námestie č. 1 | E31: Bratislava | F31: 814 99 | G31: www.bratislava.sk | H31: sport@bratislava.sk | I31: Ctibor Košťál | J31: riaditeľ Magistrátu hlavného mesta SR Bratislavy | M31: SK44 0900 0000 0052 5252 5252 | R31: =A31 -> 00603481
A32: 50879391 | B32: Hokejový klub UMB | C32: občianske združenie | D32: Hronské predmestie 1452/4 | E32: Banská Bystrica | F32: 974 01 | G32: www.umbhockey.sk | H32: lukas@umbhockey.sk | I32: Lukáš Opáth | J32: prezident | M32: SK12 0900 0000 0051 3456 4613 | R32: =A32 -> 50879391
A33: 50642804 | B33: iCompete Natural Slovakia | C33: občianske združenie | D33: Jesenského 71 | E33: Zvolen | F33: 960 01 | G33: www.icn.sk | H33: icn@icn.sk | I33: René Tomášek | J33: prezident | K33: René Tomášek | L33: 421905819613 | M33: SK84 7500 0000 0040 3183 7581
A34: 42024536 | B34: ILYO - TAEKWONDO TRENČÍN, o. z. | C34: občianske združenie | D34: Saratovská 7388/1B | E34: Trenčín | F34: 911 08 | G34: www.taekwondo-tn.sk | H34: ilasenkova@gmail.com | I34: Jana Babinská | J34: prezidentka | K34: Jana Babinská | L34: 421904481001 | M34: SK94 8330 0000 0024 0332 9571 | R34: =A34 -> 42024536
A35: 51285193 | B35: Jachtklub Akademik Technická univerzita Košice | C35: občianske združenie | D35: Watsonova 1912/4A | E35: Košice | F35: 040 01 | G35: www.surfclub.sk | H35: lopuchovskygalop@gmail.com | I35: Pavol Lopuchovský | J35: predseda výkonného výboru | K35: Pavol Lopuchovský | L35: 421903655253 | M35: SK88 0900 0000 0051 4483 2829 | R35: =A35 -> 51285193
A36: 42103479 | B36: JAKASPORT academy | C36: občianske združenie | D36: Tomášiková 17 | E36: Košice | F36: 040 01 | G36: www.jakasport.eu | H36: sport.jaka@gmail.com | I36: Lucia Pajkošová | J36: predseda | K36: Lucia Pajkošová | L36: 421908828982 | M36: SK25 0200 0000 0042 1911 9354 | R36: =A36 -> 42103479
A37: 47210125 | B37: job&fun s.r.o. | C37: spoločnosť s ručením obmedzeným | D37: Letná 33 | E37: Stará Ľubovňa | F37: 064 01 | G37: www.jobandfun.sk | H37: jobfun.slovakia@gmail.com | I37: Adriana Malá | J37: konateľka | K37: Adriana Malá | L37: 421903141567 | M37: SK61 7500 0000 0040 3513 8032 | R37: =A37 -> 47210125
A38: 42234425 | B38: JUDO CLUB Bardejov o. z. | C38: občianske združenie | D38: J.Grešáka 2745/15 | E38: Bardejov | F38: 085 01 | G38: www.judovychod.sk | H38: stanislav.mlynaric@centrum.sk | I38: Stanislav Mlynarič | J38: podpredseda | K38: Stanislav Mlynarič | L38: 421905262047 | M38: SK33 7500 0000 0040 1666 9348 | R38: =A38 -> 42234425
A39: 14222230 | B39: Judo Klub Martin, Občianske združenie | C39: občianske združenie | D39: Československej armády 1698/10 | E39: Martin | F39: 036 01 | G39: www.judomartin.sk | H39: zdenkokozak@centrum.sk | I39: Zdenko Kozák | J39: predseda | K39: Zdenko Kozák | L39: 421907672006 | M39: SK02 0900 0000 0052 3952 2479 | R39: =A39 -> 14222230
A40: 00609153 | B40: Kajak & kanoe klub Komárno, o.z. | C40: občianske združenie | D40: Župná ul. 1149/18 | E40: Komárno | F40: 945 01 | G40: www.kajakkomarno.sk | H40: kkajakkomarno@gmail.com | I40: Viktor Demin | J40: predseda | K40: Viktor Demin | L40: 421915178155 | M40: SK71 0900 0000 0051 3433 5407 | R40: =A40 -> 00609153
A41: 35533099 | B41: Karate Klub IGLOW, o. z. | C41: občianske združenie | D41: Javorová 2016/9 | E41: Spišská Nová Ves | F41: 052 01 | G41: www.kkiglow.sk | H41: jaro.javorsky14@gmail.com | I41: Jaroslav Javorský | J41: predseda | K41: Vladimír Geletko | L41: 421903623498 | M41: SK81 7500 0000 0040 3512 9136 | R41: =A41 -> 35533099
A42: 42074355 | B42: KARATE KLUB JUNIOR PREŠOV, o. z. | C42: občianske združenie | D42: Levočská 77 | E42: Prešov | F42: 080 01 | G42: www.karate-presov.sk | H42: junior@karate-presov.sk | I42: Ľubomír Čiernik | J42: predseda | K42: Ľubomír Čiernik | L42: 421907450644 | M42: SK64 0900 0000 0052 3931 3589 | R42: =A42 -> 42074355
A43: 35545127 | B43: KARATE KLUB KRETOVIČ KOŠICE, o. z. | C43: občianske združenie | D43: Tr. SNP 104 | E43: Košice | F43: 040 11 | G43: www.kkk.sk | H43: karate.kretovic@gmail.com | I43: František Kretovič | J43: predseda | K43: František Kretovič | L43: 421905321899 | M43: SK08 0900 0000 0051 2057 6218 | R43: =A43 -> 35545127
A44: 36130605 | B44: Karate klub Prievidza FKŠ | C44: občianske združenie | D44: Ulica V. Benedikta 212/23 | E44: Prievidza | F44: 971 01 | G44: www.karatefks.org | H44: senk.miro9@gmail.com | I44: Miroslav Šenk | J44: predseda | K44: Miroslav Šenk | L44: 421907778064 | M44: SK40 5600 0000 0090 1600 6002 | R44: =A44 -> 36130605
A45: 30230152 | B45: Karate klub Žilina, o.z. | C45: občianske združenie | D45: Hečkova 2534/18 | E45: Žilina | F45: 010 01 | G45: www.karateza.sk | H45: cisarik@karate.sk | I45: Jozef Cisarik | J45: predseda | K45: Jozef Cisarik | L45: 421948900425 | M45: SK36 8330 0000 0023 0322 8458 | R45: =A45 -> 30230152
A46: 37859170 | B46: KFC Komárno | C46: občianske združenie | D46: Športová 1 | E46: Komárno | F46: 945 01 | G46: www.kfckomarno.sk | H46: info@kfckomarno.sk | I46: Juraj Baráth | J46: prezident | K46: Juraj Baráth | L46: 421948022784 | M46: SK42 7500 0000 0040 3513 8665
A47: 45011893 | B47: Klub gymnastických športov Slávia Trnava | C47: občianske združenie | D47: Rybníková 15 | E47: Trnava | F47: 917 01 | G47: www.gymnastikatrnava.sk | H47: kgsslaviatrnava@gmail.com; novak@sgf.sk | I47: Ján Novák | J47: predseda | K47: Ján Novák; Miriam Bednáriková | L47: 421905811054 | M47: SK18 1100 0000 0029 4608 3598 | R47: =A47 -> 45011893
A48: 36071498 | B48: Klub modernej gymnastiky DANUBIA | C48: občianske združenie | D48: Topoľčianska 33 | E48: Bratislava | F48: 851 05 | G48: www.danubia-gymnastika.sk | H48: danubia.eb@gmail.com | I48: Erika Brandnerová | J48: predsedníčka | K48: Erika Brandnerová | L48: 421905790638 | M48: SK26 1100 0000 0029 4508 3481 | R48: =A48 -> 36071498
A49: 51565153 | B49: Klub orientačného behu ATU Košice | C49: občianske združenie | D49: Watsonova 1912/4A | E49: Košice | F49: 040 01 | G49: https://obeh.website.tuke.sk/ | H49: jozefpoll@gmail.com | I49: Jozef Pollák | J49: predseda | K49: Jozef Pollák | L49: 421915872938 | M49: SK88 0900 0000 0051 6751 9480 | R49: =A49 -> 51565153
A50: 31940803 | B50: Klub plaveckých športov Nereus Žilina, o. z. | C50: občianske združenie | D50: Vysokoškolákov 1765/8 | E50: Žilina | F50: 010 08 | G50: www.nereus.sk | H50: Jurkovic.t@gmail.com | I50: Tomáš Jurkovič | J50: predseda | K50: Tomáš Jurkovič | L50: 421904457419 | M50: SK88 5600 0000 0056 8519 1008 | R50: =A50 -> 31940803
A51: 36082538 | B51: Klub sálového futbalu Športový klub Prednádražie Trnava | C51: občianske združenie | D51: Ulica Čajkovského 6331/39 | E51: Trnava | F51: 917 08 | G51: www.prengocup.com | H51: michalik.m@gmail.com | I51: Martin Michalík | J51: predseda | K51: Martin Michalík | L51: 421908119697 | M51: SK78 0900 0000 0050 3871 2487 | R51: =A51 -> 36082538
A52: 00688312 | B52: Klub slovenských turistov | C52: občianske združenie | D52: Záborského 33 | E52: Bratislava | F52: 831 03 | G52: www.kst.sk | H52: ustredie@kst.sk | I52: Peter Švec | J52: predseda | K52: Ida Ovečková | L52: 421903705119 | M52: SK34 0900 0000 0001 7152 7595 | R52: =A52 -> 00688312
A53: 42329809 | B53: Klub Super Deti Košice, o.z. | C53: občianske združenie | D53: Lomonosovova 20 | E53: Košice | F53: 040 01 | G53: www.super-deti.sk | H53: jan.surim@gmail.com | I53: Ján Šurim | J53: predseda | K53: Ján Šurim | L53: 421908744859 | M53: SK46 1100 0000 0029 4627 1177 | R53: =A53 -> 42329809
A54: 30857791 | B54: Klub vodného slalomu Karlova Ves | C54: občianske združenie | D54: Líščie údolie 33 | E54: Bratislava | F54: 841 04 | G54: www.vodnyslalom.sk | H54: branko.illek@gmail.com | I54: Branko Illek | J54: predseda | K54: Branko Illek | L54: 421902299675 | M54: SK83 0900 0000 0052 3924 1079 | R54: =A54 -> 30857791
A55: 35987901 | B55: Krasokorčuliarsky klub Iskra Banská Bystrica | C55: občianske združenie | D55: Hronské predmestie 1452/4 | E55: Banska Bystrica | F55: 974 01 | G55: www.kkiskrabb.sk | H55: info@kkiskrabb.sk | I55: Zuzana Babiakova | J55: predsedníčka | K55: Ivana Urbanová | L55: 421911970887 | M55: SK37 0900 0000 0052 3925 0346 | R55: =A55 -> 35987901
A56: 53942663 | B56: KRAV MAGA Modra | C56: občianske združenie | D56: Záhradná 1396/30 | E56: Pezinok | F56: 902 01 | G56: www.mirageacademy.sk | H56: krchnavy.michal@gmail.com | I56: Michal Krchnavý | J56: predseda | L56: 421902677720 | M56: SK27 1100 0000 0029 4327 5383 | R56: =A56 -> 53942663
A57: 37951343 | B57: Lieskovský tenisový klub – LTC | C57: občianske združenie | D57: Hájik 405/17 | E57: Lieskovec | F57: 962 21 | G57: www.tenislieskovec.sk | H57: jana.tuzinska@gmail.com | I57: Jana Tužinská | J57: prezidentka | K57: Jana Tužinská | L57: 421905892677 | M57: SK93 0900 0000 0051 1809 2943 | R57: =A57 -> 37951343
A58: 30847991 | B58: Lyžiarsky klub Lokomotíva Bratislava | C58: občianske združenie | D58: Bajzova 5312/10 | E58: Bratislava | F58: 841 08 | G58: https://www.skiloko.sk | H58: jarka.jankova@gmail.com | I58: Igor Plávka | J58: predsedníčka | K58: Jarmila Janková | L58: 421905504131 | M58: SK88 0900 0000 0052 3927 1059 | R58: =A58 -> 30847991
A59: 35992204 | B59: Lyžiarsky klub Opalisko Závažná Poruba | C59: občianske združenie | D59: Športová 3 | E59: Závažná Poruba | F59: 032 02 | G59: www.lkopalisko.sk | H59: katarína.razusova@centrum.sk | I59: Katarína Rázusová | J59: predseda | K59: Katarína Rázusová | L59: 421948800954 | M59: SK66 1111 0000 0066 0589 0015 | R59: =A59 -> 35992204
A60: 42269423 | B60: MAMMAL - Slovenský zväz MMA | C60: občianske združenie | D60: Židovská 298/19 | E60: Bratislava | F60: 811 01 | G60: www.mammal.sk | H60: info@mammal.sk; marek.herda@mammal.sk | I60: Marek Herda | J60: prezident | K60: Jana Gurová | L60: 421903555547 | M60: SK90 0200 0000 0049 7897 1855 | R60: =A60 -> 42269423
A61: 00630616 | B61: Maratón klub Rajec | C61: občianske združenie | D61: Mudrochova 909/4 | E61: Rajec | F61: 015 01 | G61: www.rajeckymaraton.sk | H61: pavol.uhlarik@gmail.com | I61: Pavol Uhlárik | J61: predseda | K61: Pavol Uhlárik | L61: 421903175665 | M61: SK29 0900 0000 0000 7651 0656
A62: 00595209 | B62: Maratónsky klub Košice | C62: občianske združenie | D62: Žriedlová 3444/30 | E62: Košice | F62: 040 01 | G62: www.kosicemarathon.com | H62: klub@kosicemarathon.com | I62: Branislav Koniar | J62: prezident | K62: Miriam Kopcsayová | L62: 421918626994 | M62: SK53 0900 0000 0051 8854 0107 | R62: =A62 -> 00595209
A63: 00689025 | B63: Mestský futbalový klub Dolný Kubín | C63: občianske združenie | D63: Športovcov 1181/2 | E63: Dolný Kubín | F63: 026 01 | H63: dolnykubinmfk@orava.sk | I63: Ľubomír Škrabák | J63: predseda | K63: Ľubomír Škrabák | L63: 421907835443 | M63: SK57 7500 2000 0200 0504 2832 | R63: =A63 -> 00689025
A64: 00313319 | B64: Mestský úrad Brezno | C64: samostatný územný samosprávny celok | D64: Námestie gen. M.R. Štefánika 1 | E64: Brezno | F64: 977 01 | G64: www.mesto.brezno.sk | H64: podatelna@brezno.sk | I64: Tomáš Abel | J64: primátor | K64: Tomáš Abel | L64: 421911674673 | M64: SK97 5600 0000 0020 0279 1001 | R64: =A64 -> 00313319
A65: 00326470 | B65: Mestský úrad Poprad | C65: samostatný územný samosprávny celok | D65: Nábrežie Jána Pavla II. 2802/3 | E65: Poprad | F65: 058 42 | G65: www.poprad.sk | H65: podatelna@msupoprad.sk | I65: Anton Danko | J65: primátor | K65: Anton Danko | L65: 421527167202 | M65: SK75 0200 0000 0000 2452 4562 | R65: =A65 -> 00326470
A66: 00309303 | B66: Mestský úrad Štúrovo | C66: samostatný územný samosprávny celok | D66: Námestie slobody 1 | E66: Štúrovo | F66: 943 01 | G66: www.sturovo.sk | H66: sekretariat@sturovo.sk | I66: Eugen Szabó | J66: primátor | K66: Eugen Szabó | L66: 421362851307 | M66: SK44 0200 0000 0001 7502 2172 | R66: =A66 -> 00309303
A67: 42375177 | B67: MESTSKÝ VOLEJBALOVÝ KLUB NOVÉ MESTO NAD VÁHOM | C67: občianske združenie | D67: Odborárska 1374/10 | E67: Nové Mesto nad Váhom | F67: 915 01 | G67: www.facebook.com/mvknovemesto | H67: lubosl70@volny.cz | I67: Luboš Lhotský | J67: viceprezident | K67: Luboš Lhotský | L67: 421903882441 | M67: SK58 0900 0000 0051 2699 7785 | R67: =A67 -> 42375177
A68: 42253284 | B68: MINDA GYM BRATISLAVA | C68: občianske združenie | D68: Rovniankova 1688/18 | E68: Bratislava | F68: 851 02 | G68: www.mindagym.sk | H68: info@mindagym.sk | I68: Vladimír Minda | J68: predseda | K68: Vladimír Minda | L68: 421904566528 | M68: - | R68: =A68 -> 42253284
A69: 35994134 | B69: Mládežnícka basketbalová akadémia Prievidza | C69: občianske združenie | D69: Sama Chalupku 312/12 | E69: Prievidza | F69: 971 01 | G69: www.mbaprievidza.sk | H69: marekbulik23@gmail.com | I69: Marek Bulík, Branislav Hromada | J69: predseda správnej rady, člen správnej rady | K69: Marek Bulík | L69: 421917659092 | M69: SK30 0900 0000 0050 6603 0491 | R69: =A69 -> 35994134
A70: 42108012 | B70: MŠK - STO Krompachy | C70: občianske združenie | D70: Trangusova 1 | E70: Krompachy | F70: 053 42 | G70: www.mskstokrompachy.cultech.sk | H70: olga.barbusova@centrum.sk | I70: Oľga Barbušová | J70: predsedníčka | K70: Oľga Barbušová | L70: 421905567307 | M70: SK10 0900 0000 0051 3751 3352
A71: 36332500 | B71: MŠK Púchov s. r. o. | C71: spoločnosť s ručením obmedzeným | D71: Ul. 1. mája 834/29 | E71: Púchov | F71: 020 01 | G71: www.futbal.mskpuchov.sk | H71: mskpuchov@mskpuchov.sk | I71: Štefan Ondrička | J71: konateľ | K71: - | L71: - | M71: - | R71: =A71 -> 36332500
A72: 37832743 | B72: MUSHER KLUB LUČENEC | C72: občianske združenie | D72: Hlavná 879/41A | E72: Špačince | F72: 919 51 | G72: www.mklucenec.sk | H72: zuzana.rybarova1@gmail.com | I72: Zuzana Rybárová | J72: predseda | K72: Zuzana Rybárová | L72: 421905656180 | M72: - | R72: =A72 -> 37832743
A73: 42007445 | B73: NOVÉ TVÁRE/NEW FACES | C73: občianske združenie | D73: Rudlovská cesta 1028/13 | E73: Banská Bystrica | F73: 974 01 | G73: www.newfaces.sk | H73: newfacesbb@gmail.com | I73: Vladimír Ivan | J73: predseda | K73: Vladimír Ivan | L73: 421905168178 | M73: - | R73: =A73 -> 42007445
A74: 36102181 | B74: Občianske združenie "Športový klub DELFÍN Nitra" | C74: občianske združenie | D74: Za Humnami 732/43 | E74: Nitra | F74: 949 01 | G74: www.slovakman.sk | H74: peciarp@gmail.com | I74: Pavol Peciar | J74: predseda | K74: Tatiana Peciarová | L74: 421905897072 | M74: SK34 0900 0000 0051 4349 1030 | R74: =A74 -> 36102181
A75: 42172209 | B75: Občianske združenie Sokolík | C75: občianske združenie | D75: Borievková 448/2 | E75: Hamuliakovo | F75: 900 43 | G75: www.florbalovasuperdavka.sk | H75: majo.takac@gmail.com | I75: Maroš Takáč | J75: predseda | K75: Maroš Takáč | L75: 421948486366 | M75: SK90 5600 0000 0067 4685 5002 | R75: =A75 -> 42172209
A76: 50607332 | B76: OCRA Slovakia | C76: občianske združenie | D76: Kadnárova 2512/17 | E76: Bratislava | F76: 831 52 | G76: www.ocraslovakia.sk | H76: martin.raffay@gmail.com | I76: Martin Raffay | J76: prezident | L76: 421918817207 | M76: SK69 1100 0000 0029 4520 3666 | R76: =A76 -> 50607332
A77: 42279607 | B77: Penguin sport club | C77: občianske združenie | D77: Beckov 427 | E77: Beckov | F77: 916 38 | G77: www.detiasport.sk | H77: info@detiasport.sk | I77: Andrej Úradníček | J77: predseda | K77: Andrej Úradníček | L77: 421904339283 | M77: SK92 0200 0000 0052 4540 7151 | R77: =A77 -> 42279607
A78: 51068125 | B78: Philosophers Nitra | C78: občianske združenie | D78: Bazovského 417/16 | E78: Nitra | F78: 949 11 | G78: www.philosophers.sk | H78: philosophershockey@gmail.com | I78: Martin Uhnák | J78: predseda | K78: Martin Uhnák | L78: 421908842839 | M78: SK89 0900 0000 0052 3497 9373
A79: 48136387 | B79: Pilot JET s.r.o. | C79: spoločnosť s ručením obmedzeným | D79: Ružinovská 3 | E79: Bratislava | F79: 821 02 | G79: www.letisko-jasna.sk | H79: cpt@atlas.sk | I79: Miroslav Toma | J79: prokurista | K79: Miroslav Toma | L79: 421908794333 | M79: SK10 0200 0000 0052 2212 7851
A80: 36108472 | B80: PIRANA Sport Club | C80: občianske združenie | D80: Tovarnícka 1651/1 | E80: Topoľčany | F80: 955 01 | G80: www.piranasport.sk | H80: marek.galis@gmail.com | I80: Marek Gális | J80: generálny manažér | K80: Marek Gális | L80: 421910388699 | M80: SK43 0900 0000 0002 6122 3042
A81: 50629158 | B81: Pohyb ako dar | C81: občianske združenie | D81: Bazovského 3138/1 | E81: Bratislava | F81: 841 01 | G81: www.odtatierkdunaju.sk | H81: bebold21@gmail.com | I81: Štefan Šogor | J81: predseda | K81: Štefan Šogor | L81: 421905659005 | M81: SK18 1100 0000 0029 4503 3476
A82: 35546913 | B82: SKI CLUB VRÁTNA | C82: občianske združenie | D82: Južná trieda 2254/46 | E82: Košice | F82: 040 01 | G82: www.vratna.org | H82: suhajdas@icos.sk | I82: Silvia Smereková, Iveta Urbanová | J82: člen správnej rady, člen správnej rady | K82: Andrej Gábriš | L82: 421903528610 | M82: SK64 7500 0000 0003 1379 6513
A83: 42254302 | B83: Slávia Gymnastické centrum Bratislava | C83: občianske združenie | D83: Wolkrova 47 | E83: Bratislava | F83: 851 01 | G83: www.gymnastickecentrum.sk | H83: info@gymslaviauk.sk | I83: Tibor Letko | J83: predseda | K83: Tibor Letko | L83: 421903413040 | M83: SK89 0900 0000 0052 3518 8602
A84: 30787009 | B84: Slovenská asociácia amerického futbalu | C84: občianske združenie | D84: Nevädzová 17211/6B | E84: Bratislava | F84: 821 01 | G84: www.saaf.sk | H84: info@saaf.sk | I84: Michal Slašťan | J84: prezident | K84: Michal Slašťan | L84: 421908868248 | M84: SK90 8330 0000 0021 0189 0697
A85: 00631655 | B85: Slovenská asociácia boccie | C85: občianske združenie | D85: Ulica Vajanského 874/46 | E85: Lučenec | F85: 984 01 | G85: www.bocce.sk | H85: slovenska.asociacia.bocce@gmail.com | I85: Ján Macko, Lukáš Bolla, Richard Čonka | J85: prezident, predseda, predseda | K85: Ján Macko | L85: 421919188236 | M85: SK92 8330 0000 0026 0113 7730
A86: 42019541 | B86: Slovenská asociácia čínskeho wushu | C86: občianske združenie | D86: Ladislava Dérera 35 | E86: Bratislava | F86: 831 01 | G86: www.wushuslovakia.sk | H86: email@wushuslovakia.sk | I86: Ľubomír France | J86: prezident | K86: Ľubomír France | L86: 421905948422 | M86: SK12 8330 0000 0024 0152 5392
A87: 30810108 | B87: Slovenská Asociácia Dynamickej Streľby | C87: občianske združenie | D87: Skautská 2 | E87: Košice | F87: 040 01 | G87: www.sads.sk | H87: prezident@sads.sk | I87: Bystrík Zachar | J87: prezident | K87: Bystrík Zachar | L87: 421915184709 | M87: SK75 3100 0000 0040 0020 5012
A88: 30842069 | B88: Slovenská asociácia fitnes, kulturistiky a silového trojboja | C88: občianske združenie | D88: Olympijské námestie 14290/1 | E88: Bratislava | F88: 832 80 | G88: www.safkst.sk | H88: sekretariat@safkst.sk | I88: Boris Mlsna | J88: prezident | K88: Lucia Čermáková | L88: 421908965156 | M88: SK77 0900 0000 0051 7589 2912
A89: 31749852 | B89: Slovenská asociácia Frisbee | C89: občianske združenie | D89: Malženice 511 | E89: Malženice | F89: 919 29 | G89: www.szf.sk | H89: safslovakia@gmail.com | I89: Richard Kollár | J89: predseda | K89: Martin Keseg | L89: 421905998953 | M89: SK62 0200 0000 0000 7763 5012
A90: 30844711 | B90: Slovenská asociácia go | C90: občianske združenie | D90: Olympijské námestie 14290/1 | E90: Bratislava | F90: 832 80 | G90: www.sago.sk | H90: slovakgo@gmail.com | I90: Martin Lukáč | J90: prezident | K90: Martin Lukáč; Miroslav Poliak | L90: 421903187087; 421903200136 | M90: SK31 8330 0000 0025 0173 0318
A91: 31940668 | B91: Slovenská asociácia korfbalu | C91: občianske združenie | D91: Makovického 6 | E91: Prievidza | F91: 971 01 | G91: www.korfbal.sk | H91: martinsonoga@gmail.com | I91: Martin Sonoga | J91: prezident | K91: Martin Sonoga | L91: 421911361044 | M91: SK91 3100 0000 0040 0116 2405
A92: 31824021 | B92: Slovenská asociácia motoristického športu | C92: občianske združenie | D92: Fatranská 3 | E92: Nitra | F92: 949 01 | G92: www.sams-asn.sk | H92: samssk@nextra.sk | I92: Dušan Koblišek | J92: prezident | K92: Vojtech Ruisl | L92: 421903403105 | M92: SK29 3100 0000 0042 2012 1718
A93: 45009660 | B93: Slovenská asociácia naturálnej kulturistiky | C93: občianske združenie | D93: Štefániková 3509/20 | E93: Michalovce | F93: 071 01 | G93: www.sank.sk | H93: rigosank@gmail.com | I93: Viliam Rigo | J93: prezident | K93: Viliam Rigo | L93: 421917812810 | M93: SK83 0900 0000 0051 5460 0722
A94: 30811686 | B94: Slovenská asociácia pretláčania rukou | C94: občianske združenie | D94: Vavrečka 311 | E94: Námestovo | F94: 029 01 | G94: www.armsport.sk | H94: sekretariat@armsport.sk | I94: Ján Germánus | J94: prezident | K94: Dagmar Petrová | L94: 421905162424 | M94: SK46 0900 0000 0000 1147 3305
A95: 30814910 | B95: Slovenská asociácia Taekwondo WT | C95: občianske združenie | D95: Hlavná 37/68 | E95: Košice | F95: 040 01 | G95: new.satkd.sk | H95: satkd.office@gmail.com | I95: Mário Švec | J95: prezident | K95: Pavel Ižarik; Alexandra Filipová | L95: 421902901640; 421911011900 | M95: SK19 8330 0000 0021 0142 0070
A96: 30814910 | B96: Slovenská asociácia taekwondo WT | C96: občianske združenie | D96: Hlavná 37/68 | E96: Košice | F96: 040 01 | G96: www.new.satkd.sk | H96: satkd.office@gmail.com | I96: Mário Švec | J96: prezident | K96: Mário Švec | L96: 421905267973 | M96: SK19 8330 0000 0021 0142 0070
A97: 17316731 | B97: Slovenská asociácia univerzitného športu | C97: občianske združenie | D97: Trnavská cesta 37 | E97: Bratislava | F97: 831 04 | G97: www.saus.sk | H97: saus@saus.sk | I97: Július Dubovský | J97: prezident | K97: Michaela Masárová | L97: 421907696186 | M97: SK51 1100 0000 0026 2902 3663
A98: 31929931 | B98: SLOVENSKÁ ASOCIÁCIA ZLATOKOPOV | C98: občianske združenie | D98: Ulica R. Jašíka 3004/1D | E98: Prievidza | F98: 971 01 | G98: ryzovaniezlata.sk | H98: asociaciazlatokopov@gmail.com | I98: František Küffer | J98: prezident | K98: František Küffer | L98: 421918478290 | M98: SK81 0900 0000 0052 3329 5500
A99: 30841798 | B99: Slovenská asociácia zrakovo postihnutých športovcov | C99: občianske združenie | D99: Kúpeľná 1843/81 | E99: Bojnice | F99: 972 01 | G99: www.sazps.sk | H99: sazps@sazps.sk | I99: Jakub Krako | J99: predseda | K99: Jakub Krako | L99: 421907448837 | M99: SK95 8330 0000 0021 0076 9190
A100: 30844568 | B100: Slovenská baseballová federácia | C100: občianske združenie | D100: Olympijské námestie 14290/1 | E100: Bratislava | F100: 831 04 | G100: www.slovakiabaseball.com | H100: office@slovakiabaseball.com | I100: Martin Čerňák | J100: prezident | K100: František Bunta | L100: 421905294239 | M100: SK09 0200 0000 0017 8566 0854
...

Sheet FP
A1: IČO | B1: Prijímateľ | C1: Predmet (názov, miesto, termín, parametre) | D1: Schválená (eur) | E1: SF (%) | F1: Účel | G1: PPG | H1: B/K | I1: ico+ucel | J1: ico+ppg | K1: Šport | L1: ICO+PPG+BK | M1: Zoraď | N1: ico+ucel+B/K
A2: 42446481 | B2: =VLOOKUP(A2,Adr!A:B,2,FALSE) -> "BigHugGym" | C2: športové pohybové tábory pre mládež | D2: 5000 | E2: 0 | F2: l | G2: 026 03 | H2: B | I2: =A2&F2 -> 42446481l | J2: =A2&G2 -> 42446481026 03 | L2: =A2&G2&H2 -> 42446481026 03B | M2: =B2&F2&H2&C2 -> "BigHugGym"lBšportové pohybové tábory pre mládež | N2: =+I2&H2 -> 42446481lB
A3: 37992619 | B3: =VLOOKUP(A3,Adr!A:B,2,FALSE) -> "Miesta pre mladých" | C3: športové pohybové tábory pre mládež | D3: 4983 | E3: 0 | F3: l | G3: 026 03 | H3: B | I3: =A3&F3 -> 37992619l | J3: =A3&G3 -> 37992619026 03 | L3: =A3&G3&H3 -> 37992619026 03B | M3: =B3&F3&H3&C3 -> "Miesta pre mladých"lBšportové pohybové tábory pre mládež | N3: =+I3&H3 -> 37992619lB
A4: 34055584 | B4: =VLOOKUP(A4,Adr!A:B,2,FALSE) -> 1. Volejbalový klub Púchov | C4: športové pohybové tábory pre mládež | D4: 3575 | E4: 0 | F4: l | G4: 026 03 | H4: B | I4: =A4&F4 -> 34055584l | J4: =A4&G4 -> 34055584026 03 | L4: =A4&G4&H4 -> 34055584026 03B | M4: =B4&F4&H4&C4 -> 1. Volejbalový klub PúchovlBšportové pohybové tábory pre mládež | N4: =+I4&H4 -> 34055584lB
A5: 55014810 | B5: =VLOOKUP(A5,Adr!A:B,2,FALSE) -> 3x3sport | C5: plnenie úloh verejného záujmu v športe | D5: 20000 | E5: 0 | F5: f | G5: 026 01 | H5: B | I5: =A5&F5 -> 55014810f | J5: =A5&G5 -> 55014810026 01 | L5: =A5&G5&H5 -> 55014810026 01B | M5: =B5&F5&H5&C5 -> 3x3sportfBplnenie úloh verejného záujmu v športe | N5: =+I5&H5 -> 55014810fB
A6: 30793513 | B6: =VLOOKUP(A6,Adr!A:B,2,FALSE) -> Academy 4 you | C6: športové pohybové tábory pre mládež | D6: 5000 | E6: 0 | F6: l | G6: 026 03 | H6: B | I6: =A6&F6 -> 30793513l | J6: =A6&G6 -> 30793513026 03 | L6: =A6&G6&H6 -> 30793513026 03B | M6: =B6&F6&H6&C6 -> Academy 4 youlBšportové pohybové tábory pre mládež | N6: =+I6&H6 -> 30793513lB
A7: 17067006 | B7: =VLOOKUP(A7,Adr!A:B,2,FALSE) -> Aeroklub Prievidza, občianske združenie | C7: plnenie úloh verejného záujmu v športe | D7: 15000 | E7: 0 | F7: f | G7: 026 01 | H7: B | I7: =A7&F7 -> 17067006f | J7: =A7&G7 -> 17067006026 01 | L7: =A7&G7&H7 -> 17067006026 01B | M7: =B7&F7&H7&C7 -> Aeroklub Prievidza, občianske združeniefBplnenie úloh verejného záujmu v športe | N7: =+I7&H7 -> 17067006fB
A8: 36637092 | B8: =VLOOKUP(A8,Adr!A:B,2,FALSE) -> AG Hradová s.r.o. | C8: športové pohybové tábory pre mládež | D8: 4990 | E8: 0 | F8: l | G8: 026 03 | H8: B | I8: =A8&F8 -> 36637092l | J8: =A8&G8 -> 36637092026 03 | L8: =A8&G8&H8 -> 36637092026 03B | M8: =B8&F8&H8&C8 -> AG Hradová s.r.o.lBšportové pohybové tábory pre mládež | N8: =+I8&H8 -> 36637092lB
A9: 36132632 | B9: =VLOOKUP(A9,Adr!A:B,2,FALSE) -> AKNELA | C9: športové pohybové tábory pre mládež | D9: 4500 | E9: 0 | F9: l | G9: 026 03 | H9: B | I9: =A9&F9 -> 36132632l | J9: =A9&G9 -> 36132632026 03 | L9: =A9&G9&H9 -> 36132632026 03B | M9: =B9&F9&H9&C9 -> AKNELAlBšportové pohybové tábory pre mládež | N9: =+I9&H9 -> 36132632lB
A10: 37894021 | B10: =VLOOKUP(A10,Adr!A:B,2,FALSE) -> ASOCIÁCIA MAŽORETKOVÉHO ŠPORTU SLOVENSKO | C10: rozvoj športov, ktoré nie sú uznanými podľa zákona č. 440/2015 Z. z. | D10: 16900 | E10: 0 | F10: g | G10: 026 03 | H10: B | I10: =A10&F10 -> 37894021g | J10: =A10&G10 -> 37894021026 03 | L10: =A10&G10&H10 -> 37894021026 03B | M10: =B10&F10&H10&C10 -> ASOCIÁCIA MAŽORETKOVÉHO ŠPORTU SLOVENSKOgBrozvoj športov, ktoré nie sú uznanými podľa zákona č. 440/2015 Z. z. | N10: =+I10&H10 -> 37894021gB
A11: 00678457 | B11: =VLOOKUP(A11,Adr!A:B,2,FALSE) -> Asociácia športových klubov Inter Bratislava | C11: Pohár Interu | D11: 3083 | E11: 0 | F11: m | G11: 026 03 | H11: B | I11: =A11&F11 -> 00678457m | J11: =A11&G11 -> 00678457026 03 | L11: =A11&G11&H11 -> 00678457026 03B | M11: =B11&F11&H11&C11 -> Asociácia športových klubov Inter BratislavamBPohár Interu | N11: =+I11&H11 -> 00678457mB
A12: 00681482 | B12: =VLOOKUP(A12,Adr!A:B,2,FALSE) -> Asociácia športu pre všetkých Slovenskej republiky | C12: podpora a rozvoj športu pre všetkých | D12: 48000 | E12: 0 | F12: f | G12: 026 01 | H12: B | I12: =A12&F12 -> 00681482f | J12: =A12&G12 -> 00681482026 01 | L12: =A12&G12&H12 -> 00681482026 01B | M12: =B12&F12&H12&C12 -> Asociácia športu pre všetkých Slovenskej republikyfBpodpora a rozvoj športu pre všetkých | N12: =+I12&H12 -> 00681482fB
A13: 55184707 | B13: =VLOOKUP(A13,Adr!A:B,2,FALSE) -> Baláž Racing | C13: plnenie úloh verejného záujmu v športe | D13: 5000 | E13: 0 | F13: f | G13: 026 01 | H13: B | I13: =A13&F13 -> 55184707f | J13: =A13&G13 -> 55184707026 01 | L13: =A13&G13&H13 -> 55184707026 01B | M13: =B13&F13&H13&C13 -> Baláž RacingfBplnenie úloh verejného záujmu v športe | N13: =+I13&H13 -> 55184707fB
... A99: 42254302 | B99: =VLOOKUP(A99,Adr!A:B,2,FALSE) -> Slávia Gymnastické centrum Bratislava | C99: športové pohybové tábory pre mládež | D99: 5000 | E99: 0 | F99: l | G99: 026 03 | H99: B | I99: =A99&F99 -> 42254302l | J99: =A99&G99 -> 42254302026 03 | L99: =A99&G99&H99 -> 42254302026 03B | M99: =B99&F99&H99&C99 -> Slávia Gymnastické centrum BratislavalBšportové pohybové tábory pre mládež | N99: =+I99&H99 -> 42254302lB
A100: 30787009 | B100: =VLOOKUP(A100,Adr!A:B,2,FALSE) -> Slovenská asociácia amerického futbalu | C100: americký futbal - bežné transfery | D100: 20620 | E100: 0 | F100: a | G100: 026 02 | H100: B | I100: =A100&F100 -> 30787009a | J100: =A100&G100 -> 30787009026 02 | K100: americký futbal | L100: =A100&G100&H100 -> 30787009026 02B | M100: =B100&F100&H100&C100 -> Slovenská asociácia amerického futbaluaBamerický futbal - bežné transfery | N100: =+I100&H100 -> 30787009aB
A101: 00631655 | B101: =VLOOKUP(A101,Adr!A:B,2,FALSE) -> Slovenská asociácia boccie | C101: boccia - bežné transfery | D101: 19239 | E101: 0 | F101: a | G101: 026 02 | H101: B | I101: =A101&F101 -> 00631655a | J101: =A101&G101 -> 00631655026 02 | K101: boccia | L101: =A101&G101&H101 -> 00631655026 02B | M101: =B101&F101&H101&C101 -> Slovenská asociácia boccieaBboccia - bežné transfery | N101: =+I101&H101 -> 00631655aB
A102: 00631655 | B102: =VLOOKUP(A102,Adr!A:B,2,FALSE) -> Slovenská asociácia boccie | C102: boule lyonnaise - bežné transfery | D102: 19239 | E102: 0 | F102: a | G102: 026 02 | H102: B | I102: =A102&F102 -> 00631655a | J102: =A102&G102 -> 00631655026 02 | K102: boule lyonnaise | L102: =A102&G102&H102 -> 00631655026 02B | M102: =B102&F102&H102&C102 -> Slovenská asociácia boccieaBboule lyonnaise - bežné transfery | N102: =+I102&H102 -> 00631655aB
A103: 42019541 | B103: =VLOOKUP(A103,Adr!A:B,2,FALSE) -> Slovenská asociácia čínskeho wushu | C103: wushu - bežné transfery | D103: 30377 | E103: 0 | F103: a | G103: 026 02 | H103: B | I103: =A103&F103 -> 42019541a | J103: =A103&G103 -> 42019541026 02 | K103: wushu | L103: =A103&G103&H103 -> 42019541026 02B | M103: =B103&F103&H103&C103 -> Slovenská asociácia čínskeho wushuaBwushu - bežné transfery | N103: =+I103&H103 -> 42019541aB
A104: 30810108 | B104: =VLOOKUP(A104,Adr!A:B,2,FALSE) -> Slovenská Asociácia Dynamickej Streľby | C104: dynamická streľba - bežné transfery | D104: 28868 | E104: 0 | F104: a | G104: 026 02 | H104: B | I104: =A104&F104 -> 30810108a | J104: =A104&G104 -> 30810108026 02 | K104: dynamická streľba | L104: =A104&G104&H104 -> 30810108026 02B | M104: =B104&F104&H104&C104 -> Slovenská Asociácia Dynamickej StreľbyaBdynamická streľba - bežné transfery | N104: =+I104&H104 -> 30810108aB
A105: 30842069 | B105: =VLOOKUP(A105,Adr!A:B,2,FALSE) -> Slovenská asociácia fitnes, kulturistiky a silového trojboja | C105: fitnes a kulturistika - bežné transfery | D105: 501165 | E105: 0 | F105: a | G105: 026 02 | H105: B | I105: =A105&F105 -> 30842069a | J105: =A105&G105 -> 30842069026 02 | K105: fitnes a kulturistika | L105: =A105&G105&H105 -> 30842069026 02B | M105: =B105&F105&H105&C105 -> Slovenská asociácia fitnes, kulturistiky a silového trojbojaaBfitnes a kulturistika - bežné transfery | N105: =+I105&H105 -> 30842069aB
A106: 30842069 | B106: =VLOOKUP(A106,Adr!A:B,2,FALSE) -> Slovenská asociácia fitnes, kulturistiky a silového trojboja | C106: silové športy - bežné transfery | D106: 24014 | E106: 0 | F106: a | G106: 026 02 | H106: B | I106: =A106&F106 -> 30842069a | J106: =A106&G106 -> 30842069026 02 | K106: silové športy | L106: =A106&G106&H106 -> 30842069026 02B | M106: =B106&F106&H106&C106 -> Slovenská asociácia fitnes, kulturistiky a silového trojbojaaBsilové športy - bežné transfery | N106: =+I106&H106 -> 30842069aB
A107: 30842069 | B107: =VLOOKUP(A107,Adr!A:B,2,FALSE) -> Slovenská asociácia fitnes, kulturistiky a silového trojboja | C107: Barbier Michal | D107: 20000 | E107: 0 | F107: d | G107: 026 03 | H107: B | I107: =A107&F107 -> 30842069d | J107: =A107&G107 -> 30842069026 03 | L107: =A107&G107&H107 -> 30842069026 03B | M107: =B107&F107&H107&C107 -> Slovenská asociácia fitnes, kulturistiky a silového trojbojadBBarbier Michal | N107: =+I107&H107 -> 30842069dB
A108: 30842069 | B108: =VLOOKUP(A108,Adr!A:B,2,FALSE) -> Slovenská asociácia fitnes, kulturistiky a silového trojboja | C108: Bellák Jakub | D108: 15000 | E108: 0 | F108: d | G108: 026 03 | H108: B | I108: =A108&F108 -> 30842069d | J108: =A108&G108 -> 30842069026 03 | L108: =A108&G108&H108 -> 30842069026 03B | M108: =B108&F108&H108&C108 -> Slovenská asociácia fitnes, kulturistiky a silového trojbojadBBellák Jakub | N108: =+I108&H108 -> 30842069dB
A109: 31749852 | B109: =VLOOKUP(A109,Adr!A:B,2,FALSE) -> Slovenská asociácia Frisbee | C109: športy s lietajúcim diskom - bežné transfery | D109: 69132 | E109: 0 | F109: a | G109: 026 02 | H109: B | I109: =A109&F109 -> 31749852a | J109: =A109&G109 -> 31749852026 02 | K109: športy s lietajúcim diskom | L109: =A109&G109&H109 -> 31749852026 02B | M109: =B109&F109&H109&C109 -> Slovenská asociácia FrisbeeaBšporty s lietajúcim diskom - bežné transfery | N109: =+I109&H109 -> 31749852aB
A110: 30844711 | B110: =VLOOKUP(A110,Adr!A:B,2,FALSE) -> Slovenská asociácia go | C110: go - bežné transfery | D110: 19239 | E110: 0 | F110: a | G110: 026 02 | H110: B | I110: =A110&F110 -> 30844711a | J110: =A110&G110 -> 30844711026 02 | K110: go | L110: =A110&G110&H110 -> 30844711026 02B | M110: =B110&F110&H110&C110 -> Slovenská asociácia goaBgo - bežné transfery | N110: =+I110&H110 -> 30844711aB
A111: 31940668 | B111: =VLOOKUP(A111,Adr!A:B,2,FALSE) -> Slovenská asociácia korfbalu | C111: korfbal - bežné transfery | D111: 29908 | E111: 0 | F111: a | G111: 026 02 | H111: B | I111: =A111&F111 -> 31940668a | J111: =A111&G111 -> 31940668026 02 | K111: korfbal | L111: =A111&G111&H111 -> 31940668026 02B | M111: =B111&F111&H111&C111 -> Slovenská asociácia korfbaluaBkorfbal - bežné transfery | N111: =+I111&H111 -> 31940668aB
A112: 31824021 | B112: =VLOOKUP(A112,Adr!A:B,2,FALSE) -> Slovenská asociácia motoristického športu | C112: automobilový šport - bežné transfery | D112: 389148 | E112: 0 | F112: a | G112: 026 02 | H112: B | I112: =A112&F112 -> 31824021a | J112: =A112&G112 -> 31824021026 02 | K112: automobilový šport | L112: =A112&G112&H112 -> 31824021026 02B | M112: =B112&F112&H112&C112 -> Slovenská asociácia motoristického športuaBautomobilový šport - bežné transfery | N112: =+I112&H112 -> 31824021aB
A113: 31824021 | B113: =VLOOKUP(A113,Adr!A:B,2,FALSE) -> Slovenská asociácia motoristického športu | C113: Homola Matej | D113: 20000 | E113: 0 | F113: d | G113: 026 03 | H113: B | I113: =A113&F113 -> 31824021d | J113: =A113&G113 -> 31824021026 03 | L113: =A113&G113&H113 -> 31824021026 03B | M113: =B113&F113&H113&C113 -> Slovenská asociácia motoristického športudBHomola Matej | N113: =+I113&H113 -> 31824021dB
A114: 31824021 | B114: =VLOOKUP(A114,Adr!A:B,2,FALSE) -> Slovenská asociácia motoristického športu | C114: Gašparovič Jakub | D114: 10000 | E114: 0 | F114: d | G114: 026 03 | H114: B | I114: =A114&F114 -> 31824021d | J114: =A114&G114 -> 31824021026 03 | L114: =A114&G114&H114 -> 31824021026 03B | M114: =B114&F114&H114&C114 -> Slovenská asociácia motoristického športudBGašparovič Jakub | N114: =+I114&H114 -> 31824021dB
A115: 45009660 | B115: =VLOOKUP(A115,Adr!A:B,2,FALSE) -> Slovenská asociácia naturálnej kulturistiky | C115: rozvoj športov, ktoré nie sú uznanými podľa zákona č. 440/2015 Z. z. | D115: 25000 | E115: 0 | F115: g | G115: 026 03 | H115: B | I115: =A115&F115 -> 45009660g | J115: =A115&G115 -> 45009660026 03 | L115: =A115&G115&H115 -> 45009660026 03B | M115: =B115&F115&H115&C115 -> Slovenská asociácia naturálnej kulturistikygBrozvoj športov, ktoré nie sú uznanými podľa zákona č. 440/2015 Z. z. | N115: =+I115&H115 -> 45009660gB
A116: 30811686 | B116: =VLOOKUP(A116,Adr!A:B,2,FALSE) -> Slovenská asociácia pretláčania rukou | C116: pretláčanie rukou - bežné transfery | D116: 39888 | E116: 0 | F116: a | G116: 026 02 | H116: B | I116: =A116&F116 -> 30811686a | J116: =A116&G116 -> 30811686026 02 | K116: pretláčanie rukou | L116: =A116&G116&H116 -> 30811686026 02B | M116: =B116&F116&H116&C116 -> Slovenská asociácia pretláčania rukouaBpretláčanie rukou - bežné transfery | N116: =+I116&H116 -> 30811686aB
A117: 30814910 | B117: =VLOOKUP(A117,Adr!A:B,2,FALSE) -> Slovenská asociácia Taekwondo WT | C117: taekwondo - bežné transfery | D117: 46106 | E117: 0 | F117: a | G117: 026 02 | H117: B | I117: =A117&F117 -> 30814910a | J117: =A117&G117 -> 30814910026 02 | K117: taekwondo | L117: =A117&G117&H117 -> 30814910026 02B | M117: =B117&F117&H117&C117 -> Slovenská asociácia Taekwondo WTaBtaekwondo - bežné transfery | N117: =+I117&H117 -> 30814910aB
A118: 30814910 | B118: =VLOOKUP(A118,Adr!A:B,2,FALSE) -> Slovenská asociácia Taekwondo WT | C118: zabezpečenie a rozvoj športu taekwondo zdravotne postihnutých športovcov | D118: 10340 | E118: 0 | F118: c | G118: 026 03 | H118: B | I118: =A118&F118 -> 30814910c | J118: =A118&G118 -> 30814910026 03 | L118: =A118&G118&H118 -> 30814910026 03B | M118: =B118&F118&H118&C118 -> Slovenská asociácia Taekwondo WTcBzabezpečenie a rozvoj športu taekwondo zdravotne postihnutých športovcov | N118: =+I118&H118 -> 30814910cB
A119: 30814910 | B119: =VLOOKUP(A119,Adr!A:B,2,FALSE) -> Slovenská asociácia Taekwondo WT | C119: Bérešová Adriana | D119: 35000 | E119: 0 | F119: d | G119: 026 03 | H119: B | I119: =A119&F119 -> 30814910d | J119: =A119&G119 -> 30814910026 03 | L119: =A119&G119&H119 -> 30814910026 03B | M119: =B119&F119&H119&C119 -> Slovenská asociácia Taekwondo WTdBBérešová Adriana | N119: =+I119&H119 -> 30814910dB
A120: 30814910 | B120: =VLOOKUP(A120,Adr!A:B,2,FALSE) -> Slovenská asociácia taekwondo WT | C120: športové pohybové tábory pre mládež | D120: 4800 | E120: 0 | F120: l | G120: 026 03 | H120: B | I120: =A120&F120 -> 30814910l | J120: =A120&G120 -> 30814910026 03 | L120: =A120&G120&H120 -> 30814910026 03B | M120: =B120&F120&H120&C120 -> Slovenská asociácia taekwondo WTlBšportové pohybové tábory pre mládež | N120: =+I120&H120 -> 30814910lB
A121: 17316731 | B121: =VLOOKUP(A121,Adr!A:B,2,FALSE) -> Slovenská asociácia univerzitného športu | C121: Aktivity a úlohy v oblasti univerzitného športu v roku 2025 | D121: 588000 | E121: 0 | F121: f | G121: 026 03 | H121: B | I121: =A121&F121 -> 17316731f | J121: =A121&G121 -> 17316731026 03 | L121: =A121&G121&H121 -> 17316731026 03B | M121: =B121&F121&H121&C121 -> Slovenská asociácia univerzitného športufBAktivity a úlohy v oblasti univerzitného športu v roku 2025 | N121: =+I121&H121 -> 17316731fB
A122: 31929931 | B122: =VLOOKUP(A122,Adr!A:B,2,FALSE) -> SLOVENSKÁ ASOCIÁCIA ZLATOKOPOV | C122: rozvoj športov, ktoré nie sú uznanými podľa zákona č. 440/2015 Z. z. | D122: 25000 | E122: 0 | F122: g | G122: 026 03 | H122: B | I122: =A122&F122 -> 31929931g | J122: =A122&G122 -> 31929931026 03 | L122: =A122&G122&H122 -> 31929931026 03B | M122: =B122&F122&H122&C122 -> SLOVENSKÁ ASOCIÁCIA ZLATOKOPOVgBrozvoj športov, ktoré nie sú uznanými podľa zákona č. 440/2015 Z. z. | N122: =+I122&H122 -> 31929931gB
A123: 30841798 | B123: =VLOOKUP(A123,Adr!A:B,2,FALSE) -> Slovenská asociácia zrakovo postihnutých športovcov | C123: zabezpečenie činnosti a úloh v roku 2025 | D123: 174534 | E123: 0 | F123: c | G123: 026 03 | H123: B | I123: =A123&F123 -> 30841798c | J123: =A123&G123 -> 30841798026 03 | L123: =A123&G123&H123 -> 30841798026 03B | M123: =B123&F123&H123&C123 -> Slovenská asociácia zrakovo postihnutých športovcovcBzabezpečenie činnosti a úloh v roku 2025 | N123: =+I123&H123 -> 30841798cB
A124: 30844568 | B124: =VLOOKUP(A124,Adr!A:B,2,FALSE) -> Slovenská baseballová federácia | C124: baseball - bežné transfery | D124: 134297 | E124: 0 | F124: a | G124: 026 02 | H124: B | I124: =A124&F124 -> 30844568a | J124: =A124&G124 -> 30844568026 02 | K124: baseball | L124: =A124&G124&H124 -> 30844568026 02B | M124: =B124&F124&H124&C124 -> Slovenská baseballová federáciaaBbaseball - bežné transfery | N124: =+I124&H124 -> 30844568aB
A125: 17315166 | B125: =VLOOKUP(A125,Adr!A:B,2,FALSE) -> Slovenská basketbalová asociácia | C125: basketbal - bežné transfery | D125: 1013260 | E125: 0 | F125: a | G125: 026 02 | H125: B | I125: =A125&F125 -> 17315166a | J125: =A125&G125 -> 17315166026 02 | K125: basketbal | L125: =A125&G125&H125 -> 17315166026 02B | M125: =B125&F125&H125&C125 -> Slovenská basketbalová asociáciaaBbasketbal - bežné transfery | N125: =+I125&H125 -> 17315166aB
A126: 31744621 | B126: =VLOOKUP(A126,Adr!A:B,2,FALSE) -> Slovenská boxerská federácia | C126: box - bežné transfery | D126: 314012 | E126: 0 | F126: a | G126: 026 02 | H126: B | I126: =A126&F126 -> 31744621a | J126: =A126&G126 -> 31744621026 02 | K126: box | L126: =A126&G126&H126 -> 31744621026 02B | M126: =B126&F126&H126&C126 -> Slovenská boxerská federáciaaBbox - bežné transfery | N126: =+I126&H126 -> 31744621aB
A127: 31744621 | B127: =VLOOKUP(A127,Adr!A:B,2,FALSE) -> Slovenská boxerská federácia | C127: Ďuríková Nicole | D127: 15000 | E127: 0 | F127: d | G127: 026 03 | H127: B | I127: =A127&F127 -> 31744621d | J127: =A127&G127 -> 31744621026 03 | L127: =A127&G127&H127 -> 31744621026 03B | M127: =B127&F127&H127&C127 -> Slovenská boxerská federáciadBĎuríková Nicole | N127: =+I127&H127 -> 31744621dB
A128: 31744621 | B128: =VLOOKUP(A128,Adr!A:B,2,FALSE) -> Slovenská boxerská federácia | C128: Herceg Miroslav | D128: 20000 | E128: 0 | F128: d | G128: 026 03 | H128: B | I128: =A128&F128 -> 31744621d | J128: =A128&G128 -> 31744621026 03 | L128: =A128&G128&H128 -> 31744621026 03B | M128: =B128&F128&H128&C128 -> Slovenská boxerská federáciadBHerceg Miroslav | N128: =+I128&H128 -> 31744621dB
A129: 31744621 | B129: =VLOOKUP(A129,Adr!A:B,2,FALSE) -> Slovenská boxerská federácia | C129: Jedináková Miroslava | D129: 20000 | E129: 0 | F129: d | G129: 026 03 | H129: B | I129: =A129&F129 -> 31744621d | J129: =A129&G129 -> 31744621026 03 | L129: =A129&G129&H129 -> 31744621026 03B | M129: =B129&F129&H129&C129 -> Slovenská boxerská federáciadBJedináková Miroslava | N129: =+I129&H129 -> 31744621dB
A130: 31744621 | B130: =VLOOKUP(A130,Adr!A:B,2,FALSE) -> Slovenská boxerská federácia | C130: Kubalová Tamara | D130: 45000 | E130: 0 | F130: d | G130: 026 03 | H130: B | I130: =A130&F130 -> 31744621d | J130: =A130&G130 -> 31744621026 03 | L130: =A130&G130&H130 -> 31744621026 03B | M130: =B130&F130&H130&C130 -> Slovenská boxerská federáciadBKubalová Tamara | N130: =+I130&H130 -> 31744621dB
A131: 31744621 | B131: =VLOOKUP(A131,Adr!A:B,2,FALSE) -> Slovenská boxerská federácia | C131: Lovašová Bibiana | D131: 15000 | E131: 0 | F131: d | G131: 026 03 | H131: B | I131: =A131&F131 -> 31744621d | J131: =A131&G131 -> 31744621026 03 | L131: =A131&G131&H131 -> 31744621026 03B | M131: =B131&F131&H131&C131 -> Slovenská boxerská federáciadBLovašová Bibiana | N131: =+I131&H131 -> 31744621dB
A132: 31744621 | B132: =VLOOKUP(A132,Adr!A:B,2,FALSE) -> Slovenská boxerská federácia | C132: Triebeľová Jessica | D132: 45000 | E132: 0 | F132: d | G132: 026 03 | H132: B | I132: =A132&F132 -> 31744621d | J132: =A132&G132 -> 31744621026 03 | L132: =A132&G132&H132 -> 31744621026 03B | M132: =B132&F132&H132&C132 -> Slovenská boxerská federáciadBTriebeľová Jessica | N132: =+I132&H132 -> 31744621dB
A133: 31744621 | B133: =VLOOKUP(A133,Adr!A:B,2,FALSE) -> Slovenská boxerská federácia | C133: Vymyslický Lukáš | D133: 10000 | E133: 0 | F133: d | G133: 026 03 | H133: B | I133: =A133&F133 -> 31744621d | J133: =A133&G133 -> 31744621026 03 | L133: =A133&G133&H133 -> 31744621026 03B | M133: =B133&F133&H133&C133 -> Slovenská boxerská federáciadBVymyslický Lukáš | N133: =+I133&H133 -> 31744621dB
A134: 31744621 | B134: =VLOOKUP(A134,Adr!A:B,2,FALSE) -> Slovenská boxerská federácia | C134: plnenie úloh verejného záujmu v športe | D134: 20000 | E134: 0 | F134: f | G134: 026 03 | H134: B | I134: =A134&F134 -> 31744621f | J134: =A134&G134 -> 31744621026 03 | L134: =A134&G134&H134 -> 31744621026 03B | M134: =B134&F134&H134&C134 -> Slovenská boxerská federáciafBplnenie úloh verejného záujmu v športe | N134: =+I134&H134 -> 31744621fB
A135: 34056939 | B135: =VLOOKUP(A135,Adr!A:B,2,FALSE) -> SLOVENSKÁ CYKLOTRIALOVÁ ÚNIA | C135: podpora a rozvoj športu | D135: 36500 | E135: 0 | F135: f | G135: 026 03 | H135: B | I135: =A135&F135 -> 34056939f | J135: =A135&G135 -> 34056939026 03 | L135: =A135&G135&H135 -> 34056939026 03B | M135: =B135&F135&H135&C135 -> SLOVENSKÁ CYKLOTRIALOVÁ ÚNIAfBpodpora a rozvoj športu | N135: =+I135&H135 -> 34056939fB
A136: 37824465 | B136: =VLOOKUP(A136,Adr!A:B,2,FALSE) -> Slovenská Escrima Wing Tsun Organizácia (SEWTO) | C136: rozvoj športov, ktoré nie sú uznanými podľa zákona č. 440/2015 Z. z. | D136: 19200 | E136: 0 | F136: g | G136: 026 03 | H136: B | I136: =A136&F136 -> 37824465g | J136: =A136&G136 -> 37824465026 03 | L136: =A136&G136&H136 -> 37824465026 03B | M136: =B136&F136&H136&C136 -> Slovenská Escrima Wing Tsun Organizácia (SEWTO)gBrozvoj športov, ktoré nie sú uznanými podľa zákona č. 440/2015 Z. z. | N136: =+I136&H136 -> 37824465gB
A137: 37824465 | B137: =VLOOKUP(A137,Adr!A:B,2,FALSE) -> Slovenská Escrima Wing Tsun Organizácia (SEWTO) | C137: športové pohybové tábory pre mládež | D137: 4324 | E137: 0 | F137: l | G137: 026 03 | H137: B | I137: =A137&F137 -> 37824465l | J137: =A137&G137 -> 37824465026 03 | L137: =A137&G137&H137 -> 37824465026 03B | M137: =B137&F137&H137&C137 -> Slovenská Escrima Wing Tsun Organizácia (SEWTO)lBšportové pohybové tábory pre mládež | N137: =+I137&H137 -> 37824465lB
A138: 34003975 | B138: =VLOOKUP(A138,Adr!A:B,2,FALSE) -> Slovenská federácia karate a bojových umení | C138: rozvoj športov, ktoré nie sú uznanými podľa zákona č. 440/2015 Z. z. | D138: 138000 | E138: 0 | F138: g | G138: 026 03 | H138: B | I138: =A138&F138 -> 34003975g | J138: =A138&G138 -> 34003975026 03 | L138: =A138&G138&H138 -> 34003975026 03B | M138: =B138&F138&H138&C138 -> Slovenská federácia karate a bojových umenígBrozvoj športov, ktoré nie sú uznanými podľa zákona č. 440/2015 Z. z. | N138: =+I138&H138 -> 34003975gB
... A140: 34003975 | B140: =VLOOKUP(A140,Adr!A:B,2,FALSE) -> Slovenská federácia karate a bojových umení | C140: XXVIII. Slovakia open- WUKF European Cup 2025 | D140: 7000 | E140: 0 | F140: m | G140: 026 03 | H140: B | I140: =A140&F140 -> 34003975m | J140: =A140&G140 -> 34003975026 03 | L140: =A140&G140&H140 -> 34003975026 03B | M140: =B140&F140&H140&C140 -> Slovenská federácia karate a bojových umenímBXXVIII. Slovakia open- WUKF European Cup 2025 | N140: =+I140&H140 -> 34003975mB
A141: 36064742 | B141: =VLOOKUP(A141,Adr!A:B,2,FALSE) -> Slovenská federácia pétanque | C141: pétanque - bežné transfery | D141: 19239 | E141: 0 | F141: a | G141: 026 02 | H141: B | I141: =A141&F141 -> 36064742a | J141: =A141&G141 -> 36064742026 02 | K141: pétanque | L141: =A141&G141&H141 -> 36064742026 02B | M141: =B141&F141&H141&C141 -> Slovenská federácia pétanqueaBpétanque - bežné transfery | N141: =+I141&H141 -> 36064742aB
A142: 42361885 | B142: =VLOOKUP(A142,Adr!A:B,2,FALSE) -> Slovenská footgolfová asociácia | C142: rozvoj športov, ktoré nie sú uznanými podľa zákona č. 440/2015 Z. z. | D142: 84600 | E142: 0 | F142: g | G142: 026 03 | H142: B | I142: =A142&F142 -> 42361885g | J142: =A142&G142 -> 42361885026 03 | L142: =A142&G142&H142 -> 42361885026 03B | M142: =B142&F142&H142&C142 -> Slovenská footgolfová asociáciagBrozvoj športov, ktoré nie sú uznanými podľa zákona č. 440/2015 Z. z. | N142: =+I142&H142 -> 42361885gB
A143: 50284363 | B143: =VLOOKUP(A143,Adr!A:B,2,FALSE) -> Slovenská golfová asociácia | C143: golf - bežné transfery | D143: 274059 | E143: 0 | F143: a | G143: 026 02 | H143: B | I143: =A143&F143 -> 50284363a | J143: =A143&G143 -> 50284363026 02 | K143: golf | L143: =A143&G143&H143 -> 50284363026 02B | M143: =B143&F143&H143&C143 -> Slovenská golfová asociáciaaBgolf - bežné transfery | N143: =+I143&H143 -> 50284363aB
A144: 50284363 | B144: =VLOOKUP(A144,Adr!A:B,2,FALSE) -> Slovenská golfová asociácia | C144: zabezpečenie a rozvoj športu golf zdravotne postihnutých športovcov | D144: 5155 | E144: 0 | F144: c | G144: 026 03 | H144: B | I144: =A144&F144 -> 50284363c | J144: =A144&G144 -> 50284363026 03 | L144: =A144&G144&H144 -> 50284363026 03B | M144: =B144&F144&H144&C144 -> Slovenská golfová asociáciacBzabezpečenie a rozvoj športu golf zdravotne postihnutých športovcov | N144: =+I144&H144 -> 50284363cB
A145: 50284363 | B145: =VLOOKUP(A145,Adr!A:B,2,FALSE) -> Slovenská golfová asociácia | C145: Teták Tadeáš | D145: 20000 | E145: 0 | F145: d | G145: 026 03 | H145: B | I145: =A145&F145 -> 50284363d | J145: =A145&G145 -> 50284363026 03 | L145: =A145&G145&H145 -> 50284363026 03B | M145: =B145&F145&H145&C145 -> Slovenská golfová asociáciadBTeták Tadeáš | N145: =+I145&H145 -> 50284363dB
A146: 50284363 | B146: =VLOOKUP(A146,Adr!A:B,2,FALSE) -> Slovenská golfová asociácia | C146: SLOVAK AMATEUR CHAMPIONSHIP | D146: 2600 | E146: 0 | F146: m | G146: 026 03 | H146: B | I146: =A146&F146 -> 50284363m | J146: =A146&G146 -> 50284363026 03 | L146: =A146&G146&H146 -> 50284363026 03B | M146: =B146&F146&H146&C146 -> Slovenská golfová asociáciamBSLOVAK AMATEUR CHAMPIONSHIP | N146: =+I146&H146 -> 50284363mB
A147: 00688321 | B147: =VLOOKUP(A147,Adr!A:B,2,FALSE) -> Slovenská gymnastická federácia | C147: gymnastika - bežné transfery | D147: 668145 | E147: 0 | F147: a | G147: 026 02 | H147: B | I147: =A147&F147 -> 00688321a | J147: =A147&G147 -> 00688321026 02 | K147: gymnastika | L147: =A147&G147&H147 -> 00688321026 02B | M147: =B147&F147&H147&C147 -> Slovenská gymnastická federáciaaBgymnastika - bežné transfery | N147: =+I147&H147 -> 00688321aB
A148: 00688321 | B148: =VLOOKUP(A148,Adr!A:B,2,FALSE) -> Slovenská gymnastická federácia | C148: Piliarová Lucia | D148: 10000 | E148: 0 | F148: d | G148: 026 03 | H148: B | I148: =A148&F148 -> 00688321d | J148: =A148&G148 -> 00688321026 03 | L148: =A148&G148&H148 -> 00688321026 03B | M148: =B148&F148&H148&C148 -> Slovenská gymnastická federáciadBPiliarová Lucia | N148: =+I148&H148 -> 00688321dB
A149: 00688321 | B149: =VLOOKUP(A149,Adr!A:B,2,FALSE) -> Slovenská gymnastická federácia | C149: Slovak Aerobik Open | D149: 7000 | E149: 0 | F149: m | G149: 026 03 | H149: B | I149: =A149&F149 -> 00688321m | J149: =A149&G149 -> 00688321026 03 | L149: =A149&G149&H149 -> 00688321026 03B | M149: =B149&F149&H149&C149 -> Slovenská gymnastická federáciamBSlovak Aerobik Open | N149: =+I149&H149 -> 00688321mB
A150: 00603091 | B150: =VLOOKUP(A150,Adr!A:B,2,FALSE) -> Slovenská hokejbalová únia | C150: podpora a rozvoj športu | D150: 35500 | E150: 0 | F150: f | G150: 026 03 | H150: B | I150: =A150&F150 -> 00603091f | J150: =A150&G150 -> 00603091026 03 | L150: =A150&G150&H150 -> 00603091026 03B | M150: =B150&F150&H150&C150 -> Slovenská hokejbalová úniafBpodpora a rozvoj športu | N150: =+I150&H150 -> 00603091fB
A151: 00603091 | B151: =VLOOKUP(A151,Adr!A:B,2,FALSE) -> Slovenská hokejbalová únia | C151: rozvoj športov, ktoré nie sú uznanými podľa zákona č. 440/2015 Z. z. | D151: 214300 | E151: 0 | F151: g | G151: 026 03 | H151: B | I151: =A151&F151 -> 00603091g | J151: =A151&G151 -> 00603091026 03 | L151: =A151&G151&H151 -> 00603091026 03B | M151: =B151&F151&H151&C151 -> Slovenská hokejbalová úniagBrozvoj športov, ktoré nie sú uznanými podľa zákona č. 440/2015 Z. z. | N151: =+I151&H151 -> 00603091gB
A152: 00603091 | B152: =VLOOKUP(A152,Adr!A:B,2,FALSE) -> Slovenská hokejbalová únia | C152: Országh cup 2025 | D152: 7000 | E152: 0 | F152: m | G152: 026 03 | H152: B | I152: =A152&F152 -> 00603091m | J152: =A152&G152 -> 00603091026 03 | L152: =A152&G152&H152 -> 00603091026 03B | M152: =B152&F152&H152&C152 -> Slovenská hokejbalová úniamBOrszágh cup 2025 | N152: =+I152&H152 -> 00603091mB
A153: 54041368 | B153: =VLOOKUP(A153,Adr!A:B,2,FALSE) -> SLOVENSKÁ CHEERLEADING ÚNIA | C153: cheerleading - bežné transfery | D153: 19239 | E153: 0 | F153: a | G153: 026 02 | H153: B | I153: =A153&F153 -> 54041368a | J153: =A153&G153 -> 54041368026 02 | K153: cheerleading | L153: =A153&G153&H153 -> 54041368026 02B | M153: =B153&F153&H153&C153 -> SLOVENSKÁ CHEERLEADING ÚNIAaBcheerleading - bežné transfery | N153: =+I153&H153 -> 54041368aB
A154: 31787801 | B154: =VLOOKUP(A154,Adr!A:B,2,FALSE) -> SLOVENSKÁ JAZDECKÁ FEDERÁCIA | C154: jazdectvo - bežné transfery | D154: 120904 | E154: 0 | F154: a | G154: 026 02 | H154: B | I154: =A154&F154 -> 31787801a | J154: =A154&G154 -> 31787801026 02 | K154: jazdectvo | L154: =A154&G154&H154 -> 31787801026 02B | M154: =B154&F154&H154&C154 -> SLOVENSKÁ JAZDECKÁ FEDERÁCIAaBjazdectvo - bežné transfery | N154: =+I154&H154 -> 31787801aB
A155: 50434101 | B155: =VLOOKUP(A155,Adr!A:B,2,FALSE) -> Slovenská kanoistika | C155: kanoistika - bežné transfery | D155: 1181281 | E155: 0 | F155: a | G155: 026 02 | H155: B | I155: =A155&F155 -> 50434101a | J155: =A155&G155 -> 50434101026 02 | K155: kanoistika | L155: =A155&G155&H155 -> 50434101026 02B | M155: =B155&F155&H155&C155 -> Slovenská kanoistikaaBkanoistika - bežné transfery | N155: =+I155&H155 -> 50434101aB
A156: 50434101 | B156: =VLOOKUP(A156,Adr!A:B,2,FALSE) -> Slovenská kanoistika | C156: Abrahámová Karolína | D156: 10000 | E156: 0 | F156: d | G156: 026 03 | H156: B | I156: =A156&F156 -> 50434101d | J156: =A156&G156 -> 50434101026 03 | L156: =A156&G156&H156 -> 50434101026 03B | M156: =B156&F156&H156&C156 -> Slovenská kanoistikadBAbrahámová Karolína | N156: =+I156&H156 -> 50434101dB
A157: 50434101 | B157: =VLOOKUP(A157,Adr!A:B,2,FALSE) -> Slovenská kanoistika | C157: Bábik Martin | D157: 9300 | E157: 0 | F157: d | G157: 026 03 | H157: B | I157: =A157&F157 -> 50434101d | J157: =A157&G157 -> 50434101026 03 | L157: =A157&G157&H157 -> 50434101026 03B | M157: =B157&F157&H157&C157 -> Slovenská kanoistikadBBábik Martin | N157: =+I157&H157 -> 50434101dB
A158: 50434101 | B158: =VLOOKUP(A158,Adr!A:B,2,FALSE) -> Slovenská kanoistika | C158: Baláž Samuel | D158: 15600 | E158: 0 | F158: d | G158: 026 03 | H158: B | I158: =A158&F158 -> 50434101d | J158: =A158&G158 -> 50434101026 03 | L158: =A158&G158&H158 -> 50434101026 03B | M158: =B158&F158&H158&C158 -> Slovenská kanoistikadBBaláž Samuel | N158: =+I158&H158 -> 50434101dB
A159: 50434101 | B159: =VLOOKUP(A159,Adr!A:B,2,FALSE) -> Slovenská kanoistika | C159: Beňuš Matej | D159: 80000 | E159: 0 | F159: d | G159: 026 03 | H159: B | I159: =A159&F159 -> 50434101d | J159: =A159&G159 -> 50434101026 03 | L159: =A159&G159&H159 -> 50434101026 03B | M159: =B159&F159&H159&C159 -> Slovenská kanoistikadBBeňuš Matej | N159: =+I159&H159 -> 50434101dB
A160: 50434101 | B160: =VLOOKUP(A160,Adr!A:B,2,FALSE) -> Slovenská kanoistika | C160: Bergendi Sofia | D160: 9300 | E160: 0 | F160: d | G160: 026 03 | H160: B | I160: =A160&F160 -> 50434101d | J160: =A160&G160 -> 50434101026 03 | L160: =A160&G160&H160 -> 50434101026 03B | M160: =B160&F160&H160&C160 -> Slovenská kanoistikadBBergendi Sofia | N160: =+I160&H160 -> 50434101dB
A161: 50434101 | B161: =VLOOKUP(A161,Adr!A:B,2,FALSE) -> Slovenská kanoistika | C161: Botek Adam | D161: 15600 | E161: 0 | F161: d | G161: 026 03 | H161: B | I161: =A161&F161 -> 50434101d | J161: =A161&G161 -> 50434101026 03 | L161: =A161&G161&H161 -> 50434101026 03B | M161: =B161&F161&H161&C161 -> Slovenská kanoistikadBBotek Adam | N161: =+I161&H161 -> 50434101dB
A162: 50434101 | B162: =VLOOKUP(A162,Adr!A:B,2,FALSE) -> Slovenská kanoistika | C162: Bugár Reka | D162: 15000 | E162: 0 | F162: d | G162: 026 03 | H162: B | I162: =A162&F162 -> 50434101d | J162: =A162&G162 -> 50434101026 03 | L162: =A162&G162&H162 -> 50434101026 03B | M162: =B162&F162&H162&C162 -> Slovenská kanoistikadBBugár Reka | N162: =+I162&H162 -> 50434101dB
A163: 50434101 | B163: =VLOOKUP(A163,Adr!A:B,2,FALSE) -> Slovenská kanoistika | C163: Čulenová Dagmar | D163: 9300 | E163: 0 | F163: d | G163: 026 03 | H163: B | I163: =A163&F163 -> 50434101d | J163: =A163&G163 -> 50434101026 03 | L163: =A163&G163&H163 -> 50434101026 03B | M163: =B163&F163&H163&C163 -> Slovenská kanoistikadBČulenová Dagmar | N163: =+I163&H163 -> 50434101dB
A164: 50434101 | B164: =VLOOKUP(A164,Adr!A:B,2,FALSE) -> Slovenská kanoistika | C164: Doktorík Dominik | D164: 7500 | E164: 0 | F164: d | G164: 026 03 | H164: B | I164: =A164&F164 -> 50434101d | J164: =A164&G164 -> 50434101026 03 | L164: =A164&G164&H164 -> 50434101026 03B | M164: =B164&F164&H164&C164 -> Slovenská kanoistikadBDoktorík Dominik | N164: =+I164&H164 -> 50434101dB
A165: 50434101 | B165: =VLOOKUP(A165,Adr!A:B,2,FALSE) -> Slovenská kanoistika | C165: Dorner Milan | D165: 15000 | E165: 0 | F165: d | G165: 026 03 | H165: B | I165: =A165&F165 -> 50434101d | J165: =A165&G165 -> 50434101026 03 | L165: =A165&G165&H165 -> 50434101026 03B | M165: =B165&F165&H165&C165 -> Slovenská kanoistikadBDorner Milan | N165: =+I165&H165 -> 50434101dB
A166: 50434101 | B166: =VLOOKUP(A166,Adr!A:B,2,FALSE) -> Slovenská kanoistika | C166: Duda Filip | D166: 20000 | E166: 0 | F166: d | G166: 026 03 | H166: B | I166: =A166&F166 -> 50434101d | J166: =A166&G166 -> 50434101026 03 | L166: =A166&G166&H166 -> 50434101026 03B | M166: =B166&F166&H166&C166 -> Slovenská kanoistikadBDuda Filip | N166: =+I166&H166 -> 50434101dB
A167: 50434101 | B167: =VLOOKUP(A167,Adr!A:B,2,FALSE) -> Slovenská kanoistika | C167: Egyházy Dominik | D167: 10000 | E167: 0 | F167: d | G167: 026 03 | H167: B | I167: =A167&F167 -> 50434101d | J167: =A167&G167 -> 50434101026 03 | L167: =A167&G167&H167 -> 50434101026 03B | M167: =B167&F167&H167&C167 -> Slovenská kanoistikadBEgyházy Dominik | N167: =+I167&H167 -> 50434101dB
... A195: 50434101 | B195: =VLOOKUP(A195,Adr!A:B,2,FALSE) -> Slovenská kanoistika | C195: Zemánková Hana | D195: 9300 | E195: 0 | F195: d | G195: 026 03 | H195: B | I195: =A195&F195 -> 50434101d | J195: =A195&G195 -> 50434101026 03 | L195: =A195&G195&H195 -> 50434101026 03B | M195: =B195&F195&H195&C195 -> Slovenská kanoistikadBZemánková Hana | N195: =+I195&H195 -> 50434101dB
A196: 30853427 | B196: =VLOOKUP(A196,Adr!A:B,2,FALSE) -> Slovenská Lakrosová Federácia | C196: lakros - bežné transfery | D196: 19239 | E196: 0 | F196: a | G196: 026 02 | H196: B | I196: =A196&F196 -> 30853427a | J196: =A196&G196 -> 30853427026 02 | K196: lakros | L196: =A196&G196&H196 -> 30853427026 02B | M196: =B196&F196&H196&C196 -> Slovenská Lakrosová FederáciaaBlakros - bežné transfery | N196: =+I196&H196 -> 30853427aB
A197: 36075809 | B197: =VLOOKUP(A197,Adr!A:B,2,FALSE) -> Slovenská lukostrelecká asociácia 3D | C197: rozvoj športov, ktoré nie sú uznanými podľa zákona č. 440/2015 Z. z. | D197: 45800 | E197: 0 | F197: g | G197: 026 03 | H197: B | I197: =A197&F197 -> 36075809g | J197: =A197&G197 -> 36075809026 03 | L197: =A197&G197&H197 -> 36075809026 03B | M197: =B197&F197&H197&C197 -> Slovenská lukostrelecká asociácia 3DgBrozvoj športov, ktoré nie sú uznanými podľa zákona č. 440/2015 Z. z. | N197: =+I197&H197 -> 36075809gB
A198: 30813883 | B198: =VLOOKUP(A198,Adr!A:B,2,FALSE) -> Slovenská motocyklová federácia | C198: motocyklový šport - bežné transfery | D198: 88269 | E198: 0 | F198: a | G198: 026 02 | H198: B | I198: =A198&F198 -> 30813883a | J198: =A198&G198 -> 30813883026 02 | K198: motocyklový šport | L198: =A198&G198&H198 -> 30813883026 02B | M198: =B198&F198&H198&C198 -> Slovenská motocyklová federáciaaBmotocyklový šport - bežné transfery | N198: =+I198&H198 -> 30813883aB
A199: 30813883 | B199: =VLOOKUP(A199,Adr!A:B,2,FALSE) -> Slovenská motocyklová federácia | C199: Svitko Štefan | D199: 20000 | E199: 0 | F199: d | G199: 026 03 | H199: B | I199: =A199&F199 -> 30813883d | J199: =A199&G199 -> 30813883026 03 | L199: =A199&G199&H199 -> 30813883026 03B | M199: =B199&F199&H199&C199 -> Slovenská motocyklová federáciadBSvitko Štefan | N199: =+I199&H199 -> 30813883dB
A200: 30813883 | B200: =VLOOKUP(A200,Adr!A:B,2,FALSE) -> Slovenská motocyklová federácia | C200: Vaculík Martin | D200: 35000 | E200: 0 | F200: d | G200: 026 03 | H200: B | I200: =A200&F200 -> 30813883d | J200: =A200&G200 -> 30813883026 03 | L200: =A200&G200&H200 -> 30813883026 03B | M200: =B200&F200&H200&C200 -> Slovenská motocyklová federáciadBVaculík Martin | N200: =+I200&H200 -> 30813883dB
A201: 34057587 | B201: =VLOOKUP(A201,Adr!A:B,2,FALSE) -> Slovenská Muaythai asociácia | C201: thajský box - bežné transfery | D201: 19609 | E201: 0 | F201: a | G201: 026 02 | H201: B | I201: =A201&F201 -> 34057587a | J201: =A201&G201 -> 34057587026 02 | K201: thajský box | L201: =A201&G201&H201 -> 34057587026 02B | M201: =B201&F201&H201&C201 -> Slovenská Muaythai asociáciaaBthajský box - bežné transfery | N201: =+I201&H201 -> 34057587aB
A202: 34057587 | B202: =VLOOKUP(A202,Adr!A:B,2,FALSE) -> Slovenská Muaythai asociácia | C202: Chochlíková Monika | D202: 20000 | E202: 0 | F202: d | G202: 026 03 | H202: B | I202: =A202&F202 -> 34057587d | J202: =A202&G202 -> 34057587026 03 | L202: =A202&G202&H202 -> 34057587026 03B | M202: =B202&F202&H202&C202 -> Slovenská Muaythai asociáciadBChochlíková Monika | N202: =+I202&H202 -> 34057587dB
A203: 30806887 | B203: =VLOOKUP(A203,Adr!A:B,2,FALSE) -> Slovenská nohejbalová asociácia | C203: rozvoj športov, ktoré nie sú uznanými podľa zákona č. 440/2015 Z. z. | D203: 46100 | E203: 0 | F203: g | G203: 026 03 | H203: B | I203: =A203&F203 -> 30806887g | J203: =A203&G203 -> 30806887026 03 | L203: =A203&G203&H203 -> 30806887026 03B | M203: =B203&F203&H203&C203 -> Slovenská nohejbalová asociáciagBrozvoj športov, ktoré nie sú uznanými podľa zákona č. 440/2015 Z. z. | N203: =+I203&H203 -> 30806887gB
A204: 51852179 | B204: =VLOOKUP(A204,Adr!A:B,2,FALSE) -> SLOVENSKÁ PADELOVÁ ASOCIÁCIA | C204: podpora a rozvoj športu | D204: 15000 | E204: 0 | F204: f | G204: 026 03 | H204: B | I204: =A204&F204 -> 51852179f | J204: =A204&G204 -> 51852179026 03 | L204: =A204&G204&H204 -> 51852179026 03B | M204: =B204&F204&H204&C204 -> SLOVENSKÁ PADELOVÁ ASOCIÁCIAfBpodpora a rozvoj športu | N204: =+I204&H204 -> 51852179fB
A205: 36068764 | B205: =VLOOKUP(A205,Adr!A:B,2,FALSE) -> Slovenská plavecká federácia | C205: plavecké športy - bežné transfery | D205: 1740292 | E205: 0 | F205: a | G205: 026 02 | H205: B | I205: =A205&F205 -> 36068764a | J205: =A205&G205 -> 36068764026 02 | K205: plavecké športy | L205: =A205&G205&H205 -> 36068764026 02B | M205: =B205&F205&H205&C205 -> Slovenská plavecká federáciaaBplavecké športy - bežné transfery | N205: =+I205&H205 -> 36068764aB
A206: 36068764 | B206: =VLOOKUP(A206,Adr!A:B,2,FALSE) -> Slovenská plavecká federácia | C206: Bernathova Michaela | D206: 7500 | E206: 0 | F206: d | G206: 026 03 | H206: B | I206: =A206&F206 -> 36068764d | J206: =A206&G206 -> 36068764026 03 | L206: =A206&G206&H206 -> 36068764026 03B | M206: =B206&F206&H206&C206 -> Slovenská plavecká federáciadBBernathova Michaela | N206: =+I206&H206 -> 36068764dB
A207: 36068764 | B207: =VLOOKUP(A207,Adr!A:B,2,FALSE) -> Slovenská plavecká federácia | C207: Duša Matej | D207: 20000 | E207: 0 | F207: d | G207: 026 03 | H207: B | I207: =A207&F207 -> 36068764d | J207: =A207&G207 -> 36068764026 03 | L207: =A207&G207&H207 -> 36068764026 03B | M207: =B207&F207&H207&C207 -> Slovenská plavecká federáciadBDuša Matej | N207: =+I207&H207 -> 36068764dB
A208: 36068764 | B208: =VLOOKUP(A208,Adr!A:B,2,FALSE) -> Slovenská plavecká federácia | C208: Hrnčárová Alexandra | D208: 10000 | E208: 0 | F208: d | G208: 026 03 | H208: B | I208: =A208&F208 -> 36068764d | J208: =A208&G208 -> 36068764026 03 | L208: =A208&G208&H208 -> 36068764026 03B | M208: =B208&F208&H208&C208 -> Slovenská plavecká federáciadBHrnčárová Alexandra | N208: =+I208&H208 -> 36068764dB
A209: 36068764 | B209: =VLOOKUP(A209,Adr!A:B,2,FALSE) -> Slovenská plavecká federácia | C209: Krajčovičová Lea | D209: 7500 | E209: 0 | F209: d | G209: 026 03 | H209: B | I209: =A209&F209 -> 36068764d | J209: =A209&G209 -> 36068764026 03 | L209: =A209&G209&H209 -> 36068764026 03B | M209: =B209&F209&H209&C209 -> Slovenská plavecká federáciadBKrajčovičová Lea | N209: =+I209&H209 -> 36068764dB
A210: 36068764 | B210: =VLOOKUP(A210,Adr!A:B,2,FALSE) -> Slovenská plavecká federácia | C210: Košťál Samuel | D210: 15000 | E210: 0 | F210: d | G210: 026 03 | H210: B | I210: =A210&F210 -> 36068764d | J210: =A210&G210 -> 36068764026 03 | L210: =A210&G210&H210 -> 36068764026 03B | M210: =B210&F210&H210&C210 -> Slovenská plavecká federáciadBKošťál Samuel | N210: =+I210&H210 -> 36068764dB
A211: 36068764 | B211: =VLOOKUP(A211,Adr!A:B,2,FALSE) -> Slovenská plavecká federácia | C211: Nagy Richard | D211: 20000 | E211: 0 | F211: d | G211: 026 03 | H211: B | I211: =A211&F211 -> 36068764d | J211: =A211&G211 -> 36068764026 03 | L211: =A211&G211&H211 -> 36068764026 03B | M211: =B211&F211&H211&C211 -> Slovenská plavecká federáciadBNagy Richard | N211: =+I211&H211 -> 36068764dB
A212: 36068764 | B212: =VLOOKUP(A212,Adr!A:B,2,FALSE) -> Slovenská plavecká federácia | C212: Podmaníková Andrea | D212: 20000 | E212: 0 | F212: d | G212: 026 03 | H212: B | I212: =A212&F212 -> 36068764d | J212: =A212&G212 -> 36068764026 03 | L212: =A212&G212&H212 -> 36068764026 03B | M212: =B212&F212&H212&C212 -> Slovenská plavecká federáciadBPodmaníková Andrea | N212: =+I212&H212 -> 36068764dB
A213: 36068764 | B213: =VLOOKUP(A213,Adr!A:B,2,FALSE) -> Slovenská plavecká federácia | C213: Potocká Tamara | D213: 20000 | E213: 0 | F213: d | G213: 026 03 | H213: B | I213: =A213&F213 -> 36068764d | J213: =A213&G213 -> 36068764026 03 | L213: =A213&G213&H213 -> 36068764026 03B | M213: =B213&F213&H213&C213 -> Slovenská plavecká federáciadBPotocká Tamara | N213: =+I213&H213 -> 36068764dB
...

Sheet Cis
A1: Šport | C1: Účel | D1: Účel rozšírený | E1: Režim | F1: PPG | G1: Transfer | I1: PPG | J1: PPG názov
A2: aikido | C2: a | D2: šport 23 | E2: 1 | F2: 026 02 | G2: Príspevok uznanému športu | I2: 026 01 | J2: Šport pre všetkých, školský a univerzitný šport
A3: americký futbal | C3: b | D3: talenty | E3: 1 | F3: 026 02 | G3: Príspevok uznanému športu | I3: 026 02 | J3: Uznané športy
A4: atletika | C4: c | D4: reprezentácia | E4: 1 | F4: 026 02 | G4: Príspevok uznanému športu | I4: 026 03 | J4: Národné športové projekty
A5: automobilový šport | C5: d | D5: administratíva | E5: 1 | F5: 026 02 | G5: Príspevok uznanému športu | I5: 026 04 | J5: Športová infraštruktúra
A6: bandy hokej | C6: e | D6: ostatné | E6: 1 | F6: 026 02 | G6: Príspevok uznanému športu | I6: 026 05 | J6: Prierezové činnosti
A7: basebal | C7: f | D7: športovci | E7: 2 | F7: 026 03 | G7: Príspevok šporovcom top tímu
A8: basketbal | C8: g | D8: SOV | E8: 3 | F8: 026 03 | G8: Príspevok Slovenskému olympijskému výboru
A9: baskická pelota | C9: h | D9: SPV | E9: 3 | F9: 026 03 | G9: Príspevok slovenskému paralympijskému výboru
A10: bedminton | C10: i | D10: účasť a mládež | E10: 4 | F10: 026 03 | G10: Dotácia
A11: biatlon | C11: j | D11: multi a ŠPV | E11: 4 | F11: 026 01 | G11: Dotácia
A12: biliard | C12: k | D12: trasy | E12: 4 | F12: 026 01 | G12: Dotácia
A13: boby a skeleton | C13: l | D13: kampaň | E13: 4 | F13: 026 05 | G13: Dotácia
A14: boccia | C14: m | D14: odmeny | E14: 4 | F14: 026 03 | G14: Dotácia
A15: boule lyonnaise | C15: n
A16: bowling | C16: o
A17: box | C17: p
A18: bridž | C18: q
A19: curling | C19: r
A20: cyklistika | C20: s
A21: dáma | C21: t
A22: dračie lode | C22: u
A23: dráhový golf | C23: v
A24: fistbal | C24: w
A25: florbal | C25: x
A26: futbal | C26: y
A27: go | C27: z
A28: golf
A29: gymnastika
A30: hádzaná
A31: horolezectvo
A32: jachting
A33: jazdectvo
A34: judo
A35: ju-jitsu
A36: kanoistika
A37: karate
A38: kendo
A39: kickbox
... A98: zápasenie

Sheet Avízo - výnosy
A1: =Spolu!C3&", "&Spolu!C6 -> Slovenský bridžový zväz, Pluhová 1662, Rovinka, 900 41 | N1: =O1&" - "&P1 -> a - príspevok uznaným športom | O1: a | P1: príspevok uznaným športom
N2: =O2&" - "&P2 -> b - príspevok Slovenskému olympijskému a športovému výboru | O2: b | P2: príspevok Slovenskému olympijskému a športovému výboru
E3: 1. VYPLŇTE ZELENÉ BUNKY 2. VYTLAČTE, PODPÍŠTE A ODOŠLITE V LISTINNEJ PODOBE | N3: =O3&" - "&P3 -> c - príspevok Slovenskému paralympijskému výboru | O3: c | P3: príspevok Slovenskému paralympijskému výboru
N4: =O4&" - "&P4 -> d - príspevok športovcom top tímu | O4: d | P4: príspevok športovcom top tímu
C5: Ministerstvo cestovného ruchu a športu Slovenskej republiky | N5: =O5&" - "&P5 -> e - rozvoj športov, ktoré nie sú uznanými podľa zákona č. 440/2015 Z. z. | O5: e | P5: rozvoj športov, ktoré nie sú uznanými podľa zákona č. 440/2015 Z. z.
C6: sekcia financovania športu a štátnej športovej politiky | E6: Dátum poukázania vrátených prostriedkov: | N6: =O6&" - "&P6 -> f - organizovanie významných a tradičných športových podujatí na území SR v roku 2020 | O6: f | P6: organizovanie významných a tradičných športových podujatí na území SR v roku 2020
C7: Pribinova 32 | E7: Suma vrátených prostriedkov (eur): | N7: =O7&" - "&P7 -> g - projekty školského, univerzitného športu a športu pre všetkých | O7: g | P7: projekty školského, univerzitného športu a športu pre všetkých
C8: 810 08 Bratislava | E8: IBAN odosielajúceho účtu: | N8: =O8&" - "&P8 -> h - podpora a rozvoj turistických a cykloturistických trás | O8: h | P8: podpora a rozvoj turistických a cykloturistických trás
E9: Dátum odoslania AVÍZA: | N9: =O9&" - "&P9 -> i - finančné odmeny športovcom za výsledky dosiahnuté v roku 2019 a trénerom mládeže za dosiahnuté výsledky ich športovcov v roku 2019 a za celoživotnú prácu s mládežou | O9: i | P9: finančné odmeny športovcom za výsledky dosiahnuté v roku 2019 a trénerom mládeže za dosiahnuté výsledky ich športovcov v roku 2019 a za celoživotnú prácu s mládežou
N10: =O10&" - "&P10 -> j - projekty pre popularizáciu pohybových aktivít detí, mládeže a seniorov | O10: j | P10: projekty pre popularizáciu pohybových aktivít detí, mládeže a seniorov
N11: =O11&" - "&P11 -> k - výstavba, modernizácia a rekonštrukcia športovej infraštruktúry národného významu | O11: k | P11: výstavba, modernizácia a rekonštrukcia športovej infraštruktúry národného významu
A12: Avízo o úhrade výnosov | N12: =O12&" - "&P12 -> l - podpora zdravotne postihnutých športovcov | O12: l | P12: podpora zdravotne postihnutých športovcov
N13: =O13&" - "&P13 -> m - plnenie úloh verejného záujmu v športe národnými športovými organizáciami | O13: m | P13: plnenie úloh verejného záujmu v športe národnými športovými organizáciami
A14: ="Oznamujeme Vám, že dňa "&TEXT(F6,"dd..mm.yyyy")&" sme poukázali Ministerstvu cestovného ruchu a športu Slovenskej republiky výnosy z príspevku/dotácie poskytnutého/poskytnutej na úlohy v oblasti športu v roku 2025 v sume "&TEXT(F7,"### ### ###,00")& " eur. Finančné prostriedky vraciame z programu 026 Národný program rozvoja športu v SR." -> Oznamujeme Vám, že dňa 00..01.1900 sme poukázali Ministerstvu cestovného ruchu a športu Slovenskej republiky výnosy z príspevku/dotácie poskytnutého/poskytnutej na úlohy v oblasti športu v roku 2025 v sume 00 eur. Finančné prostriedky vraciame z programu 026 Národný program rozvoja športu v SR. | N14: =O14&" - "&P14 -> n - organizovanie významnej súťaže podľa § 55 ods. 1 písm. b) | O14: n | P14: organizovanie významnej súťaže podľa § 55 ods. 1 písm. b)
A15: z podprogramu: | B15: 026 02 - Uznané športy | N15: =O15&" - "&P15 -> o - účasť na významnej súťaži podľa § 3 písm. h) druhého až štvrtého bodu Zákona o športe vrátane prípravy na túto súťaž | O15: o | P15: účasť na významnej súťaži podľa § 3 písm. h) druhého až štvrtého bodu Zákona o športe vrátane prípravy na túto súťaž
A16: z nášho účtu: | B16: =F8 -> 0 | E16: V prípade nejasností kontaktujte nasledovné osoby: | N16: =O16&" - "&P16 -> p - účasť na významnej súťaži podľa § 3 písm. h) prvého bodu Zákona o športe | O16: p | P16: účasť na významnej súťaži podľa § 3 písm. h) prvého bodu Zákona o športe
A17: na účet: | B17: SK62 8180 0000 0070 0069 4120, VS 31 | N17: =O17&" - "&P17 -> q - | O17: q
B18: ŠS: | C18: =Spolu!C4 -> 31770908 | E18: Ing. Mária Horáková | F18: 421947749446 | N18: =O18&" - "&P18 -> r - | O18: r
E19: Ing. Jana Špirková | F19: 421947749756
A20: Dátum: | B20: =F6 -> 0
B22: meno, priezvisko, mobil a podpis osoby oprávnenej vykonávať právne úkony v mene prijímateľa (v súlade so stanovami/zriaďovacou listinou) | N22: =O22&" - "&P22 -> 026 01 - Šport pre všetkých, školský a univerzitný šport | O22: 026 01 | P22: Šport pre všetkých, školský a univerzitný šport
N23: =O23&" - "&P23 -> 026 02 - Uznané športy | O23: 026 02 | P23: Uznané športy
N24: =O24&" - "&P24 -> 026 03 - Národné športové projekty | O24: 026 03 | P24: Národné športové projekty
N25: =O25&" - "&P25 -> 026 04 - Športová infraštruktúra | O25: 026 04 | P25: Športová infraštruktúra
N26: =O26&" - "&P26 -> 026 05 - Prierezové činnosti v športe | O26: 026 05 | P26: Prierezové činnosti v športe
N28: SK80 8180 0000 0070 0006 5236
N29: SK68 8180 0000 0070 0006 3900
N30: SK94 8180 0000 0070 0006 3820

Sheet Avízo - vratka
A1: =Spolu!C3&", "&Spolu!C6 -> Slovenský bridžový zväz, Pluhová 1662, Rovinka, 900 41 | N1: =O1&" - "&P1 -> a - príspevok uznaným športom | O1: a | P1: =Spolu!B17 -> príspevok uznaným športom
N2: =O2&" - "&P2 -> b - príspevok Slovenskému olympijskému a športovému výboru | O2: b | P2: =Spolu!B18 -> príspevok Slovenskému olympijskému a športovému výboru
E3: 1. VYPLŇTE ZELENÉ BUNKY 2. VYTLAČTE, PODPÍŠTE A ODOŠLITE V LISTINNEJ PODOBE | N3: =O3&" - "&P3 -> c - príspevok Slovenskému paralympijskému výboru | O3: c | P3: =Spolu!B19 -> príspevok Slovenskému paralympijskému výboru
N4: =O4&" - "&P4 -> d - príspevok športovcom top tímu | O4: d | P4: =Spolu!B20 -> príspevok športovcom top tímu
C5: Ministerstvo cestovného ruchu a športu Slovenskej republiky | N5: =O5&" - "&P5 -> e - organizácia významnej súťaže alebo účasť na významnej súťaži podľa § 3 písm. h) vrátane prípravy na túto súťaž | O5: e | P5: =Spolu!B21 -> organizácia významnej súťaže alebo účasť na významnej súťaži podľa § 3 písm. h) vrátane prípravy na túto súťaž
C6: sekcia financovania športu a štátnej športovej politiky | E6: Dátum poukázania vrátených prostriedkov: | N6: =O6&" - "&P6 -> f - plnenie úloh verejného záujmu v športe | O6: f | P6: =Spolu!B22 -> plnenie úloh verejného záujmu v športe
C7: Pribinova 32 | E7: Suma vrátených prostriedkov (eur): | N7: =O7&" - "&P7 -> g - rozvoj športov, ktoré nie sú uznanými podľa zákona č. 440/2015 Z. z. | O7: g | P7: =Spolu!B23 -> rozvoj športov, ktoré nie sú uznanými podľa zákona č. 440/2015 Z. z.
C8: 810 08 Bratislava | E8: IBAN odosielajúceho účtu: | N8: =O8&" - "&P8 -> h - podpora a rozvoj turistických a cykloturistických trás | O8: h | P8: =Spolu!B24 -> podpora a rozvoj turistických a cykloturistických trás
E9: IBAN určeného účtu ministerstva: | N9: =O9&" - "&P9 -> i - podpora národného projektu športu pre všetkých so zameraním na mládež | O9: i | P9: =Spolu!B25 -> podpora národného projektu športu pre všetkých so zameraním na mládež
E10: Dátum odoslania AVÍZA: | N10: =O10&" - "&P10 -> j - projekty školského športu, univerzitného športu a športu pre všetkých | O10: j | P10: =Spolu!B26 -> projekty školského športu, univerzitného športu a športu pre všetkých
N11: =O11&" - "&P11 -> k - výstavba, modernizácia a rekonštrukcia športovej infraštruktúry národného významu | O11: k | P11: =Spolu!B27 -> výstavba, modernizácia a rekonštrukcia športovej infraštruktúry národného významu
A12: Avízo o vrátení finančných prostriedkov | F12: SK84 8180 0000 0070 0069 4112 (výdavkový účet štátneho rozpočtu) slúži pre vrátenie nevyčerpaných finančných prostriedkov poskytnutých v r. 2025, v termíne do 30.11.2025 | N12: =O12&" - "&P12 -> l - športové pohybové tábory pre mládež | O12: l | P12: =Spolu!B28 -> športové pohybové tábory pre mládež
A13: ="Oznamujeme Vám, že dňa "&TEXT(F6,"dd.mm.yyyy")&" sme poukázali Ministerstvu cestovného ruchu a športu Slovenskej republiky nevyčerpané finančné prostriedky v sume "&TEXT(F7,"### ### ###,00")& " eur z príspevku/dotácie poskytnutého/poskytnutej na úlohy v oblasti športu v roku 2025. Finančné prostriedky vraciame z programu 026 Národný program rozvoja športu v SR." -> Oznamujeme Vám, že dňa 00.01.1900 sme poukázali Ministerstvu cestovného ruchu a športu Slovenskej republiky nevyčerpané finančné prostriedky v sume ,00 eur z príspevku/dotácie poskytnutého/poskytnutej na úlohy v oblasti športu v roku 2025. Finančné prostriedky vraciame z programu 026 Národný program rozvoja športu v SR. | F13: SK62 8180 0000 0070 0069 4120 (príjmový účet) slúži pre vrátenie nevyčerpaných/nezúčtovaných finančných prostriedkov poskytnutých v r. 2025, v termíne od 01.01.2026 do 31.05.2026 | N13: =O13&" - "&P13 -> m - organizácia tradičných športových podujatí | O13: m | P13: =Spolu!B29 -> organizácia tradičných športových podujatí
A14: z podprogramu: | B14: 026 03 - Národné športové projekty | N14: =O14&" - "&P14 -> n - | O14: n
A15: z účelu: | N15: =O15&" - "&P15 -> o - | O15: o
A16: z nášho účtu: | B16: =F8 -> 0 | N16: =O16&" - "&P16 -> p - | O16: p
A17: na účet: | B17: =F9 -> 0 | N17: =O17&" - "&P17 -> q - | O17: q
B18: VS: | C18: 31 | N18: =O18&" - "&P18 -> r - | O18: r
B19: ŠS: | C19: =Spolu!C4 -> 31770908 | F19: V prípade nejasností kontaktujte nasledovné osoby: | N19: =O19&" - "&P19 -> -
A20: Dátum: | B20: =F6 -> 0
F21: Ing. Mária Horáková | G21: 421947749446 | N21: =O21&" - "&P21 -> 026 01 - Šport pre všetkých, školský a univerzitný šport | O21: 026 01 | P21: Šport pre všetkých, školský a univerzitný šport
F22: Ing. Jana Špirková | G22: 421947749756 | N22: =O22&" - "&P22 -> 026 02 - Uznané športy | O22: 026 02 | P22: Uznané športy
N23: =O23&" - "&P23 -> 026 03 - Národné športové projekty | O23: 026 03 | P23: Národné športové projekty
B24: meno, priezvisko, mobil a podpis osoby oprávnenej vykonávať právne úkony v mene prijímateľa (v súlade so stanovami/zriaďovacou listinou) | N24: =O24&" - "&P24 -> 026 04 - Športová infraštruktúra | O24: 026 04 | P24: Športová infraštruktúra
N25: =O25&" - "&P25 -> 026 05 - Prierezové činnosti v športe | O25: 026 05 | P25: Prierezové činnosti v športe
N27: SK84 8180 0000 0070 0069 4112
N28: SK62 8180 0000 0070 0069 4120

Sheet Skratky
A1: Zoznam akceptovaných skratiek
A2: Pri vyúčtovaní môžete používať nasledovné skratky. Ak potrebujete, definujte ďalšie.
A3: Skratka | B3: Vysvetlenie
A4: MS | B4: majstrovstvá sveta
A5: ME | B5: majstrovstvá Európy
A6: SP | B6: svetový pohár
A7: EP | B7: európsky pohár
A8: MSR | B8: majstrovstvá Slovenska
A9: VV | B9: výkonný výbor
A10: ŠH | B10: športová hala
A11: PHM | B11: pohonné hmoty
A12: VC | B12: veľká cena
A13: VZ | B13: valné zhromaždenie
A14: EČV | B14: evidenčné číslo vozidla
... A21: CTM | B21: centrum talentovanej mládeže
